BEGIN:VCALENDAR
VERSION:2.0
PRODID:-//Buzzmag - ECPv6.15.20//NONSGML v1.0//EN
CALSCALE:GREGORIAN
METHOD:PUBLISH
X-WR-CALNAME:Buzzmag
X-ORIGINAL-URL:https://www.buzzmagmartinique.com
X-WR-CALDESC:Évènements pour Buzzmag
REFRESH-INTERVAL;VALUE=DURATION:PT1H
X-Robots-Tag:noindex
X-PUBLISHED-TTL:PT1H
BEGIN:VTIMEZONE
TZID:Europe/Paris
BEGIN:DAYLIGHT
TZOFFSETFROM:+0100
TZOFFSETTO:+0200
TZNAME:CEST
DTSTART:20250330T010000
END:DAYLIGHT
BEGIN:STANDARD
TZOFFSETFROM:+0200
TZOFFSETTO:+0100
TZNAME:CET
DTSTART:20251026T010000
END:STANDARD
BEGIN:DAYLIGHT
TZOFFSETFROM:+0100
TZOFFSETTO:+0200
TZNAME:CEST
DTSTART:20260329T010000
END:DAYLIGHT
BEGIN:STANDARD
TZOFFSETFROM:+0200
TZOFFSETTO:+0100
TZNAME:CET
DTSTART:20261025T010000
END:STANDARD
BEGIN:DAYLIGHT
TZOFFSETFROM:+0100
TZOFFSETTO:+0200
TZNAME:CEST
DTSTART:20270328T010000
END:DAYLIGHT
BEGIN:STANDARD
TZOFFSETFROM:+0200
TZOFFSETTO:+0100
TZNAME:CET
DTSTART:20271031T010000
END:STANDARD
END:VTIMEZONE
BEGIN:VEVENT
DTSTART;TZID=Europe/Paris:20260424T143000
DTEND;TZID=Europe/Paris:20260424T173000
DTSTAMP:20260424T142647
CREATED:20240627T125212Z
LAST-MODIFIED:20250717T153959Z
UID:10060816-1777041000-1777051800@www.buzzmagmartinique.com
SUMMARY:INITIATION À LA MOTO-CROSS PAR MÉCANIQUE POUR TOUS SUR LA SAVANE\, FORT DE FRANCE
DESCRIPTION:Mécanique pour tous
URL:https://www.buzzmagmartinique.com/evenement/initiation-a-la-moto-cross-par-mecanique-pour-tous-sur-la-savane-fort-de-france/2026-04-24/
CATEGORIES:Jeune public,Sport
ATTACH;FMTTYPE=image/webp:https://www.buzzmagmartinique.com/wp-content/uploads/2024/06/07-18-MECANIQUE-POUR-TOUS-SERGE-BUNOD.webp
END:VEVENT
BEGIN:VEVENT
DTSTART;TZID=Europe/Paris:20260429T143000
DTEND;TZID=Europe/Paris:20260429T173000
DTSTAMP:20260424T142647
CREATED:20240627T125212Z
LAST-MODIFIED:20250717T153959Z
UID:10060817-1777473000-1777483800@www.buzzmagmartinique.com
SUMMARY:INITIATION À LA MOTO-CROSS PAR MÉCANIQUE POUR TOUS SUR LA SAVANE\, FORT DE FRANCE
DESCRIPTION:Mécanique pour tous
URL:https://www.buzzmagmartinique.com/evenement/initiation-a-la-moto-cross-par-mecanique-pour-tous-sur-la-savane-fort-de-france/2026-04-29/
CATEGORIES:Jeune public,Sport
ATTACH;FMTTYPE=image/webp:https://www.buzzmagmartinique.com/wp-content/uploads/2024/06/07-18-MECANIQUE-POUR-TOUS-SERGE-BUNOD.webp
END:VEVENT
BEGIN:VEVENT
DTSTART;TZID=Europe/Paris:20260430T143000
DTEND;TZID=Europe/Paris:20260430T173000
DTSTAMP:20260424T142647
CREATED:20240627T125212Z
LAST-MODIFIED:20250717T153959Z
UID:10060818-1777559400-1777570200@www.buzzmagmartinique.com
SUMMARY:INITIATION À LA MOTO-CROSS PAR MÉCANIQUE POUR TOUS SUR LA SAVANE\, FORT DE FRANCE
DESCRIPTION:Mécanique pour tous
URL:https://www.buzzmagmartinique.com/evenement/initiation-a-la-moto-cross-par-mecanique-pour-tous-sur-la-savane-fort-de-france/2026-04-30/
CATEGORIES:Jeune public,Sport
ATTACH;FMTTYPE=image/webp:https://www.buzzmagmartinique.com/wp-content/uploads/2024/06/07-18-MECANIQUE-POUR-TOUS-SERGE-BUNOD.webp
END:VEVENT
BEGIN:VEVENT
DTSTART;TZID=Europe/Paris:20260501T143000
DTEND;TZID=Europe/Paris:20260501T173000
DTSTAMP:20260424T142647
CREATED:20240627T125212Z
LAST-MODIFIED:20250717T153959Z
UID:10060819-1777645800-1777656600@www.buzzmagmartinique.com
SUMMARY:INITIATION À LA MOTO-CROSS PAR MÉCANIQUE POUR TOUS SUR LA SAVANE\, FORT DE FRANCE
DESCRIPTION:Mécanique pour tous
URL:https://www.buzzmagmartinique.com/evenement/initiation-a-la-moto-cross-par-mecanique-pour-tous-sur-la-savane-fort-de-france/2026-05-01/
CATEGORIES:Jeune public,Sport
ATTACH;FMTTYPE=image/webp:https://www.buzzmagmartinique.com/wp-content/uploads/2024/06/07-18-MECANIQUE-POUR-TOUS-SERGE-BUNOD.webp
END:VEVENT
BEGIN:VEVENT
DTSTART;TZID=Europe/Paris:20260506T143000
DTEND;TZID=Europe/Paris:20260506T173000
DTSTAMP:20260424T142647
CREATED:20240627T125212Z
LAST-MODIFIED:20250717T153959Z
UID:10060820-1778077800-1778088600@www.buzzmagmartinique.com
SUMMARY:INITIATION À LA MOTO-CROSS PAR MÉCANIQUE POUR TOUS SUR LA SAVANE\, FORT DE FRANCE
DESCRIPTION:Mécanique pour tous
URL:https://www.buzzmagmartinique.com/evenement/initiation-a-la-moto-cross-par-mecanique-pour-tous-sur-la-savane-fort-de-france/2026-05-06/
CATEGORIES:Jeune public,Sport
ATTACH;FMTTYPE=image/webp:https://www.buzzmagmartinique.com/wp-content/uploads/2024/06/07-18-MECANIQUE-POUR-TOUS-SERGE-BUNOD.webp
END:VEVENT
BEGIN:VEVENT
DTSTART;TZID=Europe/Paris:20260507T143000
DTEND;TZID=Europe/Paris:20260507T173000
DTSTAMP:20260424T142647
CREATED:20240627T125212Z
LAST-MODIFIED:20250717T153959Z
UID:10060821-1778164200-1778175000@www.buzzmagmartinique.com
SUMMARY:INITIATION À LA MOTO-CROSS PAR MÉCANIQUE POUR TOUS SUR LA SAVANE\, FORT DE FRANCE
DESCRIPTION:Mécanique pour tous
URL:https://www.buzzmagmartinique.com/evenement/initiation-a-la-moto-cross-par-mecanique-pour-tous-sur-la-savane-fort-de-france/2026-05-07/
CATEGORIES:Jeune public,Sport
ATTACH;FMTTYPE=image/webp:https://www.buzzmagmartinique.com/wp-content/uploads/2024/06/07-18-MECANIQUE-POUR-TOUS-SERGE-BUNOD.webp
END:VEVENT
BEGIN:VEVENT
DTSTART;TZID=Europe/Paris:20260508T143000
DTEND;TZID=Europe/Paris:20260508T173000
DTSTAMP:20260424T142647
CREATED:20240627T125212Z
LAST-MODIFIED:20250717T153959Z
UID:10060822-1778250600-1778261400@www.buzzmagmartinique.com
SUMMARY:INITIATION À LA MOTO-CROSS PAR MÉCANIQUE POUR TOUS SUR LA SAVANE\, FORT DE FRANCE
DESCRIPTION:Mécanique pour tous
URL:https://www.buzzmagmartinique.com/evenement/initiation-a-la-moto-cross-par-mecanique-pour-tous-sur-la-savane-fort-de-france/2026-05-08/
CATEGORIES:Jeune public,Sport
ATTACH;FMTTYPE=image/webp:https://www.buzzmagmartinique.com/wp-content/uploads/2024/06/07-18-MECANIQUE-POUR-TOUS-SERGE-BUNOD.webp
END:VEVENT
BEGIN:VEVENT
DTSTART;TZID=Europe/Paris:20260513T143000
DTEND;TZID=Europe/Paris:20260513T173000
DTSTAMP:20260424T142647
CREATED:20240627T125212Z
LAST-MODIFIED:20250717T153959Z
UID:10060823-1778682600-1778693400@www.buzzmagmartinique.com
SUMMARY:INITIATION À LA MOTO-CROSS PAR MÉCANIQUE POUR TOUS SUR LA SAVANE\, FORT DE FRANCE
DESCRIPTION:Mécanique pour tous
URL:https://www.buzzmagmartinique.com/evenement/initiation-a-la-moto-cross-par-mecanique-pour-tous-sur-la-savane-fort-de-france/2026-05-13/
CATEGORIES:Jeune public,Sport
ATTACH;FMTTYPE=image/webp:https://www.buzzmagmartinique.com/wp-content/uploads/2024/06/07-18-MECANIQUE-POUR-TOUS-SERGE-BUNOD.webp
END:VEVENT
BEGIN:VEVENT
DTSTART;TZID=Europe/Paris:20260514T143000
DTEND;TZID=Europe/Paris:20260514T173000
DTSTAMP:20260424T142647
CREATED:20240627T125212Z
LAST-MODIFIED:20250717T153959Z
UID:10060824-1778769000-1778779800@www.buzzmagmartinique.com
SUMMARY:INITIATION À LA MOTO-CROSS PAR MÉCANIQUE POUR TOUS SUR LA SAVANE\, FORT DE FRANCE
DESCRIPTION:Mécanique pour tous
URL:https://www.buzzmagmartinique.com/evenement/initiation-a-la-moto-cross-par-mecanique-pour-tous-sur-la-savane-fort-de-france/2026-05-14/
CATEGORIES:Jeune public,Sport
ATTACH;FMTTYPE=image/webp:https://www.buzzmagmartinique.com/wp-content/uploads/2024/06/07-18-MECANIQUE-POUR-TOUS-SERGE-BUNOD.webp
END:VEVENT
BEGIN:VEVENT
DTSTART;TZID=Europe/Paris:20260515T143000
DTEND;TZID=Europe/Paris:20260515T173000
DTSTAMP:20260424T142647
CREATED:20240627T125212Z
LAST-MODIFIED:20250717T153959Z
UID:10060825-1778855400-1778866200@www.buzzmagmartinique.com
SUMMARY:INITIATION À LA MOTO-CROSS PAR MÉCANIQUE POUR TOUS SUR LA SAVANE\, FORT DE FRANCE
DESCRIPTION:Mécanique pour tous
URL:https://www.buzzmagmartinique.com/evenement/initiation-a-la-moto-cross-par-mecanique-pour-tous-sur-la-savane-fort-de-france/2026-05-15/
CATEGORIES:Jeune public,Sport
ATTACH;FMTTYPE=image/webp:https://www.buzzmagmartinique.com/wp-content/uploads/2024/06/07-18-MECANIQUE-POUR-TOUS-SERGE-BUNOD.webp
END:VEVENT
BEGIN:VEVENT
DTSTART;TZID=Europe/Paris:20260520T143000
DTEND;TZID=Europe/Paris:20260520T173000
DTSTAMP:20260424T142647
CREATED:20240627T125212Z
LAST-MODIFIED:20250717T153959Z
UID:10060826-1779287400-1779298200@www.buzzmagmartinique.com
SUMMARY:INITIATION À LA MOTO-CROSS PAR MÉCANIQUE POUR TOUS SUR LA SAVANE\, FORT DE FRANCE
DESCRIPTION:Mécanique pour tous
URL:https://www.buzzmagmartinique.com/evenement/initiation-a-la-moto-cross-par-mecanique-pour-tous-sur-la-savane-fort-de-france/2026-05-20/
CATEGORIES:Jeune public,Sport
ATTACH;FMTTYPE=image/webp:https://www.buzzmagmartinique.com/wp-content/uploads/2024/06/07-18-MECANIQUE-POUR-TOUS-SERGE-BUNOD.webp
END:VEVENT
BEGIN:VEVENT
DTSTART;TZID=Europe/Paris:20260521T143000
DTEND;TZID=Europe/Paris:20260521T173000
DTSTAMP:20260424T142647
CREATED:20240627T125212Z
LAST-MODIFIED:20250717T153959Z
UID:10060827-1779373800-1779384600@www.buzzmagmartinique.com
SUMMARY:INITIATION À LA MOTO-CROSS PAR MÉCANIQUE POUR TOUS SUR LA SAVANE\, FORT DE FRANCE
DESCRIPTION:Mécanique pour tous
URL:https://www.buzzmagmartinique.com/evenement/initiation-a-la-moto-cross-par-mecanique-pour-tous-sur-la-savane-fort-de-france/2026-05-21/
CATEGORIES:Jeune public,Sport
ATTACH;FMTTYPE=image/webp:https://www.buzzmagmartinique.com/wp-content/uploads/2024/06/07-18-MECANIQUE-POUR-TOUS-SERGE-BUNOD.webp
END:VEVENT
BEGIN:VEVENT
DTSTART;TZID=Europe/Paris:20260522T143000
DTEND;TZID=Europe/Paris:20260522T173000
DTSTAMP:20260424T142647
CREATED:20240627T125212Z
LAST-MODIFIED:20250717T153959Z
UID:10060828-1779460200-1779471000@www.buzzmagmartinique.com
SUMMARY:INITIATION À LA MOTO-CROSS PAR MÉCANIQUE POUR TOUS SUR LA SAVANE\, FORT DE FRANCE
DESCRIPTION:Mécanique pour tous
URL:https://www.buzzmagmartinique.com/evenement/initiation-a-la-moto-cross-par-mecanique-pour-tous-sur-la-savane-fort-de-france/2026-05-22/
CATEGORIES:Jeune public,Sport
ATTACH;FMTTYPE=image/webp:https://www.buzzmagmartinique.com/wp-content/uploads/2024/06/07-18-MECANIQUE-POUR-TOUS-SERGE-BUNOD.webp
END:VEVENT
BEGIN:VEVENT
DTSTART;TZID=Europe/Paris:20260527T143000
DTEND;TZID=Europe/Paris:20260527T173000
DTSTAMP:20260424T142647
CREATED:20240627T125212Z
LAST-MODIFIED:20250717T153959Z
UID:10060829-1779892200-1779903000@www.buzzmagmartinique.com
SUMMARY:INITIATION À LA MOTO-CROSS PAR MÉCANIQUE POUR TOUS SUR LA SAVANE\, FORT DE FRANCE
DESCRIPTION:Mécanique pour tous
URL:https://www.buzzmagmartinique.com/evenement/initiation-a-la-moto-cross-par-mecanique-pour-tous-sur-la-savane-fort-de-france/2026-05-27/
CATEGORIES:Jeune public,Sport
ATTACH;FMTTYPE=image/webp:https://www.buzzmagmartinique.com/wp-content/uploads/2024/06/07-18-MECANIQUE-POUR-TOUS-SERGE-BUNOD.webp
END:VEVENT
BEGIN:VEVENT
DTSTART;TZID=Europe/Paris:20260528T143000
DTEND;TZID=Europe/Paris:20260528T173000
DTSTAMP:20260424T142647
CREATED:20240627T125212Z
LAST-MODIFIED:20250717T153959Z
UID:10060830-1779978600-1779989400@www.buzzmagmartinique.com
SUMMARY:INITIATION À LA MOTO-CROSS PAR MÉCANIQUE POUR TOUS SUR LA SAVANE\, FORT DE FRANCE
DESCRIPTION:Mécanique pour tous
URL:https://www.buzzmagmartinique.com/evenement/initiation-a-la-moto-cross-par-mecanique-pour-tous-sur-la-savane-fort-de-france/2026-05-28/
CATEGORIES:Jeune public,Sport
ATTACH;FMTTYPE=image/webp:https://www.buzzmagmartinique.com/wp-content/uploads/2024/06/07-18-MECANIQUE-POUR-TOUS-SERGE-BUNOD.webp
END:VEVENT
BEGIN:VEVENT
DTSTART;TZID=Europe/Paris:20260529T143000
DTEND;TZID=Europe/Paris:20260529T173000
DTSTAMP:20260424T142647
CREATED:20240627T125212Z
LAST-MODIFIED:20250717T153959Z
UID:10060831-1780065000-1780075800@www.buzzmagmartinique.com
SUMMARY:INITIATION À LA MOTO-CROSS PAR MÉCANIQUE POUR TOUS SUR LA SAVANE\, FORT DE FRANCE
DESCRIPTION:Mécanique pour tous
URL:https://www.buzzmagmartinique.com/evenement/initiation-a-la-moto-cross-par-mecanique-pour-tous-sur-la-savane-fort-de-france/2026-05-29/
CATEGORIES:Jeune public,Sport
ATTACH;FMTTYPE=image/webp:https://www.buzzmagmartinique.com/wp-content/uploads/2024/06/07-18-MECANIQUE-POUR-TOUS-SERGE-BUNOD.webp
END:VEVENT
BEGIN:VEVENT
DTSTART;TZID=Europe/Paris:20260603T143000
DTEND;TZID=Europe/Paris:20260603T173000
DTSTAMP:20260424T142647
CREATED:20240627T125212Z
LAST-MODIFIED:20250717T153959Z
UID:10060832-1780497000-1780507800@www.buzzmagmartinique.com
SUMMARY:INITIATION À LA MOTO-CROSS PAR MÉCANIQUE POUR TOUS SUR LA SAVANE\, FORT DE FRANCE
DESCRIPTION:Mécanique pour tous
URL:https://www.buzzmagmartinique.com/evenement/initiation-a-la-moto-cross-par-mecanique-pour-tous-sur-la-savane-fort-de-france/2026-06-03/
CATEGORIES:Jeune public,Sport
ATTACH;FMTTYPE=image/webp:https://www.buzzmagmartinique.com/wp-content/uploads/2024/06/07-18-MECANIQUE-POUR-TOUS-SERGE-BUNOD.webp
END:VEVENT
BEGIN:VEVENT
DTSTART;TZID=Europe/Paris:20260604T143000
DTEND;TZID=Europe/Paris:20260604T173000
DTSTAMP:20260424T142647
CREATED:20240627T125212Z
LAST-MODIFIED:20250717T153959Z
UID:10060833-1780583400-1780594200@www.buzzmagmartinique.com
SUMMARY:INITIATION À LA MOTO-CROSS PAR MÉCANIQUE POUR TOUS SUR LA SAVANE\, FORT DE FRANCE
DESCRIPTION:Mécanique pour tous
URL:https://www.buzzmagmartinique.com/evenement/initiation-a-la-moto-cross-par-mecanique-pour-tous-sur-la-savane-fort-de-france/2026-06-04/
CATEGORIES:Jeune public,Sport
ATTACH;FMTTYPE=image/webp:https://www.buzzmagmartinique.com/wp-content/uploads/2024/06/07-18-MECANIQUE-POUR-TOUS-SERGE-BUNOD.webp
END:VEVENT
BEGIN:VEVENT
DTSTART;TZID=Europe/Paris:20260605T143000
DTEND;TZID=Europe/Paris:20260605T173000
DTSTAMP:20260424T142647
CREATED:20240627T125212Z
LAST-MODIFIED:20250717T153959Z
UID:10060834-1780669800-1780680600@www.buzzmagmartinique.com
SUMMARY:INITIATION À LA MOTO-CROSS PAR MÉCANIQUE POUR TOUS SUR LA SAVANE\, FORT DE FRANCE
DESCRIPTION:Mécanique pour tous
URL:https://www.buzzmagmartinique.com/evenement/initiation-a-la-moto-cross-par-mecanique-pour-tous-sur-la-savane-fort-de-france/2026-06-05/
CATEGORIES:Jeune public,Sport
ATTACH;FMTTYPE=image/webp:https://www.buzzmagmartinique.com/wp-content/uploads/2024/06/07-18-MECANIQUE-POUR-TOUS-SERGE-BUNOD.webp
END:VEVENT
BEGIN:VEVENT
DTSTART;TZID=Europe/Paris:20260610T143000
DTEND;TZID=Europe/Paris:20260610T173000
DTSTAMP:20260424T142647
CREATED:20240627T125212Z
LAST-MODIFIED:20250717T153959Z
UID:10060835-1781101800-1781112600@www.buzzmagmartinique.com
SUMMARY:INITIATION À LA MOTO-CROSS PAR MÉCANIQUE POUR TOUS SUR LA SAVANE\, FORT DE FRANCE
DESCRIPTION:Mécanique pour tous
URL:https://www.buzzmagmartinique.com/evenement/initiation-a-la-moto-cross-par-mecanique-pour-tous-sur-la-savane-fort-de-france/2026-06-10/
CATEGORIES:Jeune public,Sport
ATTACH;FMTTYPE=image/webp:https://www.buzzmagmartinique.com/wp-content/uploads/2024/06/07-18-MECANIQUE-POUR-TOUS-SERGE-BUNOD.webp
END:VEVENT
BEGIN:VEVENT
DTSTART;TZID=Europe/Paris:20260611T143000
DTEND;TZID=Europe/Paris:20260611T173000
DTSTAMP:20260424T142647
CREATED:20240627T125212Z
LAST-MODIFIED:20250717T153959Z
UID:10060836-1781188200-1781199000@www.buzzmagmartinique.com
SUMMARY:INITIATION À LA MOTO-CROSS PAR MÉCANIQUE POUR TOUS SUR LA SAVANE\, FORT DE FRANCE
DESCRIPTION:Mécanique pour tous
URL:https://www.buzzmagmartinique.com/evenement/initiation-a-la-moto-cross-par-mecanique-pour-tous-sur-la-savane-fort-de-france/2026-06-11/
CATEGORIES:Jeune public,Sport
ATTACH;FMTTYPE=image/webp:https://www.buzzmagmartinique.com/wp-content/uploads/2024/06/07-18-MECANIQUE-POUR-TOUS-SERGE-BUNOD.webp
END:VEVENT
BEGIN:VEVENT
DTSTART;TZID=Europe/Paris:20260612T143000
DTEND;TZID=Europe/Paris:20260612T173000
DTSTAMP:20260424T142647
CREATED:20240627T125212Z
LAST-MODIFIED:20250717T153959Z
UID:10060837-1781274600-1781285400@www.buzzmagmartinique.com
SUMMARY:INITIATION À LA MOTO-CROSS PAR MÉCANIQUE POUR TOUS SUR LA SAVANE\, FORT DE FRANCE
DESCRIPTION:Mécanique pour tous
URL:https://www.buzzmagmartinique.com/evenement/initiation-a-la-moto-cross-par-mecanique-pour-tous-sur-la-savane-fort-de-france/2026-06-12/
CATEGORIES:Jeune public,Sport
ATTACH;FMTTYPE=image/webp:https://www.buzzmagmartinique.com/wp-content/uploads/2024/06/07-18-MECANIQUE-POUR-TOUS-SERGE-BUNOD.webp
END:VEVENT
BEGIN:VEVENT
DTSTART;TZID=Europe/Paris:20260617T143000
DTEND;TZID=Europe/Paris:20260617T173000
DTSTAMP:20260424T142647
CREATED:20240627T125212Z
LAST-MODIFIED:20250717T153959Z
UID:10060838-1781706600-1781717400@www.buzzmagmartinique.com
SUMMARY:INITIATION À LA MOTO-CROSS PAR MÉCANIQUE POUR TOUS SUR LA SAVANE\, FORT DE FRANCE
DESCRIPTION:Mécanique pour tous
URL:https://www.buzzmagmartinique.com/evenement/initiation-a-la-moto-cross-par-mecanique-pour-tous-sur-la-savane-fort-de-france/2026-06-17/
CATEGORIES:Jeune public,Sport
ATTACH;FMTTYPE=image/webp:https://www.buzzmagmartinique.com/wp-content/uploads/2024/06/07-18-MECANIQUE-POUR-TOUS-SERGE-BUNOD.webp
END:VEVENT
BEGIN:VEVENT
DTSTART;TZID=Europe/Paris:20260618T143000
DTEND;TZID=Europe/Paris:20260618T173000
DTSTAMP:20260424T142647
CREATED:20240627T125212Z
LAST-MODIFIED:20250717T153959Z
UID:10060839-1781793000-1781803800@www.buzzmagmartinique.com
SUMMARY:INITIATION À LA MOTO-CROSS PAR MÉCANIQUE POUR TOUS SUR LA SAVANE\, FORT DE FRANCE
DESCRIPTION:Mécanique pour tous
URL:https://www.buzzmagmartinique.com/evenement/initiation-a-la-moto-cross-par-mecanique-pour-tous-sur-la-savane-fort-de-france/2026-06-18/
CATEGORIES:Jeune public,Sport
ATTACH;FMTTYPE=image/webp:https://www.buzzmagmartinique.com/wp-content/uploads/2024/06/07-18-MECANIQUE-POUR-TOUS-SERGE-BUNOD.webp
END:VEVENT
BEGIN:VEVENT
DTSTART;TZID=Europe/Paris:20260619T143000
DTEND;TZID=Europe/Paris:20260619T173000
DTSTAMP:20260424T142647
CREATED:20240627T125212Z
LAST-MODIFIED:20250717T153959Z
UID:10060840-1781879400-1781890200@www.buzzmagmartinique.com
SUMMARY:INITIATION À LA MOTO-CROSS PAR MÉCANIQUE POUR TOUS SUR LA SAVANE\, FORT DE FRANCE
DESCRIPTION:Mécanique pour tous
URL:https://www.buzzmagmartinique.com/evenement/initiation-a-la-moto-cross-par-mecanique-pour-tous-sur-la-savane-fort-de-france/2026-06-19/
CATEGORIES:Jeune public,Sport
ATTACH;FMTTYPE=image/webp:https://www.buzzmagmartinique.com/wp-content/uploads/2024/06/07-18-MECANIQUE-POUR-TOUS-SERGE-BUNOD.webp
END:VEVENT
BEGIN:VEVENT
DTSTART;TZID=Europe/Paris:20260624T143000
DTEND;TZID=Europe/Paris:20260624T173000
DTSTAMP:20260424T142647
CREATED:20240627T125212Z
LAST-MODIFIED:20250717T153959Z
UID:10060841-1782311400-1782322200@www.buzzmagmartinique.com
SUMMARY:INITIATION À LA MOTO-CROSS PAR MÉCANIQUE POUR TOUS SUR LA SAVANE\, FORT DE FRANCE
DESCRIPTION:Mécanique pour tous
URL:https://www.buzzmagmartinique.com/evenement/initiation-a-la-moto-cross-par-mecanique-pour-tous-sur-la-savane-fort-de-france/2026-06-24/
CATEGORIES:Jeune public,Sport
ATTACH;FMTTYPE=image/webp:https://www.buzzmagmartinique.com/wp-content/uploads/2024/06/07-18-MECANIQUE-POUR-TOUS-SERGE-BUNOD.webp
END:VEVENT
BEGIN:VEVENT
DTSTART;TZID=Europe/Paris:20260625T143000
DTEND;TZID=Europe/Paris:20260625T173000
DTSTAMP:20260424T142647
CREATED:20240627T125212Z
LAST-MODIFIED:20250717T153959Z
UID:10060842-1782397800-1782408600@www.buzzmagmartinique.com
SUMMARY:INITIATION À LA MOTO-CROSS PAR MÉCANIQUE POUR TOUS SUR LA SAVANE\, FORT DE FRANCE
DESCRIPTION:Mécanique pour tous
URL:https://www.buzzmagmartinique.com/evenement/initiation-a-la-moto-cross-par-mecanique-pour-tous-sur-la-savane-fort-de-france/2026-06-25/
CATEGORIES:Jeune public,Sport
ATTACH;FMTTYPE=image/webp:https://www.buzzmagmartinique.com/wp-content/uploads/2024/06/07-18-MECANIQUE-POUR-TOUS-SERGE-BUNOD.webp
END:VEVENT
BEGIN:VEVENT
DTSTART;TZID=Europe/Paris:20260626T143000
DTEND;TZID=Europe/Paris:20260626T173000
DTSTAMP:20260424T142647
CREATED:20240627T125212Z
LAST-MODIFIED:20250717T153959Z
UID:10060843-1782484200-1782495000@www.buzzmagmartinique.com
SUMMARY:INITIATION À LA MOTO-CROSS PAR MÉCANIQUE POUR TOUS SUR LA SAVANE\, FORT DE FRANCE
DESCRIPTION:Mécanique pour tous
URL:https://www.buzzmagmartinique.com/evenement/initiation-a-la-moto-cross-par-mecanique-pour-tous-sur-la-savane-fort-de-france/2026-06-26/
CATEGORIES:Jeune public,Sport
ATTACH;FMTTYPE=image/webp:https://www.buzzmagmartinique.com/wp-content/uploads/2024/06/07-18-MECANIQUE-POUR-TOUS-SERGE-BUNOD.webp
END:VEVENT
BEGIN:VEVENT
DTSTART;TZID=Europe/Paris:20260701T143000
DTEND;TZID=Europe/Paris:20260701T173000
DTSTAMP:20260424T142647
CREATED:20240627T125212Z
LAST-MODIFIED:20250717T153959Z
UID:10060844-1782916200-1782927000@www.buzzmagmartinique.com
SUMMARY:INITIATION À LA MOTO-CROSS PAR MÉCANIQUE POUR TOUS SUR LA SAVANE\, FORT DE FRANCE
DESCRIPTION:Mécanique pour tous
URL:https://www.buzzmagmartinique.com/evenement/initiation-a-la-moto-cross-par-mecanique-pour-tous-sur-la-savane-fort-de-france/2026-07-01/
CATEGORIES:Jeune public,Sport
ATTACH;FMTTYPE=image/webp:https://www.buzzmagmartinique.com/wp-content/uploads/2024/06/07-18-MECANIQUE-POUR-TOUS-SERGE-BUNOD.webp
END:VEVENT
BEGIN:VEVENT
DTSTART;TZID=Europe/Paris:20260702T143000
DTEND;TZID=Europe/Paris:20260702T173000
DTSTAMP:20260424T142647
CREATED:20240627T125212Z
LAST-MODIFIED:20250717T153959Z
UID:10060845-1783002600-1783013400@www.buzzmagmartinique.com
SUMMARY:INITIATION À LA MOTO-CROSS PAR MÉCANIQUE POUR TOUS SUR LA SAVANE\, FORT DE FRANCE
DESCRIPTION:Mécanique pour tous
URL:https://www.buzzmagmartinique.com/evenement/initiation-a-la-moto-cross-par-mecanique-pour-tous-sur-la-savane-fort-de-france/2026-07-02/
CATEGORIES:Jeune public,Sport
ATTACH;FMTTYPE=image/webp:https://www.buzzmagmartinique.com/wp-content/uploads/2024/06/07-18-MECANIQUE-POUR-TOUS-SERGE-BUNOD.webp
END:VEVENT
BEGIN:VEVENT
DTSTART;TZID=Europe/Paris:20260703T143000
DTEND;TZID=Europe/Paris:20260703T173000
DTSTAMP:20260424T142647
CREATED:20240627T125212Z
LAST-MODIFIED:20250717T153959Z
UID:10060846-1783089000-1783099800@www.buzzmagmartinique.com
SUMMARY:INITIATION À LA MOTO-CROSS PAR MÉCANIQUE POUR TOUS SUR LA SAVANE\, FORT DE FRANCE
DESCRIPTION:Mécanique pour tous
URL:https://www.buzzmagmartinique.com/evenement/initiation-a-la-moto-cross-par-mecanique-pour-tous-sur-la-savane-fort-de-france/2026-07-03/
CATEGORIES:Jeune public,Sport
ATTACH;FMTTYPE=image/webp:https://www.buzzmagmartinique.com/wp-content/uploads/2024/06/07-18-MECANIQUE-POUR-TOUS-SERGE-BUNOD.webp
END:VEVENT
BEGIN:VEVENT
DTSTART;TZID=Europe/Paris:20260708T143000
DTEND;TZID=Europe/Paris:20260708T173000
DTSTAMP:20260424T142647
CREATED:20240627T125212Z
LAST-MODIFIED:20250717T153959Z
UID:10060847-1783521000-1783531800@www.buzzmagmartinique.com
SUMMARY:INITIATION À LA MOTO-CROSS PAR MÉCANIQUE POUR TOUS SUR LA SAVANE\, FORT DE FRANCE
DESCRIPTION:Mécanique pour tous
URL:https://www.buzzmagmartinique.com/evenement/initiation-a-la-moto-cross-par-mecanique-pour-tous-sur-la-savane-fort-de-france/2026-07-08/
CATEGORIES:Jeune public,Sport
ATTACH;FMTTYPE=image/webp:https://www.buzzmagmartinique.com/wp-content/uploads/2024/06/07-18-MECANIQUE-POUR-TOUS-SERGE-BUNOD.webp
END:VEVENT
BEGIN:VEVENT
DTSTART;TZID=Europe/Paris:20260709T143000
DTEND;TZID=Europe/Paris:20260709T173000
DTSTAMP:20260424T142647
CREATED:20240627T125212Z
LAST-MODIFIED:20250717T153959Z
UID:10060848-1783607400-1783618200@www.buzzmagmartinique.com
SUMMARY:INITIATION À LA MOTO-CROSS PAR MÉCANIQUE POUR TOUS SUR LA SAVANE\, FORT DE FRANCE
DESCRIPTION:Mécanique pour tous
URL:https://www.buzzmagmartinique.com/evenement/initiation-a-la-moto-cross-par-mecanique-pour-tous-sur-la-savane-fort-de-france/2026-07-09/
CATEGORIES:Jeune public,Sport
ATTACH;FMTTYPE=image/webp:https://www.buzzmagmartinique.com/wp-content/uploads/2024/06/07-18-MECANIQUE-POUR-TOUS-SERGE-BUNOD.webp
END:VEVENT
BEGIN:VEVENT
DTSTART;TZID=Europe/Paris:20260710T143000
DTEND;TZID=Europe/Paris:20260710T173000
DTSTAMP:20260424T142647
CREATED:20240627T125212Z
LAST-MODIFIED:20250717T153959Z
UID:10060849-1783693800-1783704600@www.buzzmagmartinique.com
SUMMARY:INITIATION À LA MOTO-CROSS PAR MÉCANIQUE POUR TOUS SUR LA SAVANE\, FORT DE FRANCE
DESCRIPTION:Mécanique pour tous
URL:https://www.buzzmagmartinique.com/evenement/initiation-a-la-moto-cross-par-mecanique-pour-tous-sur-la-savane-fort-de-france/2026-07-10/
CATEGORIES:Jeune public,Sport
ATTACH;FMTTYPE=image/webp:https://www.buzzmagmartinique.com/wp-content/uploads/2024/06/07-18-MECANIQUE-POUR-TOUS-SERGE-BUNOD.webp
END:VEVENT
BEGIN:VEVENT
DTSTART;TZID=Europe/Paris:20260715T143000
DTEND;TZID=Europe/Paris:20260715T173000
DTSTAMP:20260424T142647
CREATED:20240627T125212Z
LAST-MODIFIED:20250717T153959Z
UID:10060850-1784125800-1784136600@www.buzzmagmartinique.com
SUMMARY:INITIATION À LA MOTO-CROSS PAR MÉCANIQUE POUR TOUS SUR LA SAVANE\, FORT DE FRANCE
DESCRIPTION:Mécanique pour tous
URL:https://www.buzzmagmartinique.com/evenement/initiation-a-la-moto-cross-par-mecanique-pour-tous-sur-la-savane-fort-de-france/2026-07-15/
CATEGORIES:Jeune public,Sport
ATTACH;FMTTYPE=image/webp:https://www.buzzmagmartinique.com/wp-content/uploads/2024/06/07-18-MECANIQUE-POUR-TOUS-SERGE-BUNOD.webp
END:VEVENT
BEGIN:VEVENT
DTSTART;TZID=Europe/Paris:20260716T143000
DTEND;TZID=Europe/Paris:20260716T173000
DTSTAMP:20260424T142647
CREATED:20240627T125212Z
LAST-MODIFIED:20250717T153959Z
UID:10060851-1784212200-1784223000@www.buzzmagmartinique.com
SUMMARY:INITIATION À LA MOTO-CROSS PAR MÉCANIQUE POUR TOUS SUR LA SAVANE\, FORT DE FRANCE
DESCRIPTION:Mécanique pour tous
URL:https://www.buzzmagmartinique.com/evenement/initiation-a-la-moto-cross-par-mecanique-pour-tous-sur-la-savane-fort-de-france/2026-07-16/
CATEGORIES:Jeune public,Sport
ATTACH;FMTTYPE=image/webp:https://www.buzzmagmartinique.com/wp-content/uploads/2024/06/07-18-MECANIQUE-POUR-TOUS-SERGE-BUNOD.webp
END:VEVENT
BEGIN:VEVENT
DTSTART;TZID=Europe/Paris:20260717T143000
DTEND;TZID=Europe/Paris:20260717T173000
DTSTAMP:20260424T142647
CREATED:20240627T125212Z
LAST-MODIFIED:20250717T153959Z
UID:10060852-1784298600-1784309400@www.buzzmagmartinique.com
SUMMARY:INITIATION À LA MOTO-CROSS PAR MÉCANIQUE POUR TOUS SUR LA SAVANE\, FORT DE FRANCE
DESCRIPTION:Mécanique pour tous
URL:https://www.buzzmagmartinique.com/evenement/initiation-a-la-moto-cross-par-mecanique-pour-tous-sur-la-savane-fort-de-france/2026-07-17/
CATEGORIES:Jeune public,Sport
ATTACH;FMTTYPE=image/webp:https://www.buzzmagmartinique.com/wp-content/uploads/2024/06/07-18-MECANIQUE-POUR-TOUS-SERGE-BUNOD.webp
END:VEVENT
BEGIN:VEVENT
DTSTART;TZID=Europe/Paris:20260722T143000
DTEND;TZID=Europe/Paris:20260722T173000
DTSTAMP:20260424T142647
CREATED:20240627T125212Z
LAST-MODIFIED:20250717T153959Z
UID:10060853-1784730600-1784741400@www.buzzmagmartinique.com
SUMMARY:INITIATION À LA MOTO-CROSS PAR MÉCANIQUE POUR TOUS SUR LA SAVANE\, FORT DE FRANCE
DESCRIPTION:Mécanique pour tous
URL:https://www.buzzmagmartinique.com/evenement/initiation-a-la-moto-cross-par-mecanique-pour-tous-sur-la-savane-fort-de-france/2026-07-22/
CATEGORIES:Jeune public,Sport
ATTACH;FMTTYPE=image/webp:https://www.buzzmagmartinique.com/wp-content/uploads/2024/06/07-18-MECANIQUE-POUR-TOUS-SERGE-BUNOD.webp
END:VEVENT
BEGIN:VEVENT
DTSTART;TZID=Europe/Paris:20260723T143000
DTEND;TZID=Europe/Paris:20260723T173000
DTSTAMP:20260424T142647
CREATED:20240627T125212Z
LAST-MODIFIED:20250717T153959Z
UID:10060854-1784817000-1784827800@www.buzzmagmartinique.com
SUMMARY:INITIATION À LA MOTO-CROSS PAR MÉCANIQUE POUR TOUS SUR LA SAVANE\, FORT DE FRANCE
DESCRIPTION:Mécanique pour tous
URL:https://www.buzzmagmartinique.com/evenement/initiation-a-la-moto-cross-par-mecanique-pour-tous-sur-la-savane-fort-de-france/2026-07-23/
CATEGORIES:Jeune public,Sport
ATTACH;FMTTYPE=image/webp:https://www.buzzmagmartinique.com/wp-content/uploads/2024/06/07-18-MECANIQUE-POUR-TOUS-SERGE-BUNOD.webp
END:VEVENT
BEGIN:VEVENT
DTSTART;TZID=Europe/Paris:20260724T143000
DTEND;TZID=Europe/Paris:20260724T173000
DTSTAMP:20260424T142647
CREATED:20240627T125212Z
LAST-MODIFIED:20250717T153959Z
UID:10060855-1784903400-1784914200@www.buzzmagmartinique.com
SUMMARY:INITIATION À LA MOTO-CROSS PAR MÉCANIQUE POUR TOUS SUR LA SAVANE\, FORT DE FRANCE
DESCRIPTION:Mécanique pour tous
URL:https://www.buzzmagmartinique.com/evenement/initiation-a-la-moto-cross-par-mecanique-pour-tous-sur-la-savane-fort-de-france/2026-07-24/
CATEGORIES:Jeune public,Sport
ATTACH;FMTTYPE=image/webp:https://www.buzzmagmartinique.com/wp-content/uploads/2024/06/07-18-MECANIQUE-POUR-TOUS-SERGE-BUNOD.webp
END:VEVENT
END:VCALENDAR