BEGIN:VCALENDAR
VERSION:2.0
PRODID:-//Buzzmag - ECPv6.15.20//NONSGML v1.0//EN
CALSCALE:GREGORIAN
METHOD:PUBLISH
X-WR-CALNAME:Buzzmag
X-ORIGINAL-URL:https://www.buzzmagmartinique.com
X-WR-CALDESC:Évènements pour Buzzmag
REFRESH-INTERVAL;VALUE=DURATION:PT1H
X-Robots-Tag:noindex
X-PUBLISHED-TTL:PT1H
BEGIN:VTIMEZONE
TZID:America/Martinique
BEGIN:STANDARD
TZOFFSETFROM:-0400
TZOFFSETTO:-0400
TZNAME:AST
DTSTART:20250101T000000
END:STANDARD
END:VTIMEZONE
BEGIN:VEVENT
DTSTART;TZID=America/Martinique:20260422T134500
DTEND;TZID=America/Martinique:20260422T174500
DTSTAMP:20260420T215349
CREATED:20250203T185224Z
LAST-MODIFIED:20250925T122540Z
UID:10073565-1776865500-1776879900@www.buzzmagmartinique.com
SUMMARY:ATELIERS CULTURE CHINOISE AU TOM\, FORT DE FRANCE
DESCRIPTION:TOM\, Téat’ Otonom Mawon \, Croix Mission\, Boulevard du Général de Gaulle\, 122 rue Victor Sévère\, Fort de France
URL:https://www.buzzmagmartinique.com/evenement/ateliers-culture-chinoise-au-tom-fort-de-france/2026-04-22/
LOCATION:TOM\, Téat’ Otonom Mawon\, Croix Mission\, Boulevard du Général de Gaulle\, Fort de France\, 97200\, Martinique
CATEGORIES:Art & Culture,Jeune public
ATTACH;FMTTYPE=image/webp:https://www.buzzmagmartinique.com/wp-content/uploads/2025/02/IMG-20250924-WA0031.webp
END:VEVENT
BEGIN:VEVENT
DTSTART;TZID=America/Martinique:20260429T134500
DTEND;TZID=America/Martinique:20260429T174500
DTSTAMP:20260420T215349
CREATED:20250203T185224Z
LAST-MODIFIED:20250925T122540Z
UID:10073566-1777470300-1777484700@www.buzzmagmartinique.com
SUMMARY:ATELIERS CULTURE CHINOISE AU TOM\, FORT DE FRANCE
DESCRIPTION:TOM\, Téat’ Otonom Mawon \, Croix Mission\, Boulevard du Général de Gaulle\, 122 rue Victor Sévère\, Fort de France
URL:https://www.buzzmagmartinique.com/evenement/ateliers-culture-chinoise-au-tom-fort-de-france/2026-04-29/
LOCATION:TOM\, Téat’ Otonom Mawon\, Croix Mission\, Boulevard du Général de Gaulle\, Fort de France\, 97200\, Martinique
CATEGORIES:Art & Culture,Jeune public
ATTACH;FMTTYPE=image/webp:https://www.buzzmagmartinique.com/wp-content/uploads/2025/02/IMG-20250924-WA0031.webp
END:VEVENT
BEGIN:VEVENT
DTSTART;TZID=America/Martinique:20260506T134500
DTEND;TZID=America/Martinique:20260506T174500
DTSTAMP:20260420T215349
CREATED:20250203T185224Z
LAST-MODIFIED:20250925T122540Z
UID:10073567-1778075100-1778089500@www.buzzmagmartinique.com
SUMMARY:ATELIERS CULTURE CHINOISE AU TOM\, FORT DE FRANCE
DESCRIPTION:TOM\, Téat’ Otonom Mawon \, Croix Mission\, Boulevard du Général de Gaulle\, 122 rue Victor Sévère\, Fort de France
URL:https://www.buzzmagmartinique.com/evenement/ateliers-culture-chinoise-au-tom-fort-de-france/2026-05-06/
LOCATION:TOM\, Téat’ Otonom Mawon\, Croix Mission\, Boulevard du Général de Gaulle\, Fort de France\, 97200\, Martinique
CATEGORIES:Art & Culture,Jeune public
ATTACH;FMTTYPE=image/webp:https://www.buzzmagmartinique.com/wp-content/uploads/2025/02/IMG-20250924-WA0031.webp
END:VEVENT
BEGIN:VEVENT
DTSTART;TZID=America/Martinique:20260513T134500
DTEND;TZID=America/Martinique:20260513T174500
DTSTAMP:20260420T215349
CREATED:20250203T185224Z
LAST-MODIFIED:20250925T122540Z
UID:10073568-1778679900-1778694300@www.buzzmagmartinique.com
SUMMARY:ATELIERS CULTURE CHINOISE AU TOM\, FORT DE FRANCE
DESCRIPTION:TOM\, Téat’ Otonom Mawon \, Croix Mission\, Boulevard du Général de Gaulle\, 122 rue Victor Sévère\, Fort de France
URL:https://www.buzzmagmartinique.com/evenement/ateliers-culture-chinoise-au-tom-fort-de-france/2026-05-13/
LOCATION:TOM\, Téat’ Otonom Mawon\, Croix Mission\, Boulevard du Général de Gaulle\, Fort de France\, 97200\, Martinique
CATEGORIES:Art & Culture,Jeune public
ATTACH;FMTTYPE=image/webp:https://www.buzzmagmartinique.com/wp-content/uploads/2025/02/IMG-20250924-WA0031.webp
END:VEVENT
BEGIN:VEVENT
DTSTART;TZID=America/Martinique:20260520T134500
DTEND;TZID=America/Martinique:20260520T174500
DTSTAMP:20260420T215349
CREATED:20250203T185224Z
LAST-MODIFIED:20250925T122540Z
UID:10073569-1779284700-1779299100@www.buzzmagmartinique.com
SUMMARY:ATELIERS CULTURE CHINOISE AU TOM\, FORT DE FRANCE
DESCRIPTION:TOM\, Téat’ Otonom Mawon \, Croix Mission\, Boulevard du Général de Gaulle\, 122 rue Victor Sévère\, Fort de France
URL:https://www.buzzmagmartinique.com/evenement/ateliers-culture-chinoise-au-tom-fort-de-france/2026-05-20/
LOCATION:TOM\, Téat’ Otonom Mawon\, Croix Mission\, Boulevard du Général de Gaulle\, Fort de France\, 97200\, Martinique
CATEGORIES:Art & Culture,Jeune public
ATTACH;FMTTYPE=image/webp:https://www.buzzmagmartinique.com/wp-content/uploads/2025/02/IMG-20250924-WA0031.webp
END:VEVENT
BEGIN:VEVENT
DTSTART;TZID=America/Martinique:20260527T134500
DTEND;TZID=America/Martinique:20260527T174500
DTSTAMP:20260420T215349
CREATED:20250203T185224Z
LAST-MODIFIED:20250925T122540Z
UID:10073570-1779889500-1779903900@www.buzzmagmartinique.com
SUMMARY:ATELIERS CULTURE CHINOISE AU TOM\, FORT DE FRANCE
DESCRIPTION:TOM\, Téat’ Otonom Mawon \, Croix Mission\, Boulevard du Général de Gaulle\, 122 rue Victor Sévère\, Fort de France
URL:https://www.buzzmagmartinique.com/evenement/ateliers-culture-chinoise-au-tom-fort-de-france/2026-05-27/
LOCATION:TOM\, Téat’ Otonom Mawon\, Croix Mission\, Boulevard du Général de Gaulle\, Fort de France\, 97200\, Martinique
CATEGORIES:Art & Culture,Jeune public
ATTACH;FMTTYPE=image/webp:https://www.buzzmagmartinique.com/wp-content/uploads/2025/02/IMG-20250924-WA0031.webp
END:VEVENT
BEGIN:VEVENT
DTSTART;TZID=America/Martinique:20260603T134500
DTEND;TZID=America/Martinique:20260603T174500
DTSTAMP:20260420T215350
CREATED:20250203T185224Z
LAST-MODIFIED:20250925T122540Z
UID:10073571-1780494300-1780508700@www.buzzmagmartinique.com
SUMMARY:ATELIERS CULTURE CHINOISE AU TOM\, FORT DE FRANCE
DESCRIPTION:TOM\, Téat’ Otonom Mawon \, Croix Mission\, Boulevard du Général de Gaulle\, 122 rue Victor Sévère\, Fort de France
URL:https://www.buzzmagmartinique.com/evenement/ateliers-culture-chinoise-au-tom-fort-de-france/2026-06-03/
LOCATION:TOM\, Téat’ Otonom Mawon\, Croix Mission\, Boulevard du Général de Gaulle\, Fort de France\, 97200\, Martinique
CATEGORIES:Art & Culture,Jeune public
ATTACH;FMTTYPE=image/webp:https://www.buzzmagmartinique.com/wp-content/uploads/2025/02/IMG-20250924-WA0031.webp
END:VEVENT
BEGIN:VEVENT
DTSTART;TZID=America/Martinique:20260610T134500
DTEND;TZID=America/Martinique:20260610T174500
DTSTAMP:20260420T215350
CREATED:20250203T185224Z
LAST-MODIFIED:20250925T122540Z
UID:10073572-1781099100-1781113500@www.buzzmagmartinique.com
SUMMARY:ATELIERS CULTURE CHINOISE AU TOM\, FORT DE FRANCE
DESCRIPTION:TOM\, Téat’ Otonom Mawon \, Croix Mission\, Boulevard du Général de Gaulle\, 122 rue Victor Sévère\, Fort de France
URL:https://www.buzzmagmartinique.com/evenement/ateliers-culture-chinoise-au-tom-fort-de-france/2026-06-10/
LOCATION:TOM\, Téat’ Otonom Mawon\, Croix Mission\, Boulevard du Général de Gaulle\, Fort de France\, 97200\, Martinique
CATEGORIES:Art & Culture,Jeune public
ATTACH;FMTTYPE=image/webp:https://www.buzzmagmartinique.com/wp-content/uploads/2025/02/IMG-20250924-WA0031.webp
END:VEVENT
BEGIN:VEVENT
DTSTART;TZID=America/Martinique:20260617T134500
DTEND;TZID=America/Martinique:20260617T174500
DTSTAMP:20260420T215350
CREATED:20250203T185224Z
LAST-MODIFIED:20250925T122540Z
UID:10073573-1781703900-1781718300@www.buzzmagmartinique.com
SUMMARY:ATELIERS CULTURE CHINOISE AU TOM\, FORT DE FRANCE
DESCRIPTION:TOM\, Téat’ Otonom Mawon \, Croix Mission\, Boulevard du Général de Gaulle\, 122 rue Victor Sévère\, Fort de France
URL:https://www.buzzmagmartinique.com/evenement/ateliers-culture-chinoise-au-tom-fort-de-france/2026-06-17/
LOCATION:TOM\, Téat’ Otonom Mawon\, Croix Mission\, Boulevard du Général de Gaulle\, Fort de France\, 97200\, Martinique
CATEGORIES:Art & Culture,Jeune public
ATTACH;FMTTYPE=image/webp:https://www.buzzmagmartinique.com/wp-content/uploads/2025/02/IMG-20250924-WA0031.webp
END:VEVENT
BEGIN:VEVENT
DTSTART;TZID=America/Martinique:20260624T134500
DTEND;TZID=America/Martinique:20260624T174500
DTSTAMP:20260420T215350
CREATED:20250203T185224Z
LAST-MODIFIED:20250925T122540Z
UID:10073574-1782308700-1782323100@www.buzzmagmartinique.com
SUMMARY:ATELIERS CULTURE CHINOISE AU TOM\, FORT DE FRANCE
DESCRIPTION:TOM\, Téat’ Otonom Mawon \, Croix Mission\, Boulevard du Général de Gaulle\, 122 rue Victor Sévère\, Fort de France
URL:https://www.buzzmagmartinique.com/evenement/ateliers-culture-chinoise-au-tom-fort-de-france/2026-06-24/
LOCATION:TOM\, Téat’ Otonom Mawon\, Croix Mission\, Boulevard du Général de Gaulle\, Fort de France\, 97200\, Martinique
CATEGORIES:Art & Culture,Jeune public
ATTACH;FMTTYPE=image/webp:https://www.buzzmagmartinique.com/wp-content/uploads/2025/02/IMG-20250924-WA0031.webp
END:VEVENT
BEGIN:VEVENT
DTSTART;TZID=America/Martinique:20260701T134500
DTEND;TZID=America/Martinique:20260701T174500
DTSTAMP:20260420T215350
CREATED:20250203T185224Z
LAST-MODIFIED:20250925T122540Z
UID:10073575-1782913500-1782927900@www.buzzmagmartinique.com
SUMMARY:ATELIERS CULTURE CHINOISE AU TOM\, FORT DE FRANCE
DESCRIPTION:TOM\, Téat’ Otonom Mawon \, Croix Mission\, Boulevard du Général de Gaulle\, 122 rue Victor Sévère\, Fort de France
URL:https://www.buzzmagmartinique.com/evenement/ateliers-culture-chinoise-au-tom-fort-de-france/2026-07-01/
LOCATION:TOM\, Téat’ Otonom Mawon\, Croix Mission\, Boulevard du Général de Gaulle\, Fort de France\, 97200\, Martinique
CATEGORIES:Art & Culture,Jeune public
ATTACH;FMTTYPE=image/webp:https://www.buzzmagmartinique.com/wp-content/uploads/2025/02/IMG-20250924-WA0031.webp
END:VEVENT
BEGIN:VEVENT
DTSTART;TZID=America/Martinique:20260708T134500
DTEND;TZID=America/Martinique:20260708T174500
DTSTAMP:20260420T215350
CREATED:20250203T185224Z
LAST-MODIFIED:20250925T122540Z
UID:10073576-1783518300-1783532700@www.buzzmagmartinique.com
SUMMARY:ATELIERS CULTURE CHINOISE AU TOM\, FORT DE FRANCE
DESCRIPTION:TOM\, Téat’ Otonom Mawon \, Croix Mission\, Boulevard du Général de Gaulle\, 122 rue Victor Sévère\, Fort de France
URL:https://www.buzzmagmartinique.com/evenement/ateliers-culture-chinoise-au-tom-fort-de-france/2026-07-08/
LOCATION:TOM\, Téat’ Otonom Mawon\, Croix Mission\, Boulevard du Général de Gaulle\, Fort de France\, 97200\, Martinique
CATEGORIES:Art & Culture,Jeune public
ATTACH;FMTTYPE=image/webp:https://www.buzzmagmartinique.com/wp-content/uploads/2025/02/IMG-20250924-WA0031.webp
END:VEVENT
BEGIN:VEVENT
DTSTART;TZID=America/Martinique:20260715T134500
DTEND;TZID=America/Martinique:20260715T174500
DTSTAMP:20260420T215350
CREATED:20250203T185224Z
LAST-MODIFIED:20250925T122540Z
UID:10073577-1784123100-1784137500@www.buzzmagmartinique.com
SUMMARY:ATELIERS CULTURE CHINOISE AU TOM\, FORT DE FRANCE
DESCRIPTION:TOM\, Téat’ Otonom Mawon \, Croix Mission\, Boulevard du Général de Gaulle\, 122 rue Victor Sévère\, Fort de France
URL:https://www.buzzmagmartinique.com/evenement/ateliers-culture-chinoise-au-tom-fort-de-france/2026-07-15/
LOCATION:TOM\, Téat’ Otonom Mawon\, Croix Mission\, Boulevard du Général de Gaulle\, Fort de France\, 97200\, Martinique
CATEGORIES:Art & Culture,Jeune public
ATTACH;FMTTYPE=image/webp:https://www.buzzmagmartinique.com/wp-content/uploads/2025/02/IMG-20250924-WA0031.webp
END:VEVENT
BEGIN:VEVENT
DTSTART;TZID=America/Martinique:20260722T134500
DTEND;TZID=America/Martinique:20260722T174500
DTSTAMP:20260420T215350
CREATED:20250203T185224Z
LAST-MODIFIED:20250925T122540Z
UID:10073578-1784727900-1784742300@www.buzzmagmartinique.com
SUMMARY:ATELIERS CULTURE CHINOISE AU TOM\, FORT DE FRANCE
DESCRIPTION:TOM\, Téat’ Otonom Mawon \, Croix Mission\, Boulevard du Général de Gaulle\, 122 rue Victor Sévère\, Fort de France
URL:https://www.buzzmagmartinique.com/evenement/ateliers-culture-chinoise-au-tom-fort-de-france/2026-07-22/
LOCATION:TOM\, Téat’ Otonom Mawon\, Croix Mission\, Boulevard du Général de Gaulle\, Fort de France\, 97200\, Martinique
CATEGORIES:Art & Culture,Jeune public
ATTACH;FMTTYPE=image/webp:https://www.buzzmagmartinique.com/wp-content/uploads/2025/02/IMG-20250924-WA0031.webp
END:VEVENT
BEGIN:VEVENT
DTSTART;TZID=America/Martinique:20260729T134500
DTEND;TZID=America/Martinique:20260729T174500
DTSTAMP:20260420T215350
CREATED:20250203T185224Z
LAST-MODIFIED:20250925T122540Z
UID:10073579-1785332700-1785347100@www.buzzmagmartinique.com
SUMMARY:ATELIERS CULTURE CHINOISE AU TOM\, FORT DE FRANCE
DESCRIPTION:TOM\, Téat’ Otonom Mawon \, Croix Mission\, Boulevard du Général de Gaulle\, 122 rue Victor Sévère\, Fort de France
URL:https://www.buzzmagmartinique.com/evenement/ateliers-culture-chinoise-au-tom-fort-de-france/2026-07-29/
LOCATION:TOM\, Téat’ Otonom Mawon\, Croix Mission\, Boulevard du Général de Gaulle\, Fort de France\, 97200\, Martinique
CATEGORIES:Art & Culture,Jeune public
ATTACH;FMTTYPE=image/webp:https://www.buzzmagmartinique.com/wp-content/uploads/2025/02/IMG-20250924-WA0031.webp
END:VEVENT
BEGIN:VEVENT
DTSTART;TZID=America/Martinique:20260805T134500
DTEND;TZID=America/Martinique:20260805T174500
DTSTAMP:20260420T215350
CREATED:20250203T185224Z
LAST-MODIFIED:20250925T122540Z
UID:10073580-1785937500-1785951900@www.buzzmagmartinique.com
SUMMARY:ATELIERS CULTURE CHINOISE AU TOM\, FORT DE FRANCE
DESCRIPTION:TOM\, Téat’ Otonom Mawon \, Croix Mission\, Boulevard du Général de Gaulle\, 122 rue Victor Sévère\, Fort de France
URL:https://www.buzzmagmartinique.com/evenement/ateliers-culture-chinoise-au-tom-fort-de-france/2026-08-05/
LOCATION:TOM\, Téat’ Otonom Mawon\, Croix Mission\, Boulevard du Général de Gaulle\, Fort de France\, 97200\, Martinique
CATEGORIES:Art & Culture,Jeune public
ATTACH;FMTTYPE=image/webp:https://www.buzzmagmartinique.com/wp-content/uploads/2025/02/IMG-20250924-WA0031.webp
END:VEVENT
BEGIN:VEVENT
DTSTART;TZID=America/Martinique:20260812T134500
DTEND;TZID=America/Martinique:20260812T174500
DTSTAMP:20260420T215350
CREATED:20250203T185224Z
LAST-MODIFIED:20250925T122540Z
UID:10073581-1786542300-1786556700@www.buzzmagmartinique.com
SUMMARY:ATELIERS CULTURE CHINOISE AU TOM\, FORT DE FRANCE
DESCRIPTION:TOM\, Téat’ Otonom Mawon \, Croix Mission\, Boulevard du Général de Gaulle\, 122 rue Victor Sévère\, Fort de France
URL:https://www.buzzmagmartinique.com/evenement/ateliers-culture-chinoise-au-tom-fort-de-france/2026-08-12/
LOCATION:TOM\, Téat’ Otonom Mawon\, Croix Mission\, Boulevard du Général de Gaulle\, Fort de France\, 97200\, Martinique
CATEGORIES:Art & Culture,Jeune public
ATTACH;FMTTYPE=image/webp:https://www.buzzmagmartinique.com/wp-content/uploads/2025/02/IMG-20250924-WA0031.webp
END:VEVENT
BEGIN:VEVENT
DTSTART;TZID=America/Martinique:20260819T134500
DTEND;TZID=America/Martinique:20260819T174500
DTSTAMP:20260420T215350
CREATED:20250203T185224Z
LAST-MODIFIED:20250925T122540Z
UID:10073582-1787147100-1787161500@www.buzzmagmartinique.com
SUMMARY:ATELIERS CULTURE CHINOISE AU TOM\, FORT DE FRANCE
DESCRIPTION:TOM\, Téat’ Otonom Mawon \, Croix Mission\, Boulevard du Général de Gaulle\, 122 rue Victor Sévère\, Fort de France
URL:https://www.buzzmagmartinique.com/evenement/ateliers-culture-chinoise-au-tom-fort-de-france/2026-08-19/
LOCATION:TOM\, Téat’ Otonom Mawon\, Croix Mission\, Boulevard du Général de Gaulle\, Fort de France\, 97200\, Martinique
CATEGORIES:Art & Culture,Jeune public
ATTACH;FMTTYPE=image/webp:https://www.buzzmagmartinique.com/wp-content/uploads/2025/02/IMG-20250924-WA0031.webp
END:VEVENT
BEGIN:VEVENT
DTSTART;TZID=America/Martinique:20260826T134500
DTEND;TZID=America/Martinique:20260826T174500
DTSTAMP:20260420T215350
CREATED:20250203T185224Z
LAST-MODIFIED:20250925T122540Z
UID:10073583-1787751900-1787766300@www.buzzmagmartinique.com
SUMMARY:ATELIERS CULTURE CHINOISE AU TOM\, FORT DE FRANCE
DESCRIPTION:TOM\, Téat’ Otonom Mawon \, Croix Mission\, Boulevard du Général de Gaulle\, 122 rue Victor Sévère\, Fort de France
URL:https://www.buzzmagmartinique.com/evenement/ateliers-culture-chinoise-au-tom-fort-de-france/2026-08-26/
LOCATION:TOM\, Téat’ Otonom Mawon\, Croix Mission\, Boulevard du Général de Gaulle\, Fort de France\, 97200\, Martinique
CATEGORIES:Art & Culture,Jeune public
ATTACH;FMTTYPE=image/webp:https://www.buzzmagmartinique.com/wp-content/uploads/2025/02/IMG-20250924-WA0031.webp
END:VEVENT
BEGIN:VEVENT
DTSTART;TZID=America/Martinique:20260902T134500
DTEND;TZID=America/Martinique:20260902T174500
DTSTAMP:20260420T215350
CREATED:20250203T185224Z
LAST-MODIFIED:20250925T122540Z
UID:10073584-1788356700-1788371100@www.buzzmagmartinique.com
SUMMARY:ATELIERS CULTURE CHINOISE AU TOM\, FORT DE FRANCE
DESCRIPTION:TOM\, Téat’ Otonom Mawon \, Croix Mission\, Boulevard du Général de Gaulle\, 122 rue Victor Sévère\, Fort de France
URL:https://www.buzzmagmartinique.com/evenement/ateliers-culture-chinoise-au-tom-fort-de-france/2026-09-02/
LOCATION:TOM\, Téat’ Otonom Mawon\, Croix Mission\, Boulevard du Général de Gaulle\, Fort de France\, 97200\, Martinique
CATEGORIES:Art & Culture,Jeune public
ATTACH;FMTTYPE=image/webp:https://www.buzzmagmartinique.com/wp-content/uploads/2025/02/IMG-20250924-WA0031.webp
END:VEVENT
BEGIN:VEVENT
DTSTART;TZID=America/Martinique:20260909T134500
DTEND;TZID=America/Martinique:20260909T174500
DTSTAMP:20260420T215350
CREATED:20250203T185224Z
LAST-MODIFIED:20250925T122540Z
UID:10073585-1788961500-1788975900@www.buzzmagmartinique.com
SUMMARY:ATELIERS CULTURE CHINOISE AU TOM\, FORT DE FRANCE
DESCRIPTION:TOM\, Téat’ Otonom Mawon \, Croix Mission\, Boulevard du Général de Gaulle\, 122 rue Victor Sévère\, Fort de France
URL:https://www.buzzmagmartinique.com/evenement/ateliers-culture-chinoise-au-tom-fort-de-france/2026-09-09/
LOCATION:TOM\, Téat’ Otonom Mawon\, Croix Mission\, Boulevard du Général de Gaulle\, Fort de France\, 97200\, Martinique
CATEGORIES:Art & Culture,Jeune public
ATTACH;FMTTYPE=image/webp:https://www.buzzmagmartinique.com/wp-content/uploads/2025/02/IMG-20250924-WA0031.webp
END:VEVENT
BEGIN:VEVENT
DTSTART;TZID=America/Martinique:20260916T134500
DTEND;TZID=America/Martinique:20260916T174500
DTSTAMP:20260420T215350
CREATED:20250203T185224Z
LAST-MODIFIED:20250925T122540Z
UID:10073586-1789566300-1789580700@www.buzzmagmartinique.com
SUMMARY:ATELIERS CULTURE CHINOISE AU TOM\, FORT DE FRANCE
DESCRIPTION:TOM\, Téat’ Otonom Mawon \, Croix Mission\, Boulevard du Général de Gaulle\, 122 rue Victor Sévère\, Fort de France
URL:https://www.buzzmagmartinique.com/evenement/ateliers-culture-chinoise-au-tom-fort-de-france/2026-09-16/
LOCATION:TOM\, Téat’ Otonom Mawon\, Croix Mission\, Boulevard du Général de Gaulle\, Fort de France\, 97200\, Martinique
CATEGORIES:Art & Culture,Jeune public
ATTACH;FMTTYPE=image/webp:https://www.buzzmagmartinique.com/wp-content/uploads/2025/02/IMG-20250924-WA0031.webp
END:VEVENT
BEGIN:VEVENT
DTSTART;TZID=America/Martinique:20260923T134500
DTEND;TZID=America/Martinique:20260923T174500
DTSTAMP:20260420T215350
CREATED:20250203T185224Z
LAST-MODIFIED:20250925T122540Z
UID:10073587-1790171100-1790185500@www.buzzmagmartinique.com
SUMMARY:ATELIERS CULTURE CHINOISE AU TOM\, FORT DE FRANCE
DESCRIPTION:TOM\, Téat’ Otonom Mawon \, Croix Mission\, Boulevard du Général de Gaulle\, 122 rue Victor Sévère\, Fort de France
URL:https://www.buzzmagmartinique.com/evenement/ateliers-culture-chinoise-au-tom-fort-de-france/2026-09-23/
LOCATION:TOM\, Téat’ Otonom Mawon\, Croix Mission\, Boulevard du Général de Gaulle\, Fort de France\, 97200\, Martinique
CATEGORIES:Art & Culture,Jeune public
ATTACH;FMTTYPE=image/webp:https://www.buzzmagmartinique.com/wp-content/uploads/2025/02/IMG-20250924-WA0031.webp
END:VEVENT
BEGIN:VEVENT
DTSTART;TZID=America/Martinique:20260930T134500
DTEND;TZID=America/Martinique:20260930T174500
DTSTAMP:20260420T215350
CREATED:20250203T185224Z
LAST-MODIFIED:20250925T122540Z
UID:10073588-1790775900-1790790300@www.buzzmagmartinique.com
SUMMARY:ATELIERS CULTURE CHINOISE AU TOM\, FORT DE FRANCE
DESCRIPTION:TOM\, Téat’ Otonom Mawon \, Croix Mission\, Boulevard du Général de Gaulle\, 122 rue Victor Sévère\, Fort de France
URL:https://www.buzzmagmartinique.com/evenement/ateliers-culture-chinoise-au-tom-fort-de-france/2026-09-30/
LOCATION:TOM\, Téat’ Otonom Mawon\, Croix Mission\, Boulevard du Général de Gaulle\, Fort de France\, 97200\, Martinique
CATEGORIES:Art & Culture,Jeune public
ATTACH;FMTTYPE=image/webp:https://www.buzzmagmartinique.com/wp-content/uploads/2025/02/IMG-20250924-WA0031.webp
END:VEVENT
BEGIN:VEVENT
DTSTART;TZID=America/Martinique:20261007T134500
DTEND;TZID=America/Martinique:20261007T174500
DTSTAMP:20260420T215350
CREATED:20250203T185224Z
LAST-MODIFIED:20250925T122540Z
UID:10073589-1791380700-1791395100@www.buzzmagmartinique.com
SUMMARY:ATELIERS CULTURE CHINOISE AU TOM\, FORT DE FRANCE
DESCRIPTION:TOM\, Téat’ Otonom Mawon \, Croix Mission\, Boulevard du Général de Gaulle\, 122 rue Victor Sévère\, Fort de France
URL:https://www.buzzmagmartinique.com/evenement/ateliers-culture-chinoise-au-tom-fort-de-france/2026-10-07/
LOCATION:TOM\, Téat’ Otonom Mawon\, Croix Mission\, Boulevard du Général de Gaulle\, Fort de France\, 97200\, Martinique
CATEGORIES:Art & Culture,Jeune public
ATTACH;FMTTYPE=image/webp:https://www.buzzmagmartinique.com/wp-content/uploads/2025/02/IMG-20250924-WA0031.webp
END:VEVENT
BEGIN:VEVENT
DTSTART;TZID=America/Martinique:20261014T134500
DTEND;TZID=America/Martinique:20261014T174500
DTSTAMP:20260420T215350
CREATED:20250203T185224Z
LAST-MODIFIED:20250925T122540Z
UID:10073590-1791985500-1791999900@www.buzzmagmartinique.com
SUMMARY:ATELIERS CULTURE CHINOISE AU TOM\, FORT DE FRANCE
DESCRIPTION:TOM\, Téat’ Otonom Mawon \, Croix Mission\, Boulevard du Général de Gaulle\, 122 rue Victor Sévère\, Fort de France
URL:https://www.buzzmagmartinique.com/evenement/ateliers-culture-chinoise-au-tom-fort-de-france/2026-10-14/
LOCATION:TOM\, Téat’ Otonom Mawon\, Croix Mission\, Boulevard du Général de Gaulle\, Fort de France\, 97200\, Martinique
CATEGORIES:Art & Culture,Jeune public
ATTACH;FMTTYPE=image/webp:https://www.buzzmagmartinique.com/wp-content/uploads/2025/02/IMG-20250924-WA0031.webp
END:VEVENT
END:VCALENDAR