BEGIN:VCALENDAR
VERSION:2.0
PRODID:-//Buzzmag - ECPv6.15.20//NONSGML v1.0//EN
CALSCALE:GREGORIAN
METHOD:PUBLISH
X-ORIGINAL-URL:https://www.buzzmagmartinique.com
X-WR-CALDESC:Évènements pour Buzzmag
REFRESH-INTERVAL;VALUE=DURATION:PT1H
X-Robots-Tag:noindex
X-PUBLISHED-TTL:PT1H
BEGIN:VTIMEZONE
TZID:Europe/Paris
BEGIN:DAYLIGHT
TZOFFSETFROM:+0100
TZOFFSETTO:+0200
TZNAME:CEST
DTSTART:20250330T010000
END:DAYLIGHT
BEGIN:STANDARD
TZOFFSETFROM:+0200
TZOFFSETTO:+0100
TZNAME:CET
DTSTART:20251026T010000
END:STANDARD
BEGIN:DAYLIGHT
TZOFFSETFROM:+0100
TZOFFSETTO:+0200
TZNAME:CEST
DTSTART:20260329T010000
END:DAYLIGHT
BEGIN:STANDARD
TZOFFSETFROM:+0200
TZOFFSETTO:+0100
TZNAME:CET
DTSTART:20261025T010000
END:STANDARD
BEGIN:DAYLIGHT
TZOFFSETFROM:+0100
TZOFFSETTO:+0200
TZNAME:CEST
DTSTART:20270328T010000
END:DAYLIGHT
BEGIN:STANDARD
TZOFFSETFROM:+0200
TZOFFSETTO:+0100
TZNAME:CET
DTSTART:20271031T010000
END:STANDARD
END:VTIMEZONE
BEGIN:VEVENT
DTSTART;TZID=Europe/Paris:20260530T170000
DTEND;TZID=Europe/Paris:20260530T220000
DTSTAMP:20260423T215648
CREATED:20210921T121650Z
LAST-MODIFIED:20260324T182202Z
UID:10003013-1780160400-1780178400@www.buzzmagmartinique.com
SUMMARY:COURSE NATURE "TRAIL DES TRÉSORS" PAR MADIN'SCAPADE À L'HABITATION LE GALLION\, LA TRINITÉ
DESCRIPTION:Le Trail des trésors revient le samedi 30 mai 2026 avec une édition spéciale .\n\nAu programme :\nVillage avec exposants et restauration\nChasse au trésors\n\n18H – Trail de 13kms : Karakoli – Tarif 25€\n\n18H15 – Trail de 5kms : Cœur de Karakoli – Tarif 15€\n\nInfoline : 0696 67 88 26\n\n\nClub Madin’Scapade\, 0696 30 58 36
URL:https://www.buzzmagmartinique.com/evenement/course-nature-trail-des-tresors-par-madinscapade-a-lhabitation-le-gallion-la-trinite/
CATEGORIES:Sport
ATTACH;FMTTYPE=image/webp:https://www.buzzmagmartinique.com/wp-content/uploads/2021/09/CLUB-MADIN.webp
ORGANIZER;CN="Club Madin'Scapade":MAILTO:contact@madinscapade.com
END:VEVENT
END:VCALENDAR