BEGIN:VCALENDAR
VERSION:2.0
PRODID:-//Buzzmag - ECPv6.15.20//NONSGML v1.0//EN
CALSCALE:GREGORIAN
METHOD:PUBLISH
X-ORIGINAL-URL:https://www.buzzmagmartinique.com
X-WR-CALDESC:Évènements pour Buzzmag
REFRESH-INTERVAL;VALUE=DURATION:PT1H
X-Robots-Tag:noindex
X-PUBLISHED-TTL:PT1H
BEGIN:VTIMEZONE
TZID:America/Martinique
BEGIN:STANDARD
TZOFFSETFROM:-0400
TZOFFSETTO:-0400
TZNAME:AST
DTSTART:20230101T000000
END:STANDARD
END:VTIMEZONE
BEGIN:VTIMEZONE
TZID:Europe/Paris
BEGIN:DAYLIGHT
TZOFFSETFROM:+0100
TZOFFSETTO:+0200
TZNAME:CEST
DTSTART:20230326T010000
END:DAYLIGHT
BEGIN:STANDARD
TZOFFSETFROM:+0200
TZOFFSETTO:+0100
TZNAME:CET
DTSTART:20231029T010000
END:STANDARD
BEGIN:DAYLIGHT
TZOFFSETFROM:+0100
TZOFFSETTO:+0200
TZNAME:CEST
DTSTART:20240331T010000
END:DAYLIGHT
BEGIN:STANDARD
TZOFFSETFROM:+0200
TZOFFSETTO:+0100
TZNAME:CET
DTSTART:20241027T010000
END:STANDARD
BEGIN:DAYLIGHT
TZOFFSETFROM:+0100
TZOFFSETTO:+0200
TZNAME:CEST
DTSTART:20250330T010000
END:DAYLIGHT
BEGIN:STANDARD
TZOFFSETFROM:+0200
TZOFFSETTO:+0100
TZNAME:CET
DTSTART:20251026T010000
END:STANDARD
END:VTIMEZONE
BEGIN:VEVENT
DTSTART;TZID=America/Martinique:20240904T150000
DTEND;TZID=America/Martinique:20240904T180000
DTSTAMP:20260419T170227
CREATED:20240828T185030Z
LAST-MODIFIED:20251109T211145Z
UID:10015099-1725462000-1725472800@www.buzzmagmartinique.com
SUMMARY:SOIRÉE DJ "SKYLINE" AU P'TIT BISTRO\, FORT DE FRANCE
DESCRIPTION:Le P’tit Bistro\, 136 route des Religieuses\, Fort de France\, 0696 68 50 05 \n \n 
URL:https://www.buzzmagmartinique.com/evenement/soiree-dj-skyline-au-ptit-bistro-fort-de-france/
LOCATION:Le P’tit Bistro\, 136 route des Religieuses\, Fort de France\, 97200
CATEGORIES:Soirée
ATTACH;FMTTYPE=image/webp:https://www.buzzmagmartinique.com/wp-content/uploads/2024/08/e353d5c701149d0854ad0e42d816946b_700_600_landscape_971.webp
ORGANIZER;CN="Le P'tit Bistro":MAILTO:leptitbistrofoyal@gmail.com
END:VEVENT
BEGIN:VEVENT
DTSTART;TZID=America/Martinique:20240907T083000
DTEND;TZID=America/Martinique:20240907T100000
DTSTAMP:20260419T170227
CREATED:20240906T154657Z
LAST-MODIFIED:20260326T145524Z
UID:10015131-1725697800-1725703200@www.buzzmagmartinique.com
SUMMARY:MUSIQUE LIVE ROCK POP SOUL "NO NAME" À BENZEL BRASSERIE\, RIVIÈRE SALÉE
DESCRIPTION:L’abus d’alcool est dangereux pour la santé\, à consommer avec modération.\n\nBenzel Brasserie\, 170 All. Tertulien Monta\, Rivière-Salée \n \n  \n 
URL:https://www.buzzmagmartinique.com/evenement/musique-live-rock-pop-soul-no-name-a-benzel-brasserie-riviere-salee/
LOCATION:Benzel Brasserie\, 170 All. Tertulien Monta\, Rivière-Salée\, 97215\, Martinique
CATEGORIES:Soirée
ATTACH;FMTTYPE=image/webp:https://www.buzzmagmartinique.com/wp-content/uploads/2024/09/650837243_122225438258101509_6880682925077610277_n.webp
ORGANIZER;CN="Ma Pause Mieux %C3%8Atre":MAILTO:contact@mapausemieuxetre.fr
END:VEVENT
BEGIN:VEVENT
DTSTART;TZID=Europe/Paris:20240921T090000
DTEND;TZID=Europe/Paris:20240921T170000
DTSTAMP:20260419T170227
CREATED:20240919T215735Z
LAST-MODIFIED:20251202T172651Z
UID:10015313-1726909200-1726938000@www.buzzmagmartinique.com
SUMMARY:SOIRÉE RE OPENING À LE SPOT\, FORT DE FRANCE
DESCRIPTION:Le Spot\, 74 rue Ernest Desproges\, Fort de France
URL:https://www.buzzmagmartinique.com/evenement/soiree-re-opening-a-le-spot-fort-de-france/
LOCATION:Le Spot\, 74 rue Ernest Desproges\, Fort de France\, 97200\, Martinique
CATEGORIES:Soirée
ATTACH;FMTTYPE=image/webp:https://www.buzzmagmartinique.com/wp-content/uploads/2024/09/81673292ae9388b38652bcde00cfcb17_700_800_auto_97.webp
END:VEVENT
END:VCALENDAR