BEGIN:VCALENDAR
VERSION:2.0
PRODID:-//Buzzmag - ECPv6.15.20//NONSGML v1.0//EN
CALSCALE:GREGORIAN
METHOD:PUBLISH
X-WR-CALNAME:Buzzmag
X-ORIGINAL-URL:https://www.buzzmagmartinique.com
X-WR-CALDESC:Évènements pour Buzzmag
REFRESH-INTERVAL;VALUE=DURATION:PT1H
X-Robots-Tag:noindex
X-PUBLISHED-TTL:PT1H
BEGIN:VTIMEZONE
TZID:Europe/Paris
BEGIN:DAYLIGHT
TZOFFSETFROM:+0100
TZOFFSETTO:+0200
TZNAME:CEST
DTSTART:20250330T010000
END:DAYLIGHT
BEGIN:STANDARD
TZOFFSETFROM:+0200
TZOFFSETTO:+0100
TZNAME:CET
DTSTART:20251026T010000
END:STANDARD
BEGIN:DAYLIGHT
TZOFFSETFROM:+0100
TZOFFSETTO:+0200
TZNAME:CEST
DTSTART:20260329T010000
END:DAYLIGHT
BEGIN:STANDARD
TZOFFSETFROM:+0200
TZOFFSETTO:+0100
TZNAME:CET
DTSTART:20261025T010000
END:STANDARD
BEGIN:DAYLIGHT
TZOFFSETFROM:+0100
TZOFFSETTO:+0200
TZNAME:CEST
DTSTART:20270328T010000
END:DAYLIGHT
BEGIN:STANDARD
TZOFFSETFROM:+0200
TZOFFSETTO:+0100
TZNAME:CET
DTSTART:20271031T010000
END:STANDARD
END:VTIMEZONE
BEGIN:VTIMEZONE
TZID:America/Martinique
BEGIN:STANDARD
TZOFFSETFROM:-0400
TZOFFSETTO:-0400
TZNAME:AST
DTSTART:20250101T000000
END:STANDARD
END:VTIMEZONE
BEGIN:VEVENT
DTSTART;TZID=Europe/Paris:20260502T073000
DTEND;TZID=Europe/Paris:20260502T120000
DTSTAMP:20260421T181355
CREATED:20250705T121929Z
LAST-MODIFIED:20250705T122043Z
UID:10047420-1777707000-1777723200@www.buzzmagmartinique.com
SUMMARY:MARCHÉ AGRICOLE À LAKOU SAINT GEORGES DE LA BATELIÈRE\, SCHOELCHER
DESCRIPTION:Lakou Saint Georges de Batelière\, en face de l’école primaire de Batelière\, Schoelcher \n \n  \n 
URL:https://www.buzzmagmartinique.com/evenement/marche-agricole-a-lakou-saint-georges-de-la-bateliere-schoelcher-2-2-2/2026-05-02/
CATEGORIES:Environnement,Marché,Santé
ATTACH;FMTTYPE=image/webp:https://www.buzzmagmartinique.com/wp-content/uploads/2025/02/IMG-20250704-WA0007.webp
END:VEVENT
BEGIN:VEVENT
DTSTART;TZID=America/Martinique:20260502T140000
DTEND;TZID=America/Martinique:20260502T170000
DTSTAMP:20260421T181355
CREATED:20250714T140322Z
LAST-MODIFIED:20260417T130009Z
UID:10051261-1777730400-1777741200@www.buzzmagmartinique.com
SUMMARY:CERCLE DE CHANT & DE SOIN COLLECTIF AU TOM\, FORT DE FRANCE
DESCRIPTION:  \n \n \n \n\nTOM\, Téat’ Otonom Mawon \, Croix Mission\, Boulevard du Général de Gaulle\, 122 rue Victor Sévère\, Fort de France
URL:https://www.buzzmagmartinique.com/evenement/cercle-de-chant-de-soin-collectif-au-tom-fort-de-france/
LOCATION:TOM\, Téat’ Otonom Mawon\, Croix Mission\, Boulevard du Général de Gaulle\, Fort de France\, 97200\, Martinique
CATEGORIES:Art & Culture,Santé
ATTACH;FMTTYPE=image/webp:https://www.buzzmagmartinique.com/wp-content/uploads/2025/07/IMG-20260416-WA0001.webp
END:VEVENT
END:VCALENDAR