BEGIN:VCALENDAR
VERSION:2.0
PRODID:-//Buzzmag - ECPv6.15.20//NONSGML v1.0//EN
CALSCALE:GREGORIAN
METHOD:PUBLISH
X-WR-CALNAME:Buzzmag
X-ORIGINAL-URL:https://www.buzzmagmartinique.com
X-WR-CALDESC:Évènements pour Buzzmag
REFRESH-INTERVAL;VALUE=DURATION:PT1H
X-Robots-Tag:noindex
X-PUBLISHED-TTL:PT1H
BEGIN:VTIMEZONE
TZID:Europe/Paris
BEGIN:DAYLIGHT
TZOFFSETFROM:+0100
TZOFFSETTO:+0200
TZNAME:CEST
DTSTART:20250330T010000
END:DAYLIGHT
BEGIN:STANDARD
TZOFFSETFROM:+0200
TZOFFSETTO:+0100
TZNAME:CET
DTSTART:20251026T010000
END:STANDARD
BEGIN:DAYLIGHT
TZOFFSETFROM:+0100
TZOFFSETTO:+0200
TZNAME:CEST
DTSTART:20260329T010000
END:DAYLIGHT
BEGIN:STANDARD
TZOFFSETFROM:+0200
TZOFFSETTO:+0100
TZNAME:CET
DTSTART:20261025T010000
END:STANDARD
BEGIN:DAYLIGHT
TZOFFSETFROM:+0100
TZOFFSETTO:+0200
TZNAME:CEST
DTSTART:20270328T010000
END:DAYLIGHT
BEGIN:STANDARD
TZOFFSETFROM:+0200
TZOFFSETTO:+0100
TZNAME:CET
DTSTART:20271031T010000
END:STANDARD
END:VTIMEZONE
BEGIN:VEVENT
DTSTART;TZID=Europe/Paris:20260423T080000
DTEND;TZID=Europe/Paris:20260423T140000
DTSTAMP:20260423T144847
CREATED:20250203T200054Z
LAST-MODIFIED:20260413T143316Z
UID:10065606-1776931200-1776952800@www.buzzmagmartinique.com
SUMMARY:VISITE DE L'ÉCO-LIEU DE TIVOLI\, FORT DE FRANCE
DESCRIPTION:6 000 m²\, 150 espèces de plantes médicinales. \nPouvoir fournir à la population des alternatives en cas de catastrophes majeures\, faire perdurer la tradition de la médecine des plantes. \nLes travaux s’appuient tout de même sur des tests scientifiques \n\n\nLa zone de compostage\n\n\n\n\n\n\n\n\n\n\n\n\n\n\n\n\n\n\n\nLe compost est une matière organique issue de la décomposition des végétaux\, des déchets de table et éventuellement de déjections animales. Bien réalisé\, il est l’allié indispensable de vos cultures car il contient pratiquement tout ce dont vos plantes ont besoin. Les nutriments contenus dans les biodéchets en se décomposant\, deviennent assimilables par les plantes cultivées au jardin et on peut ainsi les recycler. C’est pour quoi\, l’association a mis en place une zone de compostage de proximité. Cette zone permet d’accueillir les sacs de tonte (utilisés pour le paillage)\, mais aussi les déchets verts issus du jardin. \nIl faut savoir que cet espace est ouvert à certaines entreprises et aux particuliers souhaitant y déposer leur sacs de tonte ou déchets verts ! \nAttention\, les troncs et palettes ne sont pas acceptés ! \n\n\n\n\n\n\n\n\n\n\n\n\n\n\n\n\n\n\n\n\n\nLe parcours pédagogique & le parcours sensoriel\n\n\n\n\n\n\n\n\nC’est en longeant les berges de la rivière Madame\, que vous découvrirez le parcours pédagogique. Celui-ci a été réalisé afin de sensibiliser la population à la richesse de la biodiversité urbaine. 18 panneaux pédagogiques permettent de découvrir la faune et la flore présente sur le site. \nIl est en libre accès toute l’année\, et permet d’en apprendre plus sur les éco-gestes\, les milieux aquatiques\, ainsi que les espèces endémiques et les espèces exotiques envahissantes présentes en Martinique\, tout en profitant d’un coin de frâicheur et de nature à proximité de la ville. \nDepuis mars 2022\, un parcours sensoriel vient compléter cet espace\, dans le but de stimuler les sens et de se reconnecter avec la Nature. Sur ce parcours\, les sens du toucher\, de l’ouïe\, de l’odorat et la vision des promeneurs seront en éveil\, grâce aux différentes textures\, odeurs et sons. \n\n\n\n\n\n\n\n\n\n\n\n\n\n\n\n\n\n\n\n\n\n\nLa plantothèque médicinale  \n\n\n\n\n\n\n\n\n\nLa plantothèque de l’Ecolieu de Tivoli regroupe une centaine de plantes que l’on peut retrouver en Martinique. Chaque plante est identifiée et accompagnée d’un panneau pédagogique sur ses utilisations médicinales et leur validation scientifique (ou non) par le réseau TRAMIL. N’hésitez pas par la suite\, à faire un tour dans la pépinière de notre plantothèque\, où il est possible d’acheter des plantes en pot. \nCe projet de plantothèque médicinale d’urgence est un projet d’envergure pour l’association. Suite à la création de la plantothèque du site de Tivoli\, le projet OSAIN développé en partenariat avec le Parc Naturel Régional de Martinique a permis la création d’une quinzaine de plantothèques dans différents lieux à tavers la Martinique\, tel que des écoles\, des jardins publics et bien d’autres. \n\n\n\n\n\n\n\n\n\n\n\n\n\n\n\n\n\n\n\n\n\n\nL’Aquaponie  \n\n\n\n\n\n\n\n\n\nL’aquaponie est un système qui vise à mettre en synergie la culture de plantes et l’élevage de poissons. Les poissons apportent de la matière azotée par leurs déjections et nourissent ainsi les plantes. Et les plantes\, quant à elle\, permettent d’épurer l’eau qui retourne dans le bac des poissons. \nLe système mis en place compte deux petits bacs à but expérimental. Un projet de plus grande envergure est en chantier afin de mettre en place une piscine en aquaponie ! \n\n\n\n\n\n\n\n\n\n\n\n\n\n\n\n\nLe Jardin vivrier \n\n\n\n\n\n\n\n\n\nLe potager présent sur le site de Tivoli a pour but de permettre à l’association d’expérimenter des techniques agroécologiques tel que les associations et rotation d’espèces végétales. \nEntretenues sans pesticide ni engrais chimique\, les parcelles permettent aux visiteurs de découvrir des fruits et légumes locaux. \n\n\n\n\n\n\n\nOuvert du lundi au samedi de 8h à 14h.\n\n\n\n\n\nL’association CCPYPM – Centre de culture populaire Ypiranga de Pastinha Martinique a pour but de promouvoir une agriculture urbaine\, protectrice de la biodiversité\, créatrice d’un rapprochement entre l’homme et la nature et porteuse d’un mieux vivre social.CCPYPM vise à favoriser la cohésion sociale et l’insertion par le travail et gère actuellement deux sites : le Jardin urbain partagé expérimental de Trenelle Citron et l’Ecolieu de Tivoli. Au-delà\, CCPYPM anime les Jaden Lanmou au quartier de Terres Sainville\, intervient dans deux jardins autonomes avec système d’aquaponie et poulailler au Centre pénitentiaire de Ducos\, assure la livraison gratuite d’aide alimentaire -légumes et fruits frais- et une veille sociale au public bénéficiaire.\nCCPYPM rayonne aussi sur toute l’île via l’animation de réseau d’initiatives et d’essaimages de jardins partagés et de plantothèques de plantes médicinales. \nWHATSAPP 0696 19 78 92. FB Le jardin partagé de Trénelle Citron. \nÉco-lieu de Tivoli\, Chemin Desbrosses La Vallée Carrefour Tivoli\, Fort de France\, 0696 19 78 92 \n \n\n\n\n\n\n\n 
URL:https://www.buzzmagmartinique.com/evenement/visite-de-leco-lieu-de-tivoli-fort-de-france/2026-04-23/
LOCATION:Plantothèque École d’Urgence de Tivoli CCPYPM\, Chemin Desbrosses La Vallée Carrefour Tivoli\, Fort de France\, 972700
CATEGORIES:Environnement,Santé,Science
ATTACH;FMTTYPE=image/webp:https://www.buzzmagmartinique.com/wp-content/uploads/2025/02/ECOLIEU-DE-TIVOLI.webp
ORGANIZER;CN="Le Jardin partag%C3%A9 de Tr%C3%A9nelle Citron":MAILTO:ypirangamartinique@gmail.com
END:VEVENT
END:VCALENDAR