BEGIN:VCALENDAR
VERSION:2.0
PRODID:-//Buzzmag - ECPv6.15.20//NONSGML v1.0//EN
CALSCALE:GREGORIAN
METHOD:PUBLISH
X-WR-CALNAME:Buzzmag
X-ORIGINAL-URL:https://www.buzzmagmartinique.com
X-WR-CALDESC:Évènements pour Buzzmag
REFRESH-INTERVAL;VALUE=DURATION:PT1H
X-Robots-Tag:noindex
X-PUBLISHED-TTL:PT1H
BEGIN:VTIMEZONE
TZID:America/Martinique
BEGIN:STANDARD
TZOFFSETFROM:-0400
TZOFFSETTO:-0400
TZNAME:AST
DTSTART:20250101T000000
END:STANDARD
END:VTIMEZONE
BEGIN:VTIMEZONE
TZID:Europe/Paris
BEGIN:DAYLIGHT
TZOFFSETFROM:+0100
TZOFFSETTO:+0200
TZNAME:CEST
DTSTART:20250330T010000
END:DAYLIGHT
BEGIN:STANDARD
TZOFFSETFROM:+0200
TZOFFSETTO:+0100
TZNAME:CET
DTSTART:20251026T010000
END:STANDARD
BEGIN:DAYLIGHT
TZOFFSETFROM:+0100
TZOFFSETTO:+0200
TZNAME:CEST
DTSTART:20260329T010000
END:DAYLIGHT
BEGIN:STANDARD
TZOFFSETFROM:+0200
TZOFFSETTO:+0100
TZNAME:CET
DTSTART:20261025T010000
END:STANDARD
BEGIN:DAYLIGHT
TZOFFSETFROM:+0100
TZOFFSETTO:+0200
TZNAME:CEST
DTSTART:20270328T010000
END:DAYLIGHT
BEGIN:STANDARD
TZOFFSETFROM:+0200
TZOFFSETTO:+0100
TZNAME:CET
DTSTART:20271031T010000
END:STANDARD
END:VTIMEZONE
BEGIN:VTIMEZONE
TZID:Europe/Paris
BEGIN:DAYLIGHT
TZOFFSETFROM:+0100
TZOFFSETTO:+0200
TZNAME:CEST
DTSTART:20250330T010000
END:DAYLIGHT
BEGIN:STANDARD
TZOFFSETFROM:+0200
TZOFFSETTO:+0100
TZNAME:CET
DTSTART:20251026T010000
END:STANDARD
BEGIN:DAYLIGHT
TZOFFSETFROM:+0100
TZOFFSETTO:+0200
TZNAME:CEST
DTSTART:20260329T010000
END:DAYLIGHT
BEGIN:STANDARD
TZOFFSETFROM:+0200
TZOFFSETTO:+0100
TZNAME:CET
DTSTART:20261025T010000
END:STANDARD
BEGIN:DAYLIGHT
TZOFFSETFROM:+0100
TZOFFSETTO:+0200
TZNAME:CEST
DTSTART:20270328T010000
END:DAYLIGHT
BEGIN:STANDARD
TZOFFSETFROM:+0200
TZOFFSETTO:+0100
TZNAME:CET
DTSTART:20271031T010000
END:STANDARD
END:VTIMEZONE
BEGIN:VEVENT
DTSTART;TZID=America/Martinique:20260429T134500
DTEND;TZID=America/Martinique:20260429T174500
DTSTAMP:20260423T145939
CREATED:20250203T185224Z
LAST-MODIFIED:20250925T122540Z
UID:10073566-1777470300-1777484700@www.buzzmagmartinique.com
SUMMARY:ATELIERS CULTURE CHINOISE AU TOM\, FORT DE FRANCE
DESCRIPTION:TOM\, Téat’ Otonom Mawon \, Croix Mission\, Boulevard du Général de Gaulle\, 122 rue Victor Sévère\, Fort de France
URL:https://www.buzzmagmartinique.com/evenement/ateliers-culture-chinoise-au-tom-fort-de-france/2026-04-29/
LOCATION:TOM\, Téat’ Otonom Mawon\, Croix Mission\, Boulevard du Général de Gaulle\, Fort de France\, 97200\, Martinique
CATEGORIES:Art & Culture,Jeune public
ATTACH;FMTTYPE=image/webp:https://www.buzzmagmartinique.com/wp-content/uploads/2025/02/IMG-20250924-WA0031.webp
END:VEVENT
BEGIN:VEVENT
DTSTART;TZID=America/Martinique:20260429T140000
DTEND;TZID=America/Martinique:20260429T170000
DTSTAMP:20260423T145939
CREATED:20221219T130846Z
LAST-MODIFIED:20250828T122545Z
UID:10067333-1777471200-1777482000@www.buzzmagmartinique.com
SUMMARY:ATELIERS CRÉATIFS "LES MERCREDIS CRÉATIFS - LA MER" À L'ESPACE CULTUREL EUGÈNE MONA\, LE MARIGOT
DESCRIPTION:  \n\nL’Espace Culturel Eugène Mona\, Le Marigot
URL:https://www.buzzmagmartinique.com/evenement/ateliers-creatifs-les-mercredis-creatifs-la-mer-a-lespace-culturel-eugene-mona-le-marigot/2026-04-29/
LOCATION:Espace Culturel Eugène Mona\, Le Marigot\, 97225\, Martinique
CATEGORIES:Art & Culture,Jeune public
ATTACH;FMTTYPE=image/webp:https://www.buzzmagmartinique.com/wp-content/uploads/2022/12/518411488_1158609619628810_5857284620373182325_n1.webp
END:VEVENT
BEGIN:VEVENT
DTSTART;TZID=Europe/Paris:20260429T150000
DTEND;TZID=Europe/Paris:20260429T170000
DTSTAMP:20260423T145939
CREATED:20250725T120441Z
LAST-MODIFIED:20260423T122946Z
UID:10013477-1777474800-1777482000@www.buzzmagmartinique.com
SUMMARY:ATELIER CRÉATIF "VOYAGE DANS LA GALAXIE" À LA MÉDIATHÈQUE AMD\, LE SAINT ESPRIT
DESCRIPTION:Embarquez pour un Atelier Créatif « Voyage dans la Galaxie » ce mercredi 29 avril de 15h a 17h.Un après-midi ludique et coloré pour laisser parler l’imagination des enfants à travers créations\, découvertes et étoiles plein les yeux !Gratuit – Places limitéesInscriptions : 0596 61 00 07Prêts pour un voyage créatif intergalactique ? \n\nMédiathèque Alfred Melon-Dégras\, rue Schoelcher\, Saint Esprit\, 0596 61 00 07
URL:https://www.buzzmagmartinique.com/evenement/atelier-creatif-voyage-dans-la-galaxie-a-la-mediatheque-amd-le-saint-esprit/
LOCATION:Médiathèque Alfred Melon-Dégras\, Rue Schoelcher\, Le Saint Esprit\, 97270\, Martinique
CATEGORIES:Jeune public
ATTACH;FMTTYPE=image/webp:https://www.buzzmagmartinique.com/wp-content/uploads/2025/07/676775109_1382460360576344_6659585987099899595_n.webp
END:VEVENT
BEGIN:VEVENT
DTSTART;TZID=America/Martinique:20260430T190000
DTEND;TZID=America/Martinique:20260430T210000
DTSTAMP:20260423T145939
CREATED:20240916T152305Z
LAST-MODIFIED:20260409T163149Z
UID:10015270-1777575600-1777582800@www.buzzmagmartinique.com
SUMMARY:CONTES À LA PLEINE LUNE PAR AMI À LA MAISON DES VOLCANS\, LE MORNE ROUGE
DESCRIPTION:CONTES À LA PLEINE LUNE ! \nVenez écouter les Artistes AMI vous conter leurs plus belles histoires à la lumière de l’astre lunaire. \nDevant la Maison des Volcans\, Ville du Morne-Rouge \nÀ partir de 5 ans\nEntrée : Participation libre\nApportez ti ban\, tapis\, coussin\, chaise… \n+596 696 455 150\nMessage WhatsApp ou texto \n  \n\nAMI\, Association Martinique Images\, +596 696 455 150
URL:https://www.buzzmagmartinique.com/evenement/contes-a-la-pleine-lune-par-ami-a-la-maison-des-volcans-le-morne-rouge/
CATEGORIES:Art & Culture,Jeune public
ATTACH;FMTTYPE=image/webp:https://www.buzzmagmartinique.com/wp-content/uploads/2024/09/668782694_1405697744933967_8002639474484974596_n.webp
ORGANIZER;CN="AMI - Association Martinique Images":MAILTO:association.martinique.images@gmail.com
END:VEVENT
BEGIN:VEVENT
DTSTART;VALUE=DATE:20260502
DTEND;VALUE=DATE:20260504
DTSTAMP:20260423T145939
CREATED:20180930T145141Z
LAST-MODIFIED:20260421T165412Z
UID:10012834-1777680000-1777852799@www.buzzmagmartinique.com
SUMMARY:FÊTE PATRONALE DE SAINT JOSEPH
DESCRIPTION:SAINT-JOSEPH ENTRE EN FÊTE ! \nLes 2 & 3 mai\, la Place des Fêtes vibrera au rythme de la Fête patronale de Saint-Joseph \nDeux jours de shows\, de danse\, de culture et de partage\, pour petits et grands ! \nSur scène\, une programmation explosive avec notamment:\nKRYS Officiel\, Anccy Clet\, PRINCESS LOVER\, Shanika\, Panik-J\, le Ballet Pomkanel\, Ti Kréol\, Chouval Bwa\, Difé Soukouss\, Le Ballet Exotic\, Gwanaval\, OGB\, Kay Man Frouch\, Thierry Adele \nEt bien d’autres surprises… \n  \n\nVille de Saint Joseph
URL:https://www.buzzmagmartinique.com/evenement/fete-patronale-de-saint-joseph/
CATEGORIES:Art & Culture,Jeune public
ATTACH;FMTTYPE=image/webp:https://www.buzzmagmartinique.com/wp-content/uploads/2018/09/678600480_1595212739276345_4086740335314680049_n1.webp
END:VEVENT
BEGIN:VEVENT
DTSTART;TZID=Europe/Paris:20260502T140000
DTEND;TZID=Europe/Paris:20260502T180000
DTSTAMP:20260423T145939
CREATED:20240624T113949Z
LAST-MODIFIED:20260420T143504Z
UID:10012883-1777730400-1777744800@www.buzzmagmartinique.com
SUMMARY:BASKETBALL "TROPHÉE SAINT‑ANGE VEBOBE" PAR LE GOLDEN LION BASKETBALL AU PLATEAU LOUIS JOSEPH NAPOL\, SAINT JOSEPH
DESCRIPTION:FÊTE DU MINI‑BASKET – TROPHÉE SAINT‑ANGE VEBOBE \nDans le cadre de la Fête patronale de Saint‑Joseph\, la Ville vous donne rendez‑vous pour une grande journée dédiée au mini‑basket avec le Golden Lion Basketball. \nCatégories : U9 / U11 / U13 M\nClubs invités de toute la Martinique\nPrésence de personnalités du basketball\nAnimations & buvette sur place \nUn après‑midi sportif\, festif et convivial pour les jeunes basketteurs et leurs familles. \n  \n\nGolden Lion Basketball\, Quartier Belle Étoile\, Saint Joseph \n \n  \nVille de Saint Joseph \n \n  \n  \n 
URL:https://www.buzzmagmartinique.com/evenement/basketball-trophee-saint-ange-vebobe-par-le-golden-lion-basketball-au-plateau-louis-joseph-napol-saint-joseph/
CATEGORIES:Jeune public,Sport
ATTACH;FMTTYPE=image/webp:https://www.buzzmagmartinique.com/wp-content/uploads/2024/06/05-02-SAINT-JOSEPH.webp
END:VEVENT
BEGIN:VEVENT
DTSTART;TZID=Europe/Paris:20260505T170000
DTEND;TZID=Europe/Paris:20260505T183000
DTSTAMP:20260423T145939
CREATED:20220929T154532Z
LAST-MODIFIED:20260402T144315Z
UID:10074181-1778000400-1778005800@www.buzzmagmartinique.com
SUMMARY:ATELIERS BIEN-ÊTRE & LUDIQUE POUR ENFANTS À L'ESPACE COSMIK\, LE CARBET
DESCRIPTION:  \nMon Moment Magique Juniors – Ateliers bien-être (6-11 ans)  \nChaque 1er mardi du mois\, 1h30 pour s’amuser\, se détendre et développer confiance\, créativité et empathie. \nTarif solidaire : prix indicatif 20 €/atelier ou 160 €/abonnement 10 ateliers. Chacun participe selon ses moyens. Vos contributions permettent que tous les enfants puissent participer et financent des actions gratuites de soutien à la parentalité. \nPlaces limitées \nInscrivez votre enfant ici \nOn a hâte de partager ces moments magiques avec vos enfants ! \nContact : 0696 52 57 90\nEmail : mabullemagique@yahoo.com \n  \n\nEspace Cosmik\, route des Pitons\, Le Carbet
URL:https://www.buzzmagmartinique.com/evenement/ateliers-bien-etre-ludique-pour-enfants-a-lespace-cosmik-le-carbet/2026-05-05/
LOCATION:L’Espace Cosmik\, route des Pitons\, Le Carbet\, 97204\, Martinique
CATEGORIES:Jeune public
ATTACH;FMTTYPE=image/webp:https://www.buzzmagmartinique.com/wp-content/uploads/2022/09/IMG-20260401-WA0029.webp
END:VEVENT
BEGIN:VEVENT
DTSTART;TZID=Europe/Paris:20260509T063000
DTEND;TZID=Europe/Paris:20260510T170000
DTSTAMP:20260423T145939
CREATED:20220221T182809Z
LAST-MODIFIED:20260422T142057Z
UID:10003152-1778308200-1778432400@www.buzzmagmartinique.com
SUMMARY:SEMAINE DE L'AGRICULTURE "LONJ AN TOUT SOS"\, SAINTE MARIE
DESCRIPTION:  \n𝟲𝗘𝗠𝗘 𝗘𝗗𝗜𝗧𝗜𝗢𝗡 𝗗𝗘 𝗟𝗔 𝗦𝗘𝗠𝗔𝗜𝗡𝗘 𝗗𝗘 𝗟’𝗔𝗚𝗥𝗜𝗖𝗨𝗟𝗧𝗨𝗥𝗘 𝗔 𝗦𝗔𝗜𝗡𝗧𝗘-𝗠𝗔𝗥𝗜𝗘\nDu 3 au 10 mai \n« 𝗟𝗼𝗻𝗷 𝗮𝗻 𝘁𝗼𝘂𝘁 𝘀𝗼𝘀 » \n𝗟𝘆𝗮𝗻𝗻𝗮𝗷 𝗠𝗮𝘁𝗶𝗻𝗶𝗸/𝗚𝘄𝗮𝗱𝗹𝗼𝘂𝗽 \nEn invitée d’honneur:\n𝗬𝗮𝘆𝗮 𝗙𝗹𝗲𝘂𝗿\, 𝗮𝘃𝗲𝗰 𝘀𝗼𝗻 𝘁𝗿𝗮𝗱𝗶𝘁𝗶𝗼𝗻𝗻𝗲𝗹 𝗕É𝗕É𝗟É \n– 𝗗𝗶𝗺𝗮𝗻𝗰𝗵𝗲 𝟯 𝗺𝗮𝗶 : balade\, initiation Bèlè et déjeuner dans les jardins de l’habitation la Merveilleuse (places limitées).\n– 𝗝𝗲𝘂𝗱𝗶 𝟳 𝗺𝗮𝗶 𝗰𝗼𝗻𝗳𝗲𝗿𝗲𝗻𝗰𝗲 𝗱𝗲𝗯𝗮𝘁 : « 𝗟𝗮 𝗟𝗼𝗻𝗴𝗲\, 𝘀𝗲𝘀 𝘂𝘀𝗮𝗴𝗲𝘀 𝗲𝘁 𝘀𝗲𝘀 𝘃𝗲𝗿𝘁𝘂𝘀 » avec M. Gerard Sainte-Rose au domaine de Fond Saint Jacques.\n– 𝟵 𝗲𝘁 𝟭𝟬 𝗺𝗮𝗶 grand village de la 𝗙𝗢𝗜𝗥𝗘 𝗔𝗚𝗥𝗜𝗖𝗢𝗟𝗘 avec des animations / jeux\, expositions ventes\, balades en poney \nDIMANCHE : Journée patrimoine:\n𝗣𝗼𝗿𝘁𝗲 𝘁𝗮 𝘁𝗼𝘂𝗰𝗵𝗲 𝗱𝗲 𝗺𝗮𝗱𝗿𝗮𝘀\nAnimations podium avec le 𝗕𝗮𝗹𝗹𝗲𝘁 𝗧𝗰𝗵è 𝗞𝗿𝗲𝗼𝗹\, 𝗸’𝘁𝗮𝗺 𝗽𝗲𝗿𝗸𝗶𝘀𝘆𝗼𝗻\, 𝗱é𝗳𝗶𝗹é 𝗮𝘃𝗲𝗰 𝗳𝗹𝗮𝗻𝗺 𝗸𝗿é𝗼𝗹\, 𝗧𝗶 𝗯𝘄𝗮𝘆 𝗕È𝗟È-𝗔 𝗲𝘁 𝘀𝗵𝗼𝘄 𝗲𝘅𝗰𝗲𝗽𝘁𝗶𝗼𝗻𝗻𝗲𝗹 𝗱𝗲 𝗕𝗢𝗥𝗜𝗦𝗣𝗘𝗥𝗖𝗨𝗦 \nUne action 𝗹𝗮𝗯𝗲𝗹𝗹𝗶𝘀𝗲𝗲 𝗖𝗮𝗽 𝗡𝗼𝗿𝗱.\nAvec le concours de la CTM\, MNA\, Saint—James et l ANCT\nservice développement économique: 0596 695 510 \n\nVille de Sainte Marie \n \n 
URL:https://www.buzzmagmartinique.com/evenement/semaine-de-lagriculture-lonj-an-tout-sos-sainte-marie/
CATEGORIES:Art & Culture,Gastronomie,Jeune public,Marché
ATTACH;FMTTYPE=image/webp:https://www.buzzmagmartinique.com/wp-content/uploads/2022/02/678593153_1295755949241813_116232039983579846_n.webp
END:VEVENT
BEGIN:VEVENT
DTSTART;TZID=Europe/Paris:20260510T060000
DTEND;TZID=Europe/Paris:20260510T235900
DTSTAMP:20260423T145939
CREATED:20240802T120807Z
LAST-MODIFIED:20260421T133241Z
UID:10013568-1778392800-1778457540@www.buzzmagmartinique.com
SUMMARY:VERT-PRÉ EN FÊTE\, LE ROBERT
DESCRIPTION:𝐓𝐑𝐎𝐏𝐈𝐂𝐀𝐋 𝐖𝐎𝐎𝐃 𝐌𝐎𝐑𝐍𝐈𝐍𝐆 : randonnée pédestre\n\n𝐅𝐎𝐈𝐑𝐄 𝐀𝐆𝐑𝐈𝐂𝐎𝐋𝐄 : production locale\n\n𝐂𝐄𝐑𝐄𝐌𝐎𝐍𝐈𝐄 𝐎𝐅𝐅𝐈𝐂𝐈𝐄𝐋𝐋𝐄 : messe\, dépôt de gerbe\, défilé\, allocutions\n\n𝐁𝐀𝐋 𝐏𝐎𝐏𝐔𝐋𝐀𝐈𝐑𝐄 : pôt de l’amitié en musique\n\n𝐋𝐀𝐊𝐎𝐔 𝐋𝐄𝐊𝐎𝐋 : animations pour enfants\n\n𝐋𝐀 𝐏𝐈𝐏𝐎’𝐋 : dj\, live\, danse\, show case\, food trucks\, bar à cocktail\n\n\n\n\n\n\nVille du Robert
URL:https://www.buzzmagmartinique.com/evenement/vert-pre-en-fete-le-robert/
CATEGORIES:Art & Culture,Jeune public,Sport
ATTACH;FMTTYPE=image/webp:https://www.buzzmagmartinique.com/wp-content/uploads/2024/08/IMG-20260420-WA0003.webp
END:VEVENT
BEGIN:VEVENT
DTSTART;TZID=Europe/Paris:20260513T133000
DTEND;TZID=Europe/Paris:20260513T170000
DTSTAMP:20260423T145939
CREATED:20250106T201109Z
LAST-MODIFIED:20250908T161833Z
UID:10070154-1778679000-1778691600@www.buzzmagmartinique.com
SUMMARY:"LES MERCREDIS AU JARDIN" AU JARDIN PARTAGÉ TRÉNELLE-CITRON\, FORT DE FRANCE
DESCRIPTION:Venez jardiner\, bricoler \, récolter ou simplement (re) visiter le jardin partagé de Trénelle-Citron.\n\nL’association Ypiranga crée des lieux de vie\, de partage de savoirs botaniques\, culturels et techniques !\n\nPartageons\, investissez tous les deuxièmes mercredis du mois de 13h30 à 15h !\n\nL’entrée est libre et ouverte à tous.tes\, petits comme grands.\n\n\nPensez à ramener vos gants et vous vêtir d’un pantalon et de chaussures fermées. \n\n\n\n\n\n\nL’association CCPYPM – Centre de culture populaire Ypiranga de Pastinha Martinique a pour but de promouvoir une agriculture urbaine\, protectrice de la biodiversité\, créatrice d’un rapprochement entre l’homme et la nature et porteuse d’un mieux vivre social.CCPYPM vise à favoriser la cohésion sociale et l’insertion par le travail et gère actuellement deux sites : le Jardin urbain partagé expérimental de Trenelle Citron et l’Ecolieu de Tivoli. Au-delà\, CCPYPM anime les Jaden Lanmou au quartier de Terres Sainville\, intervient dans deux jardins autonomes avec système d’aquaponie et poulailler au Centre pénitentiaire de Ducos\, assure la livraison gratuite d’aide alimentaire -légumes et fruits frais- et une veille sociale au public bénéficiaire.\nCCPYPM rayonne aussi sur toute l’île via l’animation de réseau d’initiatives et d’essaimages de jardins partagés et de plantothèques de plantes médicinales. \nWHATSAPP 0696 19 78 92 \nAncienne carrière de Grosse Roche\, Trénelle Citron\, Fort de France\, 0696 19 78 92 \n \n\n\n\n\n\n\n 
URL:https://www.buzzmagmartinique.com/evenement/les-mercredis-au-jardin-au-jardin-partage-trenelle-citron-fort-de-france-2-2-2/2026-05-13/
LOCATION:Le Jardin Partagé de Trénelle Citron\, Ancienne carrière de Grosse Roche\, Trénelle Citron\, Fort-de-France\, 97200\, Martinique
CATEGORIES:Art & Culture,Environnement,Jeune public
ATTACH;FMTTYPE=image/webp:https://www.buzzmagmartinique.com/wp-content/uploads/2025/01/541979894_1078988577756051_1032774324344915593_n11111.webp
ORGANIZER;CN="Le Jardin partag%C3%A9 de Tr%C3%A9nelle Citron":MAILTO:ypirangamartinique@gmail.com
END:VEVENT
BEGIN:VEVENT
DTSTART;TZID=Europe/Paris:20260523T073000
DTEND;TZID=Europe/Paris:20260523T073000
DTSTAMP:20260423T145939
CREATED:20220307T135748Z
LAST-MODIFIED:20260417T183744Z
UID:10079021-1779521400-1779521400@www.buzzmagmartinique.com
SUMMARY:TRIATHLON "NOR K TRI" BOURG DU PRÊCHEUR
DESCRIPTION:Le Nor K Tri\, c’est aujourd’hui la seule compétition de triathlon au format S en Martinique.\n\nUn rendez-vous à part pour celles et ceux qui veulent passer un cap.3 formats Triathlon :\n8-11 ans : 100 m   2\,5 km  1 100 mXS (dès 12 ans) : 375 m   9 km   2\,5 kmS :  750 m   20 km   5 km\n\nIndividuel ou relais\n\n\nSupport Championnat MartiniqueUne course engagée\, une vraie ambiance terrain\, et un spot dépaysant au pied de la Pelée.Inscriptions ouvertes : https://forms.registration4all.com/…/Register_Sport…Code promo : CHODOUVAN\, valable jusqu’au 21 avril \n\n\n\n\n\n\nNatation/Vélo/Course à pied \n\nLigue de Triathlon de Martinique\, lrmartinique@fftri.com
URL:https://www.buzzmagmartinique.com/evenement/triathlon-nor-k-tri-bourg-du-precheur/
CATEGORIES:Jeune public,Sport
ATTACH;FMTTYPE=image/webp:https://www.buzzmagmartinique.com/wp-content/uploads/2022/03/05-23-TRIATHLON.webp
END:VEVENT
END:VCALENDAR