BEGIN:VCALENDAR
VERSION:2.0
PRODID:-//Buzzmag - ECPv6.15.20//NONSGML v1.0//EN
CALSCALE:GREGORIAN
METHOD:PUBLISH
X-WR-CALNAME:Buzzmag
X-ORIGINAL-URL:https://www.buzzmagmartinique.com
X-WR-CALDESC:Évènements pour Buzzmag
REFRESH-INTERVAL;VALUE=DURATION:PT1H
X-Robots-Tag:noindex
X-PUBLISHED-TTL:PT1H
BEGIN:VTIMEZONE
TZID:Europe/Paris
BEGIN:DAYLIGHT
TZOFFSETFROM:+0100
TZOFFSETTO:+0200
TZNAME:CEST
DTSTART:20250330T010000
END:DAYLIGHT
BEGIN:STANDARD
TZOFFSETFROM:+0200
TZOFFSETTO:+0100
TZNAME:CET
DTSTART:20251026T010000
END:STANDARD
BEGIN:DAYLIGHT
TZOFFSETFROM:+0100
TZOFFSETTO:+0200
TZNAME:CEST
DTSTART:20260329T010000
END:DAYLIGHT
BEGIN:STANDARD
TZOFFSETFROM:+0200
TZOFFSETTO:+0100
TZNAME:CET
DTSTART:20261025T010000
END:STANDARD
BEGIN:DAYLIGHT
TZOFFSETFROM:+0100
TZOFFSETTO:+0200
TZNAME:CEST
DTSTART:20270328T010000
END:DAYLIGHT
BEGIN:STANDARD
TZOFFSETFROM:+0200
TZOFFSETTO:+0100
TZNAME:CET
DTSTART:20271031T010000
END:STANDARD
END:VTIMEZONE
BEGIN:VTIMEZONE
TZID:America/Halifax
BEGIN:DAYLIGHT
TZOFFSETFROM:-0400
TZOFFSETTO:-0300
TZNAME:ADT
DTSTART:20250309T060000
END:DAYLIGHT
BEGIN:STANDARD
TZOFFSETFROM:-0300
TZOFFSETTO:-0400
TZNAME:AST
DTSTART:20251102T050000
END:STANDARD
BEGIN:DAYLIGHT
TZOFFSETFROM:-0400
TZOFFSETTO:-0300
TZNAME:ADT
DTSTART:20260308T060000
END:DAYLIGHT
BEGIN:STANDARD
TZOFFSETFROM:-0300
TZOFFSETTO:-0400
TZNAME:AST
DTSTART:20261101T050000
END:STANDARD
BEGIN:DAYLIGHT
TZOFFSETFROM:-0400
TZOFFSETTO:-0300
TZNAME:ADT
DTSTART:20270314T060000
END:DAYLIGHT
BEGIN:STANDARD
TZOFFSETFROM:-0300
TZOFFSETTO:-0400
TZNAME:AST
DTSTART:20271107T050000
END:STANDARD
END:VTIMEZONE
BEGIN:VEVENT
DTSTART;VALUE=DATE:20260430
DTEND;VALUE=DATE:20260511
DTSTAMP:20260421T112239
CREATED:20240627T115211Z
LAST-MODIFIED:20260331T181506Z
UID:10009059-1777507200-1778457599@www.buzzmagmartinique.com
SUMMARY:SAINT LUCIA JAZZ & ARTS FESTIVAL 2026\, SAINTE LUCIE
DESCRIPTION:Le compte à rebours est lancé. @saintluciajazzandartsfest \nLe Saint Lucia Jazz & Arts Festival 2026 s’annonce exceptionnel\, avec une programmation légendaire\, des performances inoubliables et une musique de classe mondiale. \nLe festival accueillera notamment Tems\, Skip Marley\, Capleton\, Tye Tribbett\, le Branford Marsalis Quartet\, Brandy et Monica\, Ella Mai\, Billy Ocean\, Esperanza Spalding\, et bien d’autres artistes. \nDes icônes internationales aux talents émergents\, cette édition promet des prestations puissantes\, une immersion dans la culture Sainte-Lucienne et une ambiance qui incarne le meilleur de Sainte-Lucie. \nBilletterie https://www.saintluciajazzandartsfestival.com/ \n\nSaint Lucia Jazz and Arts Festival\, +1 758-458-7101\, jazztickets@stlucia.org
URL:https://www.buzzmagmartinique.com/evenement/saint-lucia-jazz-arts-festival-2026-sainte-lucie/
CATEGORIES:Art & Culture
ATTACH;FMTTYPE=image/webp:https://www.buzzmagmartinique.com/wp-content/uploads/2024/06/619112479_1186421280144766_5695142590002338827_n.webp
ORGANIZER;CN="Saint Lucia Jazz and Arts Festival":MAILTO:jazztickets@stlucia.org
END:VEVENT
BEGIN:VEVENT
DTSTART;VALUE=DATE:20260501
DTEND;VALUE=DATE:20260511
DTSTAMP:20260421T112239
CREATED:20211109T121208Z
LAST-MODIFIED:20260126T124704Z
UID:10003043-1777593600-1778457599@www.buzzmagmartinique.com
SUMMARY:FESTIVAL INTERNATIONAL D'ART PERFORMANCE PAR FIAP MARTINIQUE
DESCRIPTION:Festival international d’art performance – Martinique (FIAP MQ) \n5e édition \n\n\n\n\n\n\nFIAP Martinique\, fiapmartinique@gmail.com
URL:https://www.buzzmagmartinique.com/evenement/festival-international-dart-performance-par-fiap-martinique/
CATEGORIES:Art & Culture
ATTACH;FMTTYPE=image/webp:https://www.buzzmagmartinique.com/wp-content/uploads/2021/11/Visuel-general_fiap-Mq-2026.webp
ORGANIZER;CN="FIAP Martinique":MAILTO:fiapmartinique@gmail.com
END:VEVENT
BEGIN:VEVENT
DTSTART;TZID=America/Halifax:20260504T080000
DTEND;TZID=America/Halifax:20260504T170000
DTSTAMP:20260421T112239
CREATED:20240820T075625Z
LAST-MODIFIED:20260413T211629Z
UID:10083245-1777881600-1777914000@www.buzzmagmartinique.com
SUMMARY:EXPOSITION "RECONSTRUCTION" AU MUSÉE DU PÈRE PINCHON\, FORT DE FRANCE
DESCRIPTION:« Reconstruction – le fascinant pouvoir du cerveau humain » \nLa CTM vous propose une balade… à l’intérieur du cerveau. \nVenez découvrir une exposition-parcours \nDu réflexe de survie jusqu’à la capacité de se reconstruire et d’agir\, au fil de ce circuit\, vous explorerez les mécanismes du psycho-traumatisme et de la résilience \nPlasticité et réorganisation \nUne expérience scientifique\, artistique et humaine à vivre à votre rythme\, comme une exploration du cerveau… et de nous-mêmes \n\nHoraire: Lundi\, Mercredi\, Jeudi\, Vendredi: 08h00–17h00 / Mardi : 14h00-17h00 / Samedi: 08h00–12h00 \nMusée du Père Pinchon\, 33 r du Professeur Raymond Garcin\, route de Didier\, Fort de France\, 0596 42 12 30
URL:https://www.buzzmagmartinique.com/evenement/exposition-reconstruction-au-musee-du-pere-pinchon-fort-de-france/2026-05-04/
LOCATION:Musée du Père Pinchon\, 33 r du Professeur Raymond Garcin\, route de Didier\, Fort de France\, 97200\, Martinique
CATEGORIES:Art & Culture,Science
ATTACH;FMTTYPE=image/webp:https://www.buzzmagmartinique.com/wp-content/uploads/2024/08/IMG-20260409-WA0008.webp
ORGANIZER;CN="CTM Collectivit%C3%A9 Territoriale de Martinique":MAILTO:courrier@ctm.mq
END:VEVENT
END:VCALENDAR