BEGIN:VCALENDAR
VERSION:2.0
PRODID:-//Buzzmag - ECPv6.15.20//NONSGML v1.0//EN
CALSCALE:GREGORIAN
METHOD:PUBLISH
X-WR-CALNAME:Buzzmag
X-ORIGINAL-URL:https://www.buzzmagmartinique.com
X-WR-CALDESC:Évènements pour Buzzmag
REFRESH-INTERVAL;VALUE=DURATION:PT1H
X-Robots-Tag:noindex
X-PUBLISHED-TTL:PT1H
BEGIN:VTIMEZONE
TZID:America/Martinique
BEGIN:STANDARD
TZOFFSETFROM:-0400
TZOFFSETTO:-0400
TZNAME:AST
DTSTART:20250101T000000
END:STANDARD
END:VTIMEZONE
BEGIN:VTIMEZONE
TZID:Europe/Paris
BEGIN:DAYLIGHT
TZOFFSETFROM:+0100
TZOFFSETTO:+0200
TZNAME:CEST
DTSTART:20250330T010000
END:DAYLIGHT
BEGIN:STANDARD
TZOFFSETFROM:+0200
TZOFFSETTO:+0100
TZNAME:CET
DTSTART:20251026T010000
END:STANDARD
BEGIN:DAYLIGHT
TZOFFSETFROM:+0100
TZOFFSETTO:+0200
TZNAME:CEST
DTSTART:20260329T010000
END:DAYLIGHT
BEGIN:STANDARD
TZOFFSETFROM:+0200
TZOFFSETTO:+0100
TZNAME:CET
DTSTART:20261025T010000
END:STANDARD
BEGIN:DAYLIGHT
TZOFFSETFROM:+0100
TZOFFSETTO:+0200
TZNAME:CEST
DTSTART:20270328T010000
END:DAYLIGHT
BEGIN:STANDARD
TZOFFSETFROM:+0200
TZOFFSETTO:+0100
TZNAME:CET
DTSTART:20271031T010000
END:STANDARD
END:VTIMEZONE
BEGIN:VTIMEZONE
TZID:Europe/Paris
BEGIN:DAYLIGHT
TZOFFSETFROM:+0100
TZOFFSETTO:+0200
TZNAME:CEST
DTSTART:20250330T010000
END:DAYLIGHT
BEGIN:STANDARD
TZOFFSETFROM:+0200
TZOFFSETTO:+0100
TZNAME:CET
DTSTART:20251026T010000
END:STANDARD
BEGIN:DAYLIGHT
TZOFFSETFROM:+0100
TZOFFSETTO:+0200
TZNAME:CEST
DTSTART:20260329T010000
END:DAYLIGHT
BEGIN:STANDARD
TZOFFSETFROM:+0200
TZOFFSETTO:+0100
TZNAME:CET
DTSTART:20261025T010000
END:STANDARD
BEGIN:DAYLIGHT
TZOFFSETFROM:+0100
TZOFFSETTO:+0200
TZNAME:CEST
DTSTART:20270328T010000
END:DAYLIGHT
BEGIN:STANDARD
TZOFFSETFROM:+0200
TZOFFSETTO:+0100
TZNAME:CET
DTSTART:20271031T010000
END:STANDARD
END:VTIMEZONE
BEGIN:VEVENT
DTSTART;VALUE=DATE:20260429
DTEND;VALUE=DATE:20260504
DTSTAMP:20260419T172316
CREATED:20240829T194741Z
LAST-MODIFIED:20260219T132903Z
UID:10015101-1777420800-1777852799@www.buzzmagmartinique.com
SUMMARY:CYCLISME "TOUR CYCLISTE JUNIOR DE MARTINIQUE" PAR LA JEUNESSE CYCLISTE 231
DESCRIPTION:Organisé par la Jeunesse Cycliste 231\, cet événement incontournable rassemblera des coureurs de Martinique\, de la Caraïbe\, de l’Hexagone et d’autres horizons. \nUne épreuve cycliste en 4 étapes\, réservée aux juniors\, organisée par la JC 231. \n  \n\n\n\nLe Tour Cycliste Junior de Martinique\, 0696 01 70 15\n\n\n\n  \nJeunesse cycliste 231\, +596 696 56 10 80 \n \n 
URL:https://www.buzzmagmartinique.com/evenement/cyclisme-tour-cycliste-junior-de-martinique-par-la-jeunesse-cycliste-231/
CATEGORIES:Sport
ATTACH;FMTTYPE=image/webp:https://www.buzzmagmartinique.com/wp-content/uploads/2024/08/04-29-CYCLISTE-231.webp
ORGANIZER;CN="Jeunesse cycliste 231":MAILTO:jeunessecycliste231@orange.fr
END:VEVENT
BEGIN:VEVENT
DTSTART;TZID=Europe/Paris:20260429T180000
DTEND;TZID=Europe/Paris:20260429T200000
DTSTAMP:20260419T172316
CREATED:20251109T155713Z
LAST-MODIFIED:20260417T131527Z
UID:10017831-1777485600-1777492800@www.buzzmagmartinique.com
SUMMARY:ATELIER "BEL MADRAS-NOU" AU CENTRE CULTUREL DE CHATEAUBOEUF\, FORT DE FRANCE
DESCRIPTION:À l’occasion de la Semaine du madras à venir au mois de Mai\, le Centre culturel de Chateauboeuf partenaire de cette action du Collectif du Patrimoine Vestimentaire Martiniquais CPVM vous propose de venir confectionner votre accessoire Coiffe.\n️ \nAtelier en collaboration avec le CPVM \nGratuit. \n  \n\nLe SERMAC\, Centre culturel de Chateauboeuf\, boulevard de La Solidarité\, ZAC de Châteauboeuf\, Fort de France\, 0696 04 32 47
URL:https://www.buzzmagmartinique.com/evenement/atelier-bel-madras-nou-au-centre-culturel-de-chateauboeuf-fort-de-france/
LOCATION:Centre culturel de Chateauboeuf du Sermac\, Boulevard de La Solidarité\, ZAC de Châteauboeuf\, Fort de France\, 97200\, Martinique
CATEGORIES:Art & Culture
ATTACH;FMTTYPE=image/webp:https://www.buzzmagmartinique.com/wp-content/uploads/2025/11/41528f55d12849139f64c810540859fe1.webp
END:VEVENT
BEGIN:VEVENT
DTSTART;TZID=Europe/Paris:20260429T190000
DTEND;TZID=Europe/Paris:20260429T233000
DTSTAMP:20260419T172316
CREATED:20221230T130132Z
LAST-MODIFIED:20260402T175728Z
UID:10003506-1777489200-1777505400@www.buzzmagmartinique.com
SUMMARY:SOIRÉE DANSES LATINES PARTY AU KOKOARUM\, LE MARIN
DESCRIPTION:Le Kokoarum se transforme en temple de la danse latine ! \nQue vous soyez pro du déhanché ou simple curieux\, c’est LA soirée à ne pas manquer. \nAu programme : Salsa\, Bachata\, Merengue\, Cha-cha-cha\, Zouk et Reggaeton ! Laissez-vous porter par nos DJs\, l’ambiance va être électrique. \nNouveau dans la danse ? Pas de panique ! \nNotre MC Pat propose un mini-cours pour les non-initiés. \nAucun niveau requis\, ramenez juste votre sourire et votre énergie ! \nCôté bar & resto : \nDélicieux cocktails pour se rafraîchir.\nBons petits plats à prix tout doux. \nDress code : Tenue décontractée de rigueur ! \nEntrée gratuite \n\nKokoarum Rhumerie\, Nouvelle Marina\, boulevard Allègre\, Le Marin\, 0596 48 02 21
URL:https://www.buzzmagmartinique.com/evenement/soiree-danses-latines-party-au-kokoarum-le-marin-3/
LOCATION:Kokoarum Rhumerie\, Nouvelle Marina\, boulevard Allègre\, Le Marin\, 97290\, Martinique
CATEGORIES:Soirée
ATTACH;FMTTYPE=image/webp:https://www.buzzmagmartinique.com/wp-content/uploads/2022/12/661610490_1556328573160836_2477427708531445755_n.webp
ORGANIZER;CN="Kokoarum Rhumerie":MAILTO:datobreizh97@gmail.com
END:VEVENT
BEGIN:VEVENT
DTSTART;TZID=Europe/Paris:20260429T193000
DTEND;TZID=Europe/Paris:20260429T213000
DTSTAMP:20260419T172316
CREATED:20250401T165633Z
LAST-MODIFIED:20260408T181644Z
UID:10010586-1777491000-1777498200@www.buzzmagmartinique.com
SUMMARY:THÉÂTRE "MATRICES" À TROPIQUES ATRIUM\, FORT DE FRANCE
DESCRIPTION:Salle Frantz Fanon\nTarif E 25€ 20€ 10€\n\nRéservez dès maintenant !  urlr.me/tk2buX\n\n\n\nUne Dame arrive. Quelque chose dérange sa matrice. Retraversant les pages de son passé\, son corps se démultiplie. Elle se revoit Fille\, encagée dans une cité de banlieue parisienne\, dans une famille aliénée\, elle se revoit Femme\, de retour sur son île antillaise\, captive d’un couple rongé par la violence patriarcale.\n\n\n\nPourquoi le fruit de son ventre s’est-il perdu ? Sa blessure intime réveille alors les spectres lovés dans le ventre des femmes de sa lignée depuis plusieurs générations. La Dame devra plonger dans la matrice sombre d’une histoire coloniale traumatique pour libérer les silences qui continuent à déposséder les corps aujourd’hui. Mêlant scènes ordinaires et oniriques\,\n\nMatrices est un chant collectif célébrant le corps et la mémoire pour féconder un devenir puissant.\n\n\n\nUn spectacle d’une grande force\, une expérience ontologique nécessaire pour comprendre la matrice où s’originent les violences et la déshumanisation de nos sociétés contemporaines\n– Africultures\n\n\n\n———–\n\nProduction : Compagnie TRACK\n\n\nCoproduction ; Théâtre de l’Union – CDN du Limousin\, Les Francophonies – Des écritures à la scène\, Tropiques Atrium Scène nationale\, Etc_Caraïbe\n\n\nSoutiens : DRAC Martinique\, Agence Française de Développement\, Collectivité Territoriale de Martinique\, Institut français «Des mots à la scène»\, ARTCENA – Centre national des arts du cirque\, de la rue et du théâtre\, La Chartreuse-Centre National des Écritures du Spectacle\, Fondation pour la Mémoire de l’Esclavage\, FEAC – Fonds d’Aide aux Échanges Artistiques et Culturels pour l’Outre-mer cofinancé par le Ministère de l’Outre-Mer et le Ministère de la Culture\, FDVA – Fonds pour le Développement de la Vie Associative\, Ville du Saint-Esprit Partenaires [la fabrique francophone] et La Scène d’Anglars – Espace Culturel\, Communauté de Communes de la Vallée du Lot et du Vignoble\, les Francopholires\, Collectif Terre d’Arts\, TOM (Téyat Otonom Mawon)\n\n\n\nRemerciements : David Khatile\, Éric Godard\n\n\nTropiques Atrium Scène Nationale\, 6 rue Jacques Cazotte\, Fort de France\, 0596 70 79 29 \n \n \n 
URL:https://www.buzzmagmartinique.com/evenement/theatre-matrices-a-tropiques-atrium-fort-de-france/
LOCATION:TROPIQUES ATRIUM SCENE NATIONALE\, 6\, rue Jacques Cazotte\, Fort-de-France\, 97200\, Martinique
CATEGORIES:Art & Culture
ATTACH;FMTTYPE=image/webp:https://www.buzzmagmartinique.com/wp-content/uploads/2025/04/666729046_1479322304240425_8499213484324041735_n1.webp
END:VEVENT
END:VCALENDAR