BEGIN:VCALENDAR
VERSION:2.0
PRODID:-//Buzzmag - ECPv6.15.20//NONSGML v1.0//EN
CALSCALE:GREGORIAN
METHOD:PUBLISH
X-ORIGINAL-URL:https://www.buzzmagmartinique.com
X-WR-CALDESC:Évènements pour Buzzmag
REFRESH-INTERVAL;VALUE=DURATION:PT1H
X-Robots-Tag:noindex
X-PUBLISHED-TTL:PT1H
BEGIN:VTIMEZONE
TZID:Europe/Paris
BEGIN:DAYLIGHT
TZOFFSETFROM:+0100
TZOFFSETTO:+0200
TZNAME:CEST
DTSTART:20250330T010000
END:DAYLIGHT
BEGIN:STANDARD
TZOFFSETFROM:+0200
TZOFFSETTO:+0100
TZNAME:CET
DTSTART:20251026T010000
END:STANDARD
BEGIN:DAYLIGHT
TZOFFSETFROM:+0100
TZOFFSETTO:+0200
TZNAME:CEST
DTSTART:20260329T010000
END:DAYLIGHT
BEGIN:STANDARD
TZOFFSETFROM:+0200
TZOFFSETTO:+0100
TZNAME:CET
DTSTART:20261025T010000
END:STANDARD
BEGIN:DAYLIGHT
TZOFFSETFROM:+0100
TZOFFSETTO:+0200
TZNAME:CEST
DTSTART:20270328T010000
END:DAYLIGHT
BEGIN:STANDARD
TZOFFSETFROM:+0200
TZOFFSETTO:+0100
TZNAME:CET
DTSTART:20271031T010000
END:STANDARD
END:VTIMEZONE
BEGIN:VTIMEZONE
TZID:America/Martinique
BEGIN:STANDARD
TZOFFSETFROM:-0400
TZOFFSETTO:-0400
TZNAME:AST
DTSTART:20250101T000000
END:STANDARD
END:VTIMEZONE
BEGIN:VEVENT
DTSTART;VALUE=DATE:20260426
DTEND;VALUE=DATE:20260428
DTSTAMP:20260421T112521
CREATED:20210503T093702Z
LAST-MODIFIED:20260409T122345Z
UID:10002901-1777161600-1777334399@www.buzzmagmartinique.com
SUMMARY:MADININA DOG SHOW À L'HIPPODROME DE CARRÈRE\, LE LAMENTIN
DESCRIPTION:Exposition\, confirmations et animations diverses sont au programme. \nLes engagements ouvriront sous peu sur le site de cedia. \n\n\n\n\nAssociation Canine Territoriale de Martinique\, canine972@gmail.com
URL:https://www.buzzmagmartinique.com/evenement/madinina-dog-show-a-lhippodrome-de-carrere-le-lamentin/
LOCATION:Hippodrome de Martinique Maurice Bruère-Dawson\, N°1064 Carrère\, Le Lamentin\, 97232\, Martinique
CATEGORIES:Sport
ATTACH;FMTTYPE=image/webp:https://www.buzzmagmartinique.com/wp-content/uploads/2021/05/04-26-ASSOCIATION-CANINE-TERRITORIALE-MARTINIQUE.webp
ORGANIZER;CN="Association Canine Territoriale de Martinique":MAILTO:canine972@gmail.com
END:VEVENT
BEGIN:VEVENT
DTSTART;TZID=America/Martinique:20260427T183000
DTEND;TZID=America/Martinique:20260427T210000
DTSTAMP:20260421T112521
CREATED:20250322T140514Z
LAST-MODIFIED:20250915T152711Z
UID:10071287-1777314600-1777323600@www.buzzmagmartinique.com
SUMMARY:ATELIER THÉÂTRE AMATEURS ADULTE AU TOM\, FORT DE FRANCE
DESCRIPTION:  \n\nTOM\, Téat’ Otonom Mawon \, Croix Mission\, Boulevard du Général de Gaulle\, 122 rue Victor Sévère\, Fort de France
URL:https://www.buzzmagmartinique.com/evenement/atelier-theatre-amateurs-adulte-au-tom-fort-de-france/2026-04-27/
LOCATION:TOM\, Téat’ Otonom Mawon\, Croix Mission\, Boulevard du Général de Gaulle\, Fort de France\, 97200\, Martinique
CATEGORIES:Art & Culture
ATTACH;FMTTYPE=image/webp:https://www.buzzmagmartinique.com/wp-content/uploads/2025/03/IMG-20250915-WA0002.webp
END:VEVENT
END:VCALENDAR