BEGIN:VCALENDAR
VERSION:2.0
PRODID:-//Buzzmag - ECPv6.15.20//NONSGML v1.0//EN
CALSCALE:GREGORIAN
METHOD:PUBLISH
X-WR-CALNAME:Buzzmag
X-ORIGINAL-URL:https://www.buzzmagmartinique.com
X-WR-CALDESC:Évènements pour Buzzmag
REFRESH-INTERVAL;VALUE=DURATION:PT1H
X-Robots-Tag:noindex
X-PUBLISHED-TTL:PT1H
BEGIN:VTIMEZONE
TZID:Europe/Paris
BEGIN:DAYLIGHT
TZOFFSETFROM:+0100
TZOFFSETTO:+0200
TZNAME:CEST
DTSTART:20250330T010000
END:DAYLIGHT
BEGIN:STANDARD
TZOFFSETFROM:+0200
TZOFFSETTO:+0100
TZNAME:CET
DTSTART:20251026T010000
END:STANDARD
BEGIN:DAYLIGHT
TZOFFSETFROM:+0100
TZOFFSETTO:+0200
TZNAME:CEST
DTSTART:20260329T010000
END:DAYLIGHT
BEGIN:STANDARD
TZOFFSETFROM:+0200
TZOFFSETTO:+0100
TZNAME:CET
DTSTART:20261025T010000
END:STANDARD
BEGIN:DAYLIGHT
TZOFFSETFROM:+0100
TZOFFSETTO:+0200
TZNAME:CEST
DTSTART:20270328T010000
END:DAYLIGHT
BEGIN:STANDARD
TZOFFSETFROM:+0200
TZOFFSETTO:+0100
TZNAME:CET
DTSTART:20271031T010000
END:STANDARD
END:VTIMEZONE
BEGIN:VTIMEZONE
TZID:America/Halifax
BEGIN:DAYLIGHT
TZOFFSETFROM:-0400
TZOFFSETTO:-0300
TZNAME:ADT
DTSTART:20250309T060000
END:DAYLIGHT
BEGIN:STANDARD
TZOFFSETFROM:-0300
TZOFFSETTO:-0400
TZNAME:AST
DTSTART:20251102T050000
END:STANDARD
BEGIN:DAYLIGHT
TZOFFSETFROM:-0400
TZOFFSETTO:-0300
TZNAME:ADT
DTSTART:20260308T060000
END:DAYLIGHT
BEGIN:STANDARD
TZOFFSETFROM:-0300
TZOFFSETTO:-0400
TZNAME:AST
DTSTART:20261101T050000
END:STANDARD
BEGIN:DAYLIGHT
TZOFFSETFROM:-0400
TZOFFSETTO:-0300
TZNAME:ADT
DTSTART:20270314T060000
END:DAYLIGHT
BEGIN:STANDARD
TZOFFSETFROM:-0300
TZOFFSETTO:-0400
TZNAME:AST
DTSTART:20271107T050000
END:STANDARD
END:VTIMEZONE
BEGIN:VEVENT
DTSTART;VALUE=DATE:20260420
DTEND;VALUE=DATE:20260427
DTSTAMP:20260419T172430
CREATED:20220528T104811Z
LAST-MODIFIED:20260414T131528Z
UID:10003303-1776643200-1777247999@www.buzzmagmartinique.com
SUMMARY:FESTIVAL D'ARTS DE RUE "LÉZARD TI SHOW 2026"\, LE CARBET
DESCRIPTION:La 15e édition du Festival Lézard Ti Show\n\nArts de rue • Spectacles • Performances • Créations\nTemps fort : 25 & 26 avril\, scènes éphémères partout dans la ville\nLe Lézard Ti Show\, c’est :\nun festival d’arts de rue pour petits & grands\ndes artistes caribéen·ne·s mis en lumière\nune ambiance unique entre mer\, rivière et centre-bourg\nune semaine d’animations\, scolaires le jour et tout public le soir\n\n\n\n\n\n \n \n \n  \n \n \n  \nPrologue : https://canva.link/0u0cpkaanv39lv1 \nWeek-end : https://canva.link/8c7lrl0vni2mu5h \n  \n\n\n\nLézard Ti Show
URL:https://www.buzzmagmartinique.com/evenement/festival-darts-de-rue-lezard-ti-show-2026-le-carbet/
CATEGORIES:Art & Culture,Jeune public
ATTACH;FMTTYPE=image/webp:https://www.buzzmagmartinique.com/wp-content/uploads/2022/05/IMG-20260406-WA0019.webp
ORGANIZER;CN="Association L%C3%A9zard Ti Show":MAILTO:lezardtishow@yahoo.fr
END:VEVENT
BEGIN:VEVENT
DTSTART;TZID=Europe/Paris:20260425T073000
DTEND;TZID=Europe/Paris:20260426T180000
DTSTAMP:20260419T172430
CREATED:20250107T204055Z
LAST-MODIFIED:20260416T170200Z
UID:10035169-1777102200-1777226400@www.buzzmagmartinique.com
SUMMARY:NATATION EN MER "DÉFI LANMÈ LÉ ZANS CHELCHÈ" PAR TRANSNAGE CARAÏBE\, SCHOELCHER
DESCRIPTION:Un événement sportif à ne pas rater ! Ouvert à tous les publics\, licencié et non licenciés. \nContact 0696 29 21 65 \n\nTransnage Caraibe\, Piscine municipale\, rue Aubin Edmond\, Schoelcher\, transnagecaraibe1989@gmail.com \n \n 
URL:https://www.buzzmagmartinique.com/evenement/natation-en-mer-defi-lanme-le-zans-chelche-par-transnage-caraibe-schoelcher/
CATEGORIES:Sport
ATTACH;FMTTYPE=image/webp:https://www.buzzmagmartinique.com/wp-content/uploads/2025/01/04-25-SCHOELCHER.webp
END:VEVENT
BEGIN:VEVENT
DTSTART;TZID=America/Halifax:20260425T140000
DTEND;TZID=America/Halifax:20260426T173000
DTSTAMP:20260419T172430
CREATED:20190319T163438Z
LAST-MODIFIED:20260413T171914Z
UID:10002479-1777125600-1777224600@www.buzzmagmartinique.com
SUMMARY:SPORT AUTOMOBILE "CRITÉRIUM JOSÉ LAMARTINIÈRE" PAR ASA TROPIC\, SAINT JOSEPH
DESCRIPTION:Asa Tropic \, en partenariat avec la Ville de Saint‑Joseph\, informe de l’organisation du Rallye régional de la Ville de Saint‑Joseph – Critérium José Lamartinière (4ᵉ édition)\, du 24 au 26 avril 2026. \n25 avril : vérifications administratives et techniques – Place des Fêtes\, de 14h à 17h30\n26 avril : départ du rallye à partir de 8h \nBlocages des épreuves spéciales (1h avant)\n• Épreuve Spéciale 1 & 2 : Morne Poirier / Chemin Morne Basset – 7h30 > 10h30\n• Épreuve Spéciale 3\, 4 & 5 : Morne des Olives / Chemin Sérail – 9h30 > 17h30\n• Épreuve Spéciale 6\, 7 & 8 : Chemin Sérail / Morne des Olives – 9h30 > 17h30 \nQuartiers concernés : Morne Poirier\, Chemin Morne Basset\, Chemin Sérail (Chapelle)\, Morne des Olives. \nNous remercions Asa Tropic\, GSR Location\, Le Makandja\, Garage Trebeau\, Digital Ambulance et Taxis\, Carpolish Antilles\, L’univers du pneu Martinique\, AR Dépann’Express\, SEEN Groupe. \nUrgence : +596 696 44 77 06 \nLa Ville remercie les riverains pour leur compréhension et invite chacun à respecter les consignes de sécurité. \n\nAssociation de Sport automobile \nOrganisateur de compétitions sportive comme: Rallye\, Course de côte\, Slalom\, Run\,… \nAsa Tropic\, 0696 44 77 06\, asatropic@gmail.com \n \n  \n  \n 
URL:https://www.buzzmagmartinique.com/evenement/sport-automobile-criterium-jose-lamartiniere-par-asa-tropic-saint-joseph/
CATEGORIES:Sport
ATTACH;FMTTYPE=image/webp:https://www.buzzmagmartinique.com/wp-content/uploads/2019/03/04-25-ASA-TROPIC.webp
ORGANIZER;CN="Asa Tropic":MAILTO:asatropic@gmail.com
END:VEVENT
BEGIN:VEVENT
DTSTART;VALUE=DATE:20260426
DTEND;VALUE=DATE:20260428
DTSTAMP:20260419T172430
CREATED:20210503T093702Z
LAST-MODIFIED:20260409T122345Z
UID:10002901-1777161600-1777334399@www.buzzmagmartinique.com
SUMMARY:MADININA DOG SHOW À L'HIPPODROME DE CARRÈRE\, LE LAMENTIN
DESCRIPTION:Exposition\, confirmations et animations diverses sont au programme. \nLes engagements ouvriront sous peu sur le site de cedia. \n\n\n\n\nAssociation Canine Territoriale de Martinique\, canine972@gmail.com
URL:https://www.buzzmagmartinique.com/evenement/madinina-dog-show-a-lhippodrome-de-carrere-le-lamentin/
LOCATION:Hippodrome de Martinique Maurice Bruère-Dawson\, N°1064 Carrère\, Le Lamentin\, 97232\, Martinique
CATEGORIES:Sport
ATTACH;FMTTYPE=image/webp:https://www.buzzmagmartinique.com/wp-content/uploads/2021/05/04-26-ASSOCIATION-CANINE-TERRITORIALE-MARTINIQUE.webp
ORGANIZER;CN="Association Canine Territoriale de Martinique":MAILTO:canine972@gmail.com
END:VEVENT
BEGIN:VEVENT
DTSTART;TZID=Europe/Paris:20260426T060000
DTEND;TZID=Europe/Paris:20260426T100000
DTSTAMP:20260419T172430
CREATED:20211208T121330Z
LAST-MODIFIED:20260330T191856Z
UID:10003077-1777183200-1777197600@www.buzzmagmartinique.com
SUMMARY:ATHLÉTISME "10 KM DE FORT DE FRANCE" PAR LA MAIRIE SPORTIVE\, FORT DE FRANCE
DESCRIPTION:REPOUSSEZ VOS LIMITES SUR LE 10KM DE FORT-DE-FRANCE  2026! \nDimanche 26 avril 2026\, en plein cœur de la capitale\, venez célébrer la 5ᵉ édition des 10KM DE FORT-DE-FRANCE ! \nEn cinq années\, l’événement a connu une progression constante\, s’imposant comme un rendez-vous incontournable du calendrier running martiniquais. \nUne épreuve de haut niveau\, exigeante et spectaculaire\, taillée pour les compétiteurs comme pour les passionnés. \nÉpreuve officielle du Championnat de Martinique\, labellisée FFA Route ARGENT. \nQue vous soyez à la recherche d’un chrono\, d’un défi personnel ou d’une expérience intense au lever du jour sur la baie de Fort-de-France\, cette 5ᵉ édition est faite pour vous. \nInscriptions ouvertes en ligne jusqu’au dimanche 12 avril 2026\nClôture anticipée possible si le quota est atteint. \nwww.mairiesportive972.fr\nwww.performanskaraib.net \nInfos : 0696 35 37 23 – 0696 25 89 77 – 0696 22 29 19 \n\n\nMairie Sportive de Fort de France\, 0696 25 89 77\, www.mairiesportive972.fr
URL:https://www.buzzmagmartinique.com/evenement/athletisme-foyal-urban-trail-2026-par-la-mairie-sportive-fort-de-france/
CATEGORIES:Sport
ATTACH;FMTTYPE=image/webp:https://www.buzzmagmartinique.com/wp-content/uploads/2021/12/04-26-ATHLETISME.webp
END:VEVENT
BEGIN:VEVENT
DTSTART;TZID=Europe/Paris:20260426T060000
DTEND;TZID=Europe/Paris:20260426T120000
DTSTAMP:20260419T172430
CREATED:20230209T153410Z
LAST-MODIFIED:20260404T123450Z
UID:10003540-1777183200-1777204800@www.buzzmagmartinique.com
SUMMARY:TRAIL "TRAIL MANTEN" PAR LAM-TRAIL972\, LE LAMENTIN
DESCRIPTION:  \n  \n\nPromouvoir le Trail à travers l’initiation et la préparation des courses à pied et des compétitions en pleine nature en Martinique et hors de nos frontières. \nTeam LAM-TRAIL 972\, secretariattlt972@gmail.com \n \n  \n 
URL:https://www.buzzmagmartinique.com/evenement/trail-trail-manten-par-lam-trail972-le-lamentin/
CATEGORIES:Sport
ATTACH;FMTTYPE=image/webp:https://www.buzzmagmartinique.com/wp-content/uploads/2023/02/04-26-LAM-TRAIL.webp
ORGANIZER;CN="Team LAM-TRAIL 972":MAILTO:secretariattlt972@gmail.com
END:VEVENT
BEGIN:VEVENT
DTSTART;TZID=Europe/Paris:20260426T064500
DTEND;TZID=Europe/Paris:20260426T090000
DTSTAMP:20260419T172430
CREATED:20220330T003314Z
LAST-MODIFIED:20260416T150857Z
UID:10003257-1777185900-1777194000@www.buzzmagmartinique.com
SUMMARY:FITNESS "VINI BRENNEN DIKOS" PAR VENESSA LAIGLE SUR LE PARCOURS DE SANTÉ\, DUCOS
DESCRIPTION:La ville de Ducos vous invite à son évènement tout public gratuit \n𝐕𝐈𝐍𝐈 𝐁𝐑𝐄𝐍𝐍𝐄𝐍 𝐃𝐈𝐊𝐎𝐒 \nParcours santé \nRDV : 6h45 \nUn moment sportif animé par Vanessa LAIGLE pour le fitness et Youri ROTIN pour le fitness bèlé \nINFOLINE :\n0696 29 89 44\n0596 77 25 52 \n  \n\n\nParcours de santé « Laventure Marie-Luce »\, en contrebas du Complexe Sportif\, Avenue Frantz Fanon\, Ducos \n \n\n 
URL:https://www.buzzmagmartinique.com/evenement/fitness-vini-brennen-dikos-par-venessa-laigle-au-stade-max-soron-ducos/
CATEGORIES:Santé,Sport
ATTACH;FMTTYPE=image/webp:https://www.buzzmagmartinique.com/wp-content/uploads/2022/03/04-26-DUCOS.webp
END:VEVENT
BEGIN:VEVENT
DTSTART;TZID=Europe/Paris:20260426T070000
DTEND;TZID=Europe/Paris:20260426T120000
DTSTAMP:20260419T172430
CREATED:20231228T132603Z
LAST-MODIFIED:20260416T152435Z
UID:10003774-1777186800-1777204800@www.buzzmagmartinique.com
SUMMARY:LES PARCOURS DU COEUR AU STADE GEORGES GRATIANT DE PLACE D'ARMES\, LE LAMENTIN
DESCRIPTION:Stade Georges Gratiant\, Quartier Place d’Armes\, Le Lamentin
URL:https://www.buzzmagmartinique.com/evenement/les-parcours-du-coeur-au-stade-georges-gratiant-de-place-darmes-le-lamentin/
CATEGORIES:Santé,Sport
ATTACH;FMTTYPE=image/webp:https://www.buzzmagmartinique.com/wp-content/uploads/2023/12/04-26-LAMENTIN.webp
END:VEVENT
BEGIN:VEVENT
DTSTART;TZID=America/Halifax:20260426T070000
DTEND;TZID=America/Halifax:20260426T140000
DTSTAMP:20260419T172430
CREATED:20190419T063708Z
LAST-MODIFIED:20260410T191703Z
UID:10002217-1777186800-1777212000@www.buzzmagmartinique.com
SUMMARY:RANDONNÉE "RANDO CHALLENGE" PAR LE COMITÉ DE LA RANDONNÉE PÉDESTRE DE LA MARTINIQUE\, SAINT ESPRIT
DESCRIPTION:Rendez-vous au Saint-Esprit pour la 23ème édition du traditionnel « Rando Challenge ».\n\n\n\nInformations & Inscriptions :\n\n\n0596 70 54 88 / 0696 30 81 70/ 0696 65 58 58\nmartinique@ffrandonnee.fr\n\n\n\nBilletterie disponible sur HELLOASSO\n\n\n\n\n\nComité de la Randonnée Pédestre de la Martinique\, 30 rue Ernest Deproge\, Fort-de-France\, 0596 70 54 88
URL:https://www.buzzmagmartinique.com/evenement/randonnee-rando-challenge-par-le-comite-de-la-randonnee-pedestre-de-la-martinique-saint-esprit/
CATEGORIES:Sport
ATTACH;FMTTYPE=image/webp:https://www.buzzmagmartinique.com/wp-content/uploads/2019/04/04-26-RANDONNEE.webp
ORGANIZER;CN="Comit%C3%A9 de la Randonn%C3%A9e P%C3%A9destre de la Martinique":MAILTO:martinique@ffrandonnee.fr
END:VEVENT
BEGIN:VEVENT
DTSTART;TZID=Europe/Paris:20260426T090000
DTEND;TZID=Europe/Paris:20260426T110000
DTSTAMP:20260419T172430
CREATED:20250814T145340Z
LAST-MODIFIED:20260410T184642Z
UID:10066962-1777194000-1777201200@www.buzzmagmartinique.com
SUMMARY:KARATÉ "GRAN SWÉ" À L'IMS\, LE LAMENTIN
DESCRIPTION:LE GRAN SWÉ EST DE RETOURL’année dernière\, ceux qui étaient là savent. Les sourires qui durent toute la journée\, les courbatures du lendemain portées comme des médailles\, les échanges entre disciplines qu’on n’aurait jamais imaginés… c’était une matinée de folie. \nEt ceux qui ont loupé ça ? \nIls nous ont dit “la prochaine fois je viens”. \nEh bien\, la prochaine fois\, c’est le 26 avrilPas d’inscription à l’avance! \nPas de chichi\, pas de podium\, juste toi\, ton style et ta bonne humeur Trois formats au choix :Codifié – règles posées\, contrôle maîtrisé.Souple – pour tester sans forcer\, avec contrôle.À fond – pour les warriors\, pour ceux qui veulent se donner\, mais en respect total avec leur partenaire.Karaté\, Krav Maga; Yoseikan\, Wushu\, Viet vo dao\, AMV … toutes les disciplines de la Ligue sont invitées ! Débutant\, ceinture noire\, ou champion de shadowboxing dans ton salon\, il y a une place pour toi !L’ambiance ? \nUn mix entre fraternité; fou rire\, coups bien placés et transpi qui pique les yeux ! \nAlors\, tu viens ?!N’oublie pas ta tenue\, des gants (si tu en as)\, ta bouteille d’eau et c’est parti.  \n  \n\n\n\n\n\n\n\n\nInstitut Martiniquais du Sport\, Quartier Mangot Vulcin\, Route du Vert-Pré\, Le Lamentin\, 0596 38 38 00 \n\n \n\n  \nLigue de karaté de Martinique\, liguekarate.972@hotmail.com \n \n 
URL:https://www.buzzmagmartinique.com/evenement/karate-gran-swe-a-lims-le-lamentin/
LOCATION:Institut Martiniquais Du Sport\, Mangot Vulcin\, Le Lamentin\, 97232\, Martinique
CATEGORIES:Sport
ATTACH;FMTTYPE=image/webp:https://www.buzzmagmartinique.com/wp-content/uploads/2025/08/04-26-KARATE.webp
ORGANIZER;CN="Ligue de karat%C3%A9 de Martinique":MAILTO:liguekarate.972@hotmail.com
END:VEVENT
END:VCALENDAR