BEGIN:VCALENDAR
VERSION:2.0
PRODID:-//Buzzmag - ECPv6.15.20//NONSGML v1.0//EN
CALSCALE:GREGORIAN
METHOD:PUBLISH
X-WR-CALNAME:Buzzmag
X-ORIGINAL-URL:https://www.buzzmagmartinique.com
X-WR-CALDESC:Évènements pour Buzzmag
REFRESH-INTERVAL;VALUE=DURATION:PT1H
X-Robots-Tag:noindex
X-PUBLISHED-TTL:PT1H
BEGIN:VTIMEZONE
TZID:Europe/Paris
BEGIN:DAYLIGHT
TZOFFSETFROM:+0100
TZOFFSETTO:+0200
TZNAME:CEST
DTSTART:20250330T010000
END:DAYLIGHT
BEGIN:STANDARD
TZOFFSETFROM:+0200
TZOFFSETTO:+0100
TZNAME:CET
DTSTART:20251026T010000
END:STANDARD
BEGIN:DAYLIGHT
TZOFFSETFROM:+0100
TZOFFSETTO:+0200
TZNAME:CEST
DTSTART:20260329T010000
END:DAYLIGHT
BEGIN:STANDARD
TZOFFSETFROM:+0200
TZOFFSETTO:+0100
TZNAME:CET
DTSTART:20261025T010000
END:STANDARD
BEGIN:DAYLIGHT
TZOFFSETFROM:+0100
TZOFFSETTO:+0200
TZNAME:CEST
DTSTART:20270328T010000
END:DAYLIGHT
BEGIN:STANDARD
TZOFFSETFROM:+0200
TZOFFSETTO:+0100
TZNAME:CET
DTSTART:20271031T010000
END:STANDARD
END:VTIMEZONE
BEGIN:VTIMEZONE
TZID:America/Martinique
BEGIN:STANDARD
TZOFFSETFROM:-0400
TZOFFSETTO:-0400
TZNAME:AST
DTSTART:20250101T000000
END:STANDARD
END:VTIMEZONE
BEGIN:VTIMEZONE
TZID:Europe/Paris
BEGIN:DAYLIGHT
TZOFFSETFROM:+0100
TZOFFSETTO:+0200
TZNAME:CEST
DTSTART:20250330T010000
END:DAYLIGHT
BEGIN:STANDARD
TZOFFSETFROM:+0200
TZOFFSETTO:+0100
TZNAME:CET
DTSTART:20251026T010000
END:STANDARD
BEGIN:DAYLIGHT
TZOFFSETFROM:+0100
TZOFFSETTO:+0200
TZNAME:CEST
DTSTART:20260329T010000
END:DAYLIGHT
BEGIN:STANDARD
TZOFFSETFROM:+0200
TZOFFSETTO:+0100
TZNAME:CET
DTSTART:20261025T010000
END:STANDARD
BEGIN:DAYLIGHT
TZOFFSETFROM:+0100
TZOFFSETTO:+0200
TZNAME:CEST
DTSTART:20270328T010000
END:DAYLIGHT
BEGIN:STANDARD
TZOFFSETFROM:+0200
TZOFFSETTO:+0100
TZNAME:CET
DTSTART:20271031T010000
END:STANDARD
END:VTIMEZONE
BEGIN:VTIMEZONE
TZID:America/Halifax
BEGIN:DAYLIGHT
TZOFFSETFROM:-0400
TZOFFSETTO:-0300
TZNAME:ADT
DTSTART:20250309T060000
END:DAYLIGHT
BEGIN:STANDARD
TZOFFSETFROM:-0300
TZOFFSETTO:-0400
TZNAME:AST
DTSTART:20251102T050000
END:STANDARD
BEGIN:DAYLIGHT
TZOFFSETFROM:-0400
TZOFFSETTO:-0300
TZNAME:ADT
DTSTART:20260308T060000
END:DAYLIGHT
BEGIN:STANDARD
TZOFFSETFROM:-0300
TZOFFSETTO:-0400
TZNAME:AST
DTSTART:20261101T050000
END:STANDARD
BEGIN:DAYLIGHT
TZOFFSETFROM:-0400
TZOFFSETTO:-0300
TZNAME:ADT
DTSTART:20270314T060000
END:DAYLIGHT
BEGIN:STANDARD
TZOFFSETFROM:-0300
TZOFFSETTO:-0400
TZNAME:AST
DTSTART:20271107T050000
END:STANDARD
END:VTIMEZONE
BEGIN:VEVENT
DTSTART;VALUE=DATE:20260420
DTEND;VALUE=DATE:20260427
DTSTAMP:20260419T172358
CREATED:20220528T104811Z
LAST-MODIFIED:20260414T131528Z
UID:10003303-1776643200-1777247999@www.buzzmagmartinique.com
SUMMARY:FESTIVAL D'ARTS DE RUE "LÉZARD TI SHOW 2026"\, LE CARBET
DESCRIPTION:La 15e édition du Festival Lézard Ti Show\n\nArts de rue • Spectacles • Performances • Créations\nTemps fort : 25 & 26 avril\, scènes éphémères partout dans la ville\nLe Lézard Ti Show\, c’est :\nun festival d’arts de rue pour petits & grands\ndes artistes caribéen·ne·s mis en lumière\nune ambiance unique entre mer\, rivière et centre-bourg\nune semaine d’animations\, scolaires le jour et tout public le soir\n\n\n\n\n\n \n \n \n  \n \n \n  \nPrologue : https://canva.link/0u0cpkaanv39lv1 \nWeek-end : https://canva.link/8c7lrl0vni2mu5h \n  \n\n\n\nLézard Ti Show
URL:https://www.buzzmagmartinique.com/evenement/festival-darts-de-rue-lezard-ti-show-2026-le-carbet/
CATEGORIES:Art & Culture,Jeune public
ATTACH;FMTTYPE=image/webp:https://www.buzzmagmartinique.com/wp-content/uploads/2022/05/IMG-20260406-WA0019.webp
ORGANIZER;CN="Association L%C3%A9zard Ti Show":MAILTO:lezardtishow@yahoo.fr
END:VEVENT
BEGIN:VEVENT
DTSTART;TZID=Europe/Paris:20260423T193000
DTEND;TZID=Europe/Paris:20260425T210000
DTSTAMP:20260419T172358
CREATED:20241108T200022Z
LAST-MODIFIED:20251204T165146Z
UID:10018133-1776972600-1777150800@www.buzzmagmartinique.com
SUMMARY:THÉÂTRE "SUR LES PAS DE VICTOR HUGO" AU THÉÂTRE AIMÉ CÉSAIRE\, FORT DE FRANCE
DESCRIPTION:Théâtre Aimé Césaire\, rue Victor Sévère\, Fort-de-France\, 0696 22 07 27 – 0596 60 79 29
URL:https://www.buzzmagmartinique.com/evenement/theatre-sur-les-pas-de-victor-hugo-au-theatre-aime-cesaire-fort-de-france/
LOCATION:Théâtre Aimé Césaire\, rue Victor Sévère\, Fort-de-France\, 97200\, Martinique
CATEGORIES:Art & Culture
ATTACH;FMTTYPE=image/webp:https://www.buzzmagmartinique.com/wp-content/uploads/2024/11/sur-les-pas-jeud-23.webp
END:VEVENT
BEGIN:VEVENT
DTSTART;TZID=Europe/Paris:20260424T190000
DTEND;TZID=Europe/Paris:20260425T234500
DTSTAMP:20260419T172358
CREATED:20240202T113344Z
LAST-MODIFIED:20260409T170011Z
UID:10007788-1777057200-1777160700@www.buzzmagmartinique.com
SUMMARY:MUSIQUE LIVE "MM'SAX PAR MARIUS MODESTE & FRIENDS" À L'AROBASE\, SCHOELCHER
DESCRIPTION:OPENING 19H30\, début du live à 21H00 \nLe nombre de places est limité\, alors n’hésitez plus\, réservez votre table au 0596.617.323 ou 0696.358.340 (Tél\, whatsap ou sms) \nService Restauration I Consommation obligatoire I Mineurs autorisés \nDe 19h30 à 00h30\nTarif : Entrée Libre et dîner obligatoire \n\n\n\n\n\n\nL’arObase\, Casino Batelière-Plazza\, Schœlcher\, 0696 35 83 40 /
URL:https://www.buzzmagmartinique.com/evenement/musique-live-mmsax-par-marius-modeste-friends-a-larobase-schoelcher/
LOCATION:l’arObase\, CASINO BATELIERE-PLAZZA\, Schœlcher\, 97233\, Martinique
CATEGORIES:Soirée
ATTACH;FMTTYPE=image/webp:https://www.buzzmagmartinique.com/wp-content/uploads/2024/02/661476929_1563028939163928_7735609871460083620_n1.webp
ORGANIZER;CN="l'arObase":MAILTO:arobase@groupecogit.com
END:VEVENT
BEGIN:VEVENT
DTSTART;TZID=Europe/Paris:20260425T060000
DTEND;TZID=Europe/Paris:20260425T130000
DTSTAMP:20260419T172358
CREATED:20241203T195024Z
LAST-MODIFIED:20250204T132536Z
UID:10043013-1777096800-1777122000@www.buzzmagmartinique.com
SUMMARY:MARCHÉ AGRICOLE NORD ATLANTIQUE - MANA\, SAINTE MARIE
DESCRIPTION:Association Loi 1901\, le MANA\, créé en 2000\, a pour objectif principal : réunir tous les acteurs économiques du Nord Atlantique\, particulièrement les agriculteurs\, autour d’activités mettant en valeur la production locale\, notamment la tenue de marchés. \nIl s’agit d’un marché agricole qui se singularise par le principe de la caisse commune pour la vente des produits agricoles. Dès leur livraison sur site\, les produits des agriculteurs sont pesés puis mis en commun sur les étals. A la fin du marché\, chaque exploitant est rémunéré au prorata des ventes et de sa production livrée. \nDe nos jours \, le MANA totalise 19 adhérents qui constituent le cœur de l’activité\, auxquels sont venus s’ajouter des agro transformateurs avec le jus de canne\, les thés\, le miel\, les plantes médicinales\, les pâtisseries d’antan\, les artisans vanniers ainsi que des pépiniéristes. \nUne coopérative d’éleveurs est également présente. De son camion\, elle propose à la vente ses volailles\, mais aussi ses pâtés\, boudins jusqu’aux viandes prêtes à cuire. En reconnaissance de son implication dans le développement d’une agriculture de qualité\, l’association s’est vu décerner des services de l’État\, l’agrément agroécologie. \n\nPlace Félix Lorne (à quelques mètres de l’ilet Sainte-Marie et de son tombolo)\, Sainte Marie
URL:https://www.buzzmagmartinique.com/evenement/marche-agricole-nord-atlantique-mana-sainte-marie/2026-04-25/
CATEGORIES:Environnement,Marché,Santé
ATTACH;FMTTYPE=image/jpeg:https://www.buzzmagmartinique.com/wp-content/uploads/2021/10/MANA1-1.jpg
END:VEVENT
BEGIN:VEVENT
DTSTART;TZID=Europe/Paris:20260425T060000
DTEND;TZID=Europe/Paris:20260425T140000
DTSTAMP:20260419T172358
CREATED:20241203T195512Z
LAST-MODIFIED:20260128T134403Z
UID:10043266-1777096800-1777125600@www.buzzmagmartinique.com
SUMMARY:MARCHÉ AGRICOLE ET ARTISANAL BOKODJI\, DUCOS
DESCRIPTION:Venez découvrir toutes les meilleures variétés de:\n\n\n\n– Fruits et légumes de saison\,\n– Plantes médicales\,\n– Viande locale\,\n– Artisanat\,\n– Volaille fermière\n– pâtisseries et confiseries\n\n\n\n\n\n\n\n\n« Soutenons l’industrie local » \n\n« An nou ba Foss produits payi a »\n\nBOKODJI\, Place du marché\, en contrebas de la place des fêtes\, Ducos\,  0696 32 32 05 \n \n 
URL:https://www.buzzmagmartinique.com/evenement/marche-agricole-et-artisanal-bokodji-vide-grenier-ducos-2023-02-25-2-3/2026-04-25/
CATEGORIES:Environnement,Marché,Santé
ATTACH;FMTTYPE=image/png:https://www.buzzmagmartinique.com/wp-content/uploads/2024/12/BOKODJI.png
END:VEVENT
BEGIN:VEVENT
DTSTART;TZID=Europe/Paris:20260425T070000
DTEND;TZID=Europe/Paris:20260425T120000
DTSTAMP:20260419T172358
CREATED:20241203T194145Z
LAST-MODIFIED:20250204T132109Z
UID:10042760-1777100400-1777118400@www.buzzmagmartinique.com
SUMMARY:MARCHÉ BIO PAR RE-BÈL BIO À LA FERME PERRINE\, LE LAMENTIN
DESCRIPTION:Au marché BIO alimentaire mais pas que\, des fleurs\, des accessoires\, du bien être et …du partage.\n \n\nRE-BÈL BIO\, La Ferme de Perrine\, Chemin Carrère\, Le Lamentin\, 0696 03 55 57
URL:https://www.buzzmagmartinique.com/evenement/marche-bio-par-re-bel-bio-a-la-ferme-perrine-le-lamentin-2023-02-25-2-3/2026-04-25/
LOCATION:Re-Bèl Bio\, La Ferme de Perrine\, Chemin Carrère\, Le Lamentin\, 97232\, Martinique
CATEGORIES:Environnement,Marché,Santé
ATTACH;FMTTYPE=image/jpeg:https://www.buzzmagmartinique.com/wp-content/uploads/2019/03/369043980_704565328361577_4403149789245636175_n.jpg
ORGANIZER;CN="Re-B%C3%A8l Bio":MAILTO:r.belbio972@gmail.com
END:VEVENT
BEGIN:VEVENT
DTSTART;TZID=America/Martinique:20260425T070000
DTEND;TZID=America/Martinique:20260425T140000
DTSTAMP:20260419T172358
CREATED:20230809T143145Z
LAST-MODIFIED:20260416T170916Z
UID:10080451-1777100400-1777125600@www.buzzmagmartinique.com
SUMMARY:MARCHÉ MANRINA À L'ESPACE LAGUERRE À PETIT BOURG\, RIVIÈRE SALÉE
DESCRIPTION:  \nCe samedi 18 avril a 10h\, votre marché Manrina situé à l espace Laguerre\, Petit-Bourg\, vous invite à une animation spéciale qui intéresse tous les passionnés du monde végétal : DR ORTH-WEYERS VIENT NOUS présenter le biodynamiseur botanique Cet appareil transmet une information vitale à l’eau d’arrosage pour redynamiser les plantes en profondeur.Résultat : croissance accélérée\, meilleure résistance aux maladies et à la sécheresse\, et jusqu’à 50 % d’eau économisée\, sans aucun produit chimique Nous vous invitions à venir nombreux.ses participer à cette présentation!  \n \nManrina est un service digital qui favorise les échanges directs entre producteurs locaux et consommateurs. Avec ce service les consommateurs peuvent commander et se faire livrer à domicile des produits frais et locaux mis à disposition par des producteurs. \nOn y retrouve une liste non exhaustive de produits locaux:\nFruits\, légumes\, épices\, viandes\, poissons\, boissons\, plantes\, produits transformés\, cosmétiques naturels\, produits de l’artisanat… etc. \nDerrière Manrina\, se cachent de jeunes martiniquais conscients de la richesse de la production locale et qui souhaitent mettre en relation les producteurs locaux et les consommateurs. \nÀ travers sa charte de qualité \, Manrina garantit que tous les produits présents sur la plateforme sont frais et issus d’une production responsable\, durable et sans chlordécone. \n\nManrina\, Espace Laguerre\, Petit Bourg\, +596 696 66 14 36 \n \n 
URL:https://www.buzzmagmartinique.com/evenement/marche-manrina-a-lespace-laguerre-a-petit-bourg-riviere-salee/2026-04-25/
CATEGORIES:Environnement,Marché,Santé
ATTACH;FMTTYPE=image/webp:https://www.buzzmagmartinique.com/wp-content/uploads/2023/08/619677172_1216978793905113_5534455666280594378_n1.webp
ORGANIZER;CN="Manrina":MAILTO:contact@manrina.fr
END:VEVENT
BEGIN:VEVENT
DTSTART;TZID=Europe/Paris:20260425T073000
DTEND;TZID=Europe/Paris:20260426T180000
DTSTAMP:20260419T172358
CREATED:20250107T204055Z
LAST-MODIFIED:20260416T170200Z
UID:10035169-1777102200-1777226400@www.buzzmagmartinique.com
SUMMARY:NATATION EN MER "DÉFI LANMÈ LÉ ZANS CHELCHÈ" PAR TRANSNAGE CARAÏBE\, SCHOELCHER
DESCRIPTION:Un événement sportif à ne pas rater ! Ouvert à tous les publics\, licencié et non licenciés. \nContact 0696 29 21 65 \n\nTransnage Caraibe\, Piscine municipale\, rue Aubin Edmond\, Schoelcher\, transnagecaraibe1989@gmail.com \n \n 
URL:https://www.buzzmagmartinique.com/evenement/natation-en-mer-defi-lanme-le-zans-chelche-par-transnage-caraibe-schoelcher/
CATEGORIES:Sport
ATTACH;FMTTYPE=image/webp:https://www.buzzmagmartinique.com/wp-content/uploads/2025/01/04-25-SCHOELCHER.webp
END:VEVENT
BEGIN:VEVENT
DTSTART;TZID=Europe/Paris:20260425T080000
DTEND;TZID=Europe/Paris:20260425T080000
DTSTAMP:20260419T172358
CREATED:20250626T192153Z
LAST-MODIFIED:20250626T192605Z
UID:10058586-1777104000-1777104000@www.buzzmagmartinique.com
SUMMARY:MARCHÉ AGRICOLE À LAKOU SAINT GEORGES DE LA BATELIÈRE\, SCHOELCHER
DESCRIPTION:Lakou Saint Georges de Batelière\, en face de l’école primaire de Batelière\, Schoelcher \n \n  \n 
URL:https://www.buzzmagmartinique.com/evenement/marche-agricole-a-lakou-saint-georges-de-la-bateliere-schoelcher-2-3/2026-04-25/
CATEGORIES:Environnement,Marché,Santé
ATTACH;FMTTYPE=image/webp:https://www.buzzmagmartinique.com/wp-content/uploads/2024/04/IMG-20250626-WA0015.webp
END:VEVENT
BEGIN:VEVENT
DTSTART;TZID=Europe/Paris:20260425T080000
DTEND;TZID=Europe/Paris:20260425T120000
DTSTAMP:20260419T172358
CREATED:20231205T201627Z
LAST-MODIFIED:20260416T155145Z
UID:10003143-1777104000-1777118400@www.buzzmagmartinique.com
SUMMARY:VILLAGE SANTÉ "BOKANTAJ ANLÈ SANTÉ NOU" SUR LA PLACE DU CALEBASSIER\, LE LAMENTIN
DESCRIPTION:VILLAGE SANTÉ – 3ème ÉDITION  “Bokantaj anlè santé nou !” \nLe CCAS du Lamentin\, en collaboration avec ses partenaires\, vous donne rendez-vous pour un événement entièrement dédié à votre santé et à votre bien-être \nSur la Place du Calebassier – Lamentin \nUne matinée exceptionnelle vous attend\, placée sous le signe de la prévention\, du partage et de la convivialité : \nÉchanges enrichissants\nConférences inspirantes\nJeux & quiz santé\nDépistages gratuits\n+ de 15 stands pour s’informer\, comprendre et agir \nLes 100 premiers participants repartiront avec un ticket pour un jeu concours gratuit\, avec de nombreux lots à gagner \nAvec la présence d’artistes et d’invités… dont une surprise que vous ne voulez surtout pas manquer \nPrenez soin de vous\, informez-vous\, et venez vivre l’expérience Village Santé !! \n\nVille du Lamentin
URL:https://www.buzzmagmartinique.com/evenement/village-sante-bokantaj-anle-sante-nou-sur-la-place-du-calebassier-le-lamentin/
CATEGORIES:Santé
ATTACH;FMTTYPE=image/webp:https://www.buzzmagmartinique.com/wp-content/uploads/2023/12/672679030_1386270563542740_2678863449071662103_n111.webp
END:VEVENT
BEGIN:VEVENT
DTSTART;TZID=Europe/Paris:20260425T081500
DTEND;TZID=Europe/Paris:20260425T140000
DTSTAMP:20260419T172358
CREATED:20260202T135713Z
LAST-MODIFIED:20260409T135734Z
UID:10081530-1777104900-1777125600@www.buzzmagmartinique.com
SUMMARY:BALADE NAUTIQUE "SECRETS DE LA BAIE"\, SCHOELCHER
DESCRIPTION:Du 28 février au 30 mai 2026\, embarquez pour une balade nautique d’exception : « Secrets de la Baie ». \nSchoelcher vue depuis la mer révèle les atouts de son littoral et de son arrière-pays. \n5 dates à retenir  : 28 février | 14 mars | 11 et 25 avril | 30 mai 2026 \nInformations: \n– Visite commentée \n– Inscription obligatoire \n– Accès à 8h15 au Bureau d’Information Touristique : 2 rue du Bord de Mer\, 97233  Schoelcher (sur présentation de son billet) \n– Départ à 8h30 \n– Durée : 4h30 \n– Places limitées \nBilletterie Bizouk \n\nVille de Schoelcher \n \n  \nOffice de Tourisme Centre Martinique\,  Bureau d’Information Touristique\, 2 rue du Bord de Mer\, Schoelcher
URL:https://www.buzzmagmartinique.com/evenement/balade-nautique-secrets-de-la-baie-schoelcher/2026-04-25/
CATEGORIES:Art & Culture
ATTACH;FMTTYPE=image/webp:https://www.buzzmagmartinique.com/wp-content/uploads/2026/02/e49982106c1e7c75a0e244bd52fa27d1_700_600_landscape_971.webp
ORGANIZER;CN="Bureau d'Informations Touristique":MAILTO:contact@tourisme-centre.fr
END:VEVENT
BEGIN:VEVENT
DTSTART;TZID=Europe/Paris:20260425T093000
DTEND;TZID=Europe/Paris:20260425T110000
DTSTAMP:20260419T172358
CREATED:20260403T163800Z
LAST-MODIFIED:20260403T163845Z
UID:10082309-1777109400-1777114800@www.buzzmagmartinique.com
SUMMARY:ATELIER POTERIE PAR GABOU AU TIERS-LIEU LE 33\, FORT DE FRANCE
DESCRIPTION:Tous les samedis\, le 33\, tiers-lieu culturel vous invite à prendre le temps de créer avec la terre. \nUn atelier de poterie animé par Gabou\, où vous êtes guidé·e pas à pas dans votre processus de création\, que vous veniez avec une idée précise ou simplement l’envie d’expérimenter. \nModelage\, façonnage\, exploration des formes : ici\, chacun·e avance à son rythme\, dans un cadre bienveillant et accompagné par l’artiste. \nTous les samedis\n11h00 – 12h30\nÀ partir de 13 ans \n\n\n\nLe 33 – Tiers-lieu Culturel\, 33 Rue Perrinon\, Fort-de-France\, +596 696 50 55 00 \n \nLa Station Culturelle\, 33 rue Perrinon\, Fort-de-France\, 0696 50 55 00
URL:https://www.buzzmagmartinique.com/evenement/atelier-poterie-par-gabou-au-tiers-lieu-le-33-fort-de-france-2-2/2026-04-25/
LOCATION:Le 33 – Tiers-lieu Culturel\, 33 Rue Perrinon\, Fort-de-France\, 97200\, Martinique
CATEGORIES:Art & Culture,Jeune public
ATTACH;FMTTYPE=image/webp:https://www.buzzmagmartinique.com/wp-content/uploads/2024/06/743a09aff292bcdfd75ef15ac06aa0b8_700_600_landscape_971.webp
ORGANIZER;CN="Le 33 - Tiers-lieu Culturel":MAILTO:communication@stationculturelle.com
END:VEVENT
BEGIN:VEVENT
DTSTART;TZID=Europe/Paris:20260425T100000
DTEND;TZID=Europe/Paris:20260425T120000
DTSTAMP:20260419T172358
CREATED:20250113T221216Z
LAST-MODIFIED:20260325T133613Z
UID:10081894-1777111200-1777118400@www.buzzmagmartinique.com
SUMMARY:VISITES GUIDÉES "3 Î TOUR"\, LES TROIS-ÎLETS
DESCRIPTION:Embarquez pour le 3 Î Tour : une autre façon de découvrir les Trois-ÎletsEnvie de (re)découvrir les Trois-Îlets autrement ?Le 3 Î Tour vous invite à une immersion culturelle et patrimoniale unique\, au cœur de l’histoire\, de l’art et des lieux emblématiques de la commune.L’Association Moun Kariba vous donne rendez-vous les samedis 28 mars\, 25 avril et 23 mai pour une visite guidée immersive. \nDécouvrez\, à bord d’un bus aménagé\, les quartiers et sites qui révèlent l’âme des Trois-Îlets. \nPartez à 10h pour un voyage commenté à travers les lieux et figures emblématiques de la ville\, jusqu’à l’univers artistique de Khokho. \nMémoire et histoire des Trois-Îlets : une découverte commentée des lieux et figures emblématiques de la commune\, notamment la Place du Marronnage\, le rond-point Citron\, le cimetière et le quartier Xavier.L’exposition urbaine Khokho : une plongée dans l’univers de Joseph René-Corail\, dit Khokho\, à travers ses œuvres qui façonnent l’espace public et l’identité artistique locale.𝐓𝐚𝐫𝐢𝐟 : 𝟏𝟎 € – Inscriptions obligatoires au Service Culturel : 0596 68 40 48. \nUne expérience conviviale\, enrichissante et accessible à tous\, pour voir les Trois-Îlets avec un regard nouveau. \n  \n\nVille des Trois-Îlets
URL:https://www.buzzmagmartinique.com/evenement/visites-guidees-3-i-tour-les-trois-ilets/2026-04-25/
CATEGORIES:Art & Culture
ATTACH;FMTTYPE=image/webp:https://www.buzzmagmartinique.com/wp-content/uploads/2025/01/tempFileForShare_20251218-0816241.webp
END:VEVENT
BEGIN:VEVENT
DTSTART;TZID=Europe/Paris:20260425T110000
DTEND;TZID=Europe/Paris:20260425T123000
DTSTAMP:20260419T172358
CREATED:20260401T004912Z
LAST-MODIFIED:20260409T140014Z
UID:10082450-1777114800-1777120200@www.buzzmagmartinique.com
SUMMARY:ATELIER PEINTURE PAR KHEIRAN AU TIERS-LIEU LE 33\, FORT DE FRANCE
DESCRIPTION:Tous les samedis\, le 33 ouvre un espace dédié à la\n\n\nUn atelier animé par Kheiran (@kembyart)\, artiste plasticien où vous êtes accompagné·e pas à pas dans votre création\, que vous arriviez avec une idée précise ou simplement l’envie d’explorer. \nPeindre\, chercher\, tester\, recommencer : l’atelier est pensé comme un temps de création accessible\, sans prérequis\, où chacun·e peut avancer à son rythme. \nTous les samedis\n11h00 – 12h30\nÀ partir de 13 ans \n\n\n\n\n\nLe 33 – Tiers-lieu Culturel\, 33 Rue Perrinon\, Fort-de-France\, +596 696 50 55 00 \n \n  \nLa Station Culturelle\, 33 rue Perrinon\, Fort-de-France\, 0696 50 55 00
URL:https://www.buzzmagmartinique.com/evenement/atelier-peinture-par-kheiran-au-tiers-lieu-le-33-fort-de-france-2-2/2026-04-25/
LOCATION:Le 33 – Tiers-lieu Culturel\, 33 Rue Perrinon\, Fort-de-France\, 97200\, Martinique
CATEGORIES:Art & Culture,Jeune public
ATTACH;FMTTYPE=image/webp:https://www.buzzmagmartinique.com/wp-content/uploads/2024/12/7cd43961b00c24b6a082c0bae18e56ff_700_600_landscape_971.webp
END:VEVENT
BEGIN:VEVENT
DTSTART;TZID=America/Halifax:20260425T140000
DTEND;TZID=America/Halifax:20260426T173000
DTSTAMP:20260419T172358
CREATED:20190319T163438Z
LAST-MODIFIED:20260413T171914Z
UID:10002479-1777125600-1777224600@www.buzzmagmartinique.com
SUMMARY:SPORT AUTOMOBILE "CRITÉRIUM JOSÉ LAMARTINIÈRE" PAR ASA TROPIC\, SAINT JOSEPH
DESCRIPTION:Asa Tropic \, en partenariat avec la Ville de Saint‑Joseph\, informe de l’organisation du Rallye régional de la Ville de Saint‑Joseph – Critérium José Lamartinière (4ᵉ édition)\, du 24 au 26 avril 2026. \n25 avril : vérifications administratives et techniques – Place des Fêtes\, de 14h à 17h30\n26 avril : départ du rallye à partir de 8h \nBlocages des épreuves spéciales (1h avant)\n• Épreuve Spéciale 1 & 2 : Morne Poirier / Chemin Morne Basset – 7h30 > 10h30\n• Épreuve Spéciale 3\, 4 & 5 : Morne des Olives / Chemin Sérail – 9h30 > 17h30\n• Épreuve Spéciale 6\, 7 & 8 : Chemin Sérail / Morne des Olives – 9h30 > 17h30 \nQuartiers concernés : Morne Poirier\, Chemin Morne Basset\, Chemin Sérail (Chapelle)\, Morne des Olives. \nNous remercions Asa Tropic\, GSR Location\, Le Makandja\, Garage Trebeau\, Digital Ambulance et Taxis\, Carpolish Antilles\, L’univers du pneu Martinique\, AR Dépann’Express\, SEEN Groupe. \nUrgence : +596 696 44 77 06 \nLa Ville remercie les riverains pour leur compréhension et invite chacun à respecter les consignes de sécurité. \n\nAssociation de Sport automobile \nOrganisateur de compétitions sportive comme: Rallye\, Course de côte\, Slalom\, Run\,… \nAsa Tropic\, 0696 44 77 06\, asatropic@gmail.com \n \n  \n  \n 
URL:https://www.buzzmagmartinique.com/evenement/sport-automobile-criterium-jose-lamartiniere-par-asa-tropic-saint-joseph/
CATEGORIES:Sport
ATTACH;FMTTYPE=image/webp:https://www.buzzmagmartinique.com/wp-content/uploads/2019/03/04-25-ASA-TROPIC.webp
ORGANIZER;CN="Asa Tropic":MAILTO:asatropic@gmail.com
END:VEVENT
BEGIN:VEVENT
DTSTART;TZID=Europe/Paris:20260425T153000
DTEND;TZID=Europe/Paris:20260425T220000
DTSTAMP:20260419T172358
CREATED:20220906T130636Z
LAST-MODIFIED:20260416T144118Z
UID:10003407-1777131000-1777154400@www.buzzmagmartinique.com
SUMMARY:BÈLÈ "GRAN MOMAN BÈLÈ LAJÉNÈS"  ÉPI A.S.C.L.R SITÉ LAKWA\, WOBÈ
DESCRIPTION:  \n\nAssociation ASCLR\, siège de la Solidarité\, Lestrade\, Le Robert\, 0696 28 65 46 \n \n 
URL:https://www.buzzmagmartinique.com/evenement/bele-gran-moman-bele-lajenes-epi-a-s-c-l-r-site-lakwa-wobe/
CATEGORIES:Soirée
ATTACH;FMTTYPE=image/webp:https://www.buzzmagmartinique.com/wp-content/uploads/2022/09/673946224_10238261576092471_3558558885888624638_n.webp
END:VEVENT
BEGIN:VEVENT
DTSTART;TZID=Europe/Paris:20260425T190000
DTEND;TZID=Europe/Paris:20260425T230000
DTSTAMP:20260419T172358
CREATED:20260127T211117Z
LAST-MODIFIED:20260413T131304Z
UID:10060693-1777143600-1777158000@www.buzzmagmartinique.com
SUMMARY:SOIRÉE DE LANCEMENT "DOUVANJOU LANMOU" AU TIERS-LIEU LE 33\, FORT DE FRANCE
DESCRIPTION:Siyaj est la première maison d’édition indépendante\, féministe et anticolonialiste des Petites Antilles\, dédiée à la poésie et à la fiction contemporaine. \nAu cours de cette soirée\, découvrez « Douvanjou Lanmou »de Jennyfer Adnet\, un recueil de poésie intime\, sensuel et vibrant\, où langue\, mémoire et imaginaires caribéens se mêlent pour offrir une expérience unique et multiple. \nAu programme : Performance – Déclamation poétique\, DJ Set & more… \nPRÉCOMMANDER \n\n\n\nLe 33 – Tiers-lieu Culturel\, 33 Rue Perrinon\, Fort-de-France\, +596 696 50 55 00 \n \nLa Station Culturelle\, 33 rue Perrinon\, Fort-de-France\, 0696 50 55 00 \n\n\n \n 
URL:https://www.buzzmagmartinique.com/evenement/soiree-de-lancement-douvanjou-lanmou-au-tiers-lieu-le-33-fort-de-france/
LOCATION:Le 33 – Tiers-lieu Culturel\, 33 Rue Perrinon\, Fort-de-France\, 97200\, Martinique
CATEGORIES:Art & Culture
ATTACH;FMTTYPE=image/webp:https://www.buzzmagmartinique.com/wp-content/uploads/2026/01/118716_5c8140e989eee47c9d90720ba1e53064_700x600_landscape_97.webp
END:VEVENT
BEGIN:VEVENT
DTSTART;TZID=America/Halifax:20260425T193000
DTEND;TZID=America/Halifax:20260425T213000
DTSTAMP:20260419T172358
CREATED:20210104T124444Z
LAST-MODIFIED:20260407T145630Z
UID:10002774-1777145400-1777152600@www.buzzmagmartinique.com
SUMMARY:MUSIQUE "SARAH CAMILLE" À TROPIQUES ATRIUM\, FORT DE FRANCE
DESCRIPTION:Sarah Camille – An ni songé (sortie de résidence)Salle Frantz FanonTarif : 10€Réservez dès maintenant !  urlr.me/MZQbuvUn vibrant voyage musical et poétiqueInspiré du poème éponyme de Gilbert Gratiant\, mis en musique par Paulette Nardal\, traversant un paysage entre la Norvège et la Martinique\, Sarah Camille présente un concert teinté de ses propres compositions et textes.Durant sa résidence d’artiste Sarah Camille a exploré plus en profondeur le patrimoine culturel martiniquais. Son univers se situe entre chanson\, jazz et musique traditionnelle\, avec en fil rouge son chant doux et proche\, en forme de paysage sonore magnifique et transportant.Sarah Camille et ses musiciens sont aussi allés à la rencontre de la musique et de la danse bèlè avec l’association Bèlè an Wout\, ainsi que du producteur Joël Jacoulet et de l’artiste Jann Beaudry.Ce concert présente un aperçu de ces rencontres créatives et de ces échanges artistiques. Sarah Camille\, basée en Norvège\, avait été une belle découverte au Festival culturel de Fort-de-France en 2022. \n  \n\nTropiques Atrium Scène Nationale\, 6 rue Jacques Cazotte\, Fort de France\, 0596 70 79 29
URL:https://www.buzzmagmartinique.com/evenement/spectacle-il-etait-une-fois-la-martinique-a-tropiques-atrium-fort-de-france/
LOCATION:TROPIQUES ATRIUM SCENE NATIONALE\, 6\, rue Jacques Cazotte\, Fort-de-France\, 97200\, Martinique
CATEGORIES:Art & Culture
ATTACH;FMTTYPE=image/webp:https://www.buzzmagmartinique.com/wp-content/uploads/2021/01/661070744_1476784521160870_6257442029602792974_n1.webp
END:VEVENT
BEGIN:VEVENT
DTSTART;TZID=Europe/Paris:20260425T200000
DTEND;TZID=Europe/Paris:20260425T200000
DTSTAMP:20260419T172358
CREATED:20250701T164416Z
LAST-MODIFIED:20260415T181516Z
UID:10059098-1777147200-1777147200@www.buzzmagmartinique.com
SUMMARY:MUSIQUE LIVE "GMX" À LA TERRASSE\, FORT DE FRANCE
DESCRIPTION:Artiste martiniquais à la voix d’or\, GMX (Guy-Marc VADELEUX) propose un univers musical entre jazz créole\, salsa et sonorités caribéennes. \nLa Terrasse vous accueille dès 18h30\, avec possibilité de dîner sur place. \n  \n\nLa Terrasse\, Immeuble Galeries Lafayette\, 10 Rue Victor Schoelcher\, Fort-de-France\, 0596 64 30 35
URL:https://www.buzzmagmartinique.com/evenement/musique-live-gmx-a-la-terrasse-fort-de-france/
LOCATION:La Terrasse Fwi\, 10 rue Victor Schoelcher\, Immeuble Galerie Lafayette\, Fort de France\, 97200\, Martinique
CATEGORIES:Soirée
ATTACH;FMTTYPE=image/webp:https://www.buzzmagmartinique.com/wp-content/uploads/2025/07/653922703_915164407938917_7162026158986800155_n111.webp
END:VEVENT
END:VCALENDAR