BEGIN:VCALENDAR
VERSION:2.0
PRODID:-//Buzzmag - ECPv6.15.20//NONSGML v1.0//EN
CALSCALE:GREGORIAN
METHOD:PUBLISH
X-WR-CALNAME:Buzzmag
X-ORIGINAL-URL:https://www.buzzmagmartinique.com
X-WR-CALDESC:Évènements pour Buzzmag
REFRESH-INTERVAL;VALUE=DURATION:PT1H
X-Robots-Tag:noindex
X-PUBLISHED-TTL:PT1H
BEGIN:VTIMEZONE
TZID:Europe/Paris
BEGIN:DAYLIGHT
TZOFFSETFROM:+0100
TZOFFSETTO:+0200
TZNAME:CEST
DTSTART:20250330T010000
END:DAYLIGHT
BEGIN:STANDARD
TZOFFSETFROM:+0200
TZOFFSETTO:+0100
TZNAME:CET
DTSTART:20251026T010000
END:STANDARD
BEGIN:DAYLIGHT
TZOFFSETFROM:+0100
TZOFFSETTO:+0200
TZNAME:CEST
DTSTART:20260329T010000
END:DAYLIGHT
BEGIN:STANDARD
TZOFFSETFROM:+0200
TZOFFSETTO:+0100
TZNAME:CET
DTSTART:20261025T010000
END:STANDARD
BEGIN:DAYLIGHT
TZOFFSETFROM:+0100
TZOFFSETTO:+0200
TZNAME:CEST
DTSTART:20270328T010000
END:DAYLIGHT
BEGIN:STANDARD
TZOFFSETFROM:+0200
TZOFFSETTO:+0100
TZNAME:CET
DTSTART:20271031T010000
END:STANDARD
END:VTIMEZONE
BEGIN:VTIMEZONE
TZID:America/Halifax
BEGIN:DAYLIGHT
TZOFFSETFROM:-0400
TZOFFSETTO:-0300
TZNAME:ADT
DTSTART:20250309T060000
END:DAYLIGHT
BEGIN:STANDARD
TZOFFSETFROM:-0300
TZOFFSETTO:-0400
TZNAME:AST
DTSTART:20251102T050000
END:STANDARD
BEGIN:DAYLIGHT
TZOFFSETFROM:-0400
TZOFFSETTO:-0300
TZNAME:ADT
DTSTART:20260308T060000
END:DAYLIGHT
BEGIN:STANDARD
TZOFFSETFROM:-0300
TZOFFSETTO:-0400
TZNAME:AST
DTSTART:20261101T050000
END:STANDARD
BEGIN:DAYLIGHT
TZOFFSETFROM:-0400
TZOFFSETTO:-0300
TZNAME:ADT
DTSTART:20270314T060000
END:DAYLIGHT
BEGIN:STANDARD
TZOFFSETFROM:-0300
TZOFFSETTO:-0400
TZNAME:AST
DTSTART:20271107T050000
END:STANDARD
END:VTIMEZONE
BEGIN:VTIMEZONE
TZID:America/Martinique
BEGIN:STANDARD
TZOFFSETFROM:-0400
TZOFFSETTO:-0400
TZNAME:AST
DTSTART:20250101T000000
END:STANDARD
END:VTIMEZONE
BEGIN:VEVENT
DTSTART;VALUE=DATE:20260420
DTEND;VALUE=DATE:20260427
DTSTAMP:20260419T172337
CREATED:20220528T104811Z
LAST-MODIFIED:20260414T131528Z
UID:10003303-1776643200-1777247999@www.buzzmagmartinique.com
SUMMARY:FESTIVAL D'ARTS DE RUE "LÉZARD TI SHOW 2026"\, LE CARBET
DESCRIPTION:La 15e édition du Festival Lézard Ti Show\n\nArts de rue • Spectacles • Performances • Créations\nTemps fort : 25 & 26 avril\, scènes éphémères partout dans la ville\nLe Lézard Ti Show\, c’est :\nun festival d’arts de rue pour petits & grands\ndes artistes caribéen·ne·s mis en lumière\nune ambiance unique entre mer\, rivière et centre-bourg\nune semaine d’animations\, scolaires le jour et tout public le soir\n\n\n\n\n\n \n \n \n  \n \n \n  \nPrologue : https://canva.link/0u0cpkaanv39lv1 \nWeek-end : https://canva.link/8c7lrl0vni2mu5h \n  \n\n\n\nLézard Ti Show
URL:https://www.buzzmagmartinique.com/evenement/festival-darts-de-rue-lezard-ti-show-2026-le-carbet/
CATEGORIES:Art & Culture,Jeune public
ATTACH;FMTTYPE=image/webp:https://www.buzzmagmartinique.com/wp-content/uploads/2022/05/IMG-20260406-WA0019.webp
ORGANIZER;CN="Association L%C3%A9zard Ti Show":MAILTO:lezardtishow@yahoo.fr
END:VEVENT
BEGIN:VEVENT
DTSTART;TZID=America/Halifax:20260422T180000
DTEND;TZID=America/Halifax:20260424T210000
DTSTAMP:20260419T172337
CREATED:20210114T073611Z
LAST-MODIFIED:20260403T142455Z
UID:10002802-1776880800-1777064400@www.buzzmagmartinique.com
SUMMARY:DANSE "MASTER CLASS CONTACT IMPROVISATION" À TROPIQUES ATRIUM\, FORT DE FRANCE
DESCRIPTION:Master class Contact improvisation\, animée par Jean-Hugues Mirédin Infos pratiques : Dates : 22\, 23 et 24 avril\, de 18h à 21h.Public : Danseurs de tous niveauxTarif : 25€Le contact improvisation est une danse dans laquelle les partenaires en contact physique vont chercher une rencontre dans un mouvement qui laisse toujours chacun libre d’intéragir à son gré.Inscription : Corinne Badian – cbadian@tropiques-atrium.fr Plus d’infos : https://tropiques-atrium.fr/…/master-class-contact…/ \n\n\nTropiques Atrium Scène Nationale\, 6 rue Cazotte\, Fort de France\, 0596 70 79 29
URL:https://www.buzzmagmartinique.com/evenement/danse-master-class-contact-improvisation-a-tropiques-atrium-fort-de-france/
LOCATION:TROPIQUES ATRIUM SCENE NATIONALE\, 6\, rue Jacques Cazotte\, Fort-de-France\, 97200\, Martinique
CATEGORIES:Art & Culture
ATTACH;FMTTYPE=image/webp:https://www.buzzmagmartinique.com/wp-content/uploads/2021/01/661689831_1473085461530776_5291013029146371847_n1.webp
ORGANIZER;CN="TROPIQUES ATRIUM SCENE NATIONALE":MAILTO:info@tropiques-atrium.fr
END:VEVENT
BEGIN:VEVENT
DTSTART;TZID=Europe/Paris:20260423T193000
DTEND;TZID=Europe/Paris:20260425T210000
DTSTAMP:20260419T172337
CREATED:20241108T200022Z
LAST-MODIFIED:20251204T165146Z
UID:10018133-1776972600-1777150800@www.buzzmagmartinique.com
SUMMARY:THÉÂTRE "SUR LES PAS DE VICTOR HUGO" AU THÉÂTRE AIMÉ CÉSAIRE\, FORT DE FRANCE
DESCRIPTION:Théâtre Aimé Césaire\, rue Victor Sévère\, Fort-de-France\, 0696 22 07 27 – 0596 60 79 29
URL:https://www.buzzmagmartinique.com/evenement/theatre-sur-les-pas-de-victor-hugo-au-theatre-aime-cesaire-fort-de-france/
LOCATION:Théâtre Aimé Césaire\, rue Victor Sévère\, Fort-de-France\, 97200\, Martinique
CATEGORIES:Art & Culture
ATTACH;FMTTYPE=image/webp:https://www.buzzmagmartinique.com/wp-content/uploads/2024/11/sur-les-pas-jeud-23.webp
END:VEVENT
BEGIN:VEVENT
DTSTART;TZID=America/Halifax:20260424T090000
DTEND;TZID=America/Halifax:20260424T150000
DTSTAMP:20260419T172337
CREATED:20210707T074146Z
LAST-MODIFIED:20260413T171057Z
UID:10048422-1777021200-1777042800@www.buzzmagmartinique.com
SUMMARY:SPORT AUTOMOBILE "LE BEFORE RALLYE – 3ᵉ ÉDITION" DANS LE BOURG\, SAINT JOSEPH
DESCRIPTION:La Ville de Saint‑Joseph vous donne rendez‑vous pour une journée placée sous le signe du rallye et de la sécurité routière.Départ : Parvis de l’église – Rue Eugène MaillardDémonstration : 14h – 15hMontez à bord avec des pilotes \nVivez des sensations fortes garanties \nVibrez avant le départ ! \nEntrée libre – ouvert à tousInscription obligatoire (places limitées) \nInscrivez‑vous ici : https://forms.cloud.microsoft/Pages/ResponsePage.aspx… \n\n\n\nAssociation de Sport automobile\n\nOrganisateur de compétitions sportive comme: Rallye\, Course de côte\, Slalom\, Run\,… \nAsa Tropic\, 0696 44 77 06\, asatropic@gmail.com
URL:https://www.buzzmagmartinique.com/evenement/sport-automobile-le-before-rallye-3%e1%b5%89-edition-dans-le-bourg-saint-joseph/
CATEGORIES:Sport
ATTACH;FMTTYPE=image/webp:https://www.buzzmagmartinique.com/wp-content/uploads/2021/07/04-24-ASA-TROPIC-SAINT-JOSEPH.webp
ORGANIZER;CN="Asa Tropic":MAILTO:asatropic@gmail.com
END:VEVENT
BEGIN:VEVENT
DTSTART;TZID=Europe/Paris:20260424T140000
DTEND;TZID=Europe/Paris:20260424T190000
DTSTAMP:20260419T172337
CREATED:20260410T115716Z
LAST-MODIFIED:20260410T120257Z
UID:10082471-1777039200-1777057200@www.buzzmagmartinique.com
SUMMARY:MARCHÉ AGRICOLE PAR LE CHOU CRÉOLE À PETER MAILLET\, LE SAINT ESPRIT
DESCRIPTION:Vente de fruits et légumes\nDe l’agriculteur au consommateur \nAvec les producteurs locaux de fruits et légumes & l’Ékoboutik \nWhatsaap 0696 89 46 43 \n\nAssociation Le Chou Créole\, SICA\, Peter Maillet\, route du Vauclin\, Saint-Esprit\, 0696 89 46 43
URL:https://www.buzzmagmartinique.com/evenement/marche-agricole-par-le-chou-creole-a-peter-maillet-le-saint-esprit/2026-04-24/
LOCATION:Association Le Chou Créole\, SICA\, Peter Maillet\, route du Vauclin\, Saint-Esprit\, 97270\, Martinique
CATEGORIES:Marché
ATTACH;FMTTYPE=image/webp:https://www.buzzmagmartinique.com/wp-content/uploads/2025/06/d6ceaef8792d4dadbe4875da07872720.webp
ORGANIZER;CN="Association Le Chou Cr%C3%A9ole":MAILTO:marion.ma@outlook.fr
END:VEVENT
BEGIN:VEVENT
DTSTART;TZID=Europe/Paris:20260424T150000
DTEND;TZID=Europe/Paris:20260424T180000
DTSTAMP:20260419T172337
CREATED:20241203T183842Z
LAST-MODIFIED:20260202T140809Z
UID:10032200-1777042800-1777053600@www.buzzmagmartinique.com
SUMMARY:MARCHÉ BIO DU DOMAINE DE LA CHABET SUR LA PLACE DES ARAWAKS\, SCHOELCHER
DESCRIPTION:Tous les vendredis sauf les jours fériés avec les producteurs de l’association « Le Domaine de la Chabet » \nAu Kiosque du bourg\, Place des Arawaks\, Schoelcher \n\nSituée à Fond Saint Denis\, Le domaine de la Chabet est une association qui fédère des agriculteurs bio pour valoriser une agricuture saine et de proximité. Elle porte également un atelier chantier d’insertion pour favoriser la réinsertion en AB. \nDomaine de la Chabet\, 0696 11 20 60\, lachabet.animation@gmail.com \n \n 
URL:https://www.buzzmagmartinique.com/evenement/marche-bio-du-domaine-de-la-chabet-sur-la-place-des-arawaks-schoelcher-2-2-2-2/2026-04-24/
CATEGORIES:Environnement,Marché,Santé
ATTACH;FMTTYPE=image/webp:https://www.buzzmagmartinique.com/wp-content/uploads/2024/12/619530815_1340185891466068_8154397945966867061_n11111.webp
ORGANIZER;CN="Domaine de la Chabet":MAILTO:lachabet.animation@gmail.com
END:VEVENT
BEGIN:VEVENT
DTSTART;TZID=America/Halifax:20260424T150000
DTEND;TZID=America/Halifax:20260424T220000
DTSTAMP:20260419T172337
CREATED:20250808T124232Z
LAST-MODIFIED:20250818T134412Z
UID:10064099-1777042800-1777068000@www.buzzmagmartinique.com
SUMMARY:MARCHÉ MUSIQUE ANIMATION HOLIDAY'S BAIE "CHANTO" AU PITT LE FLAMBOYANT\, LE VAUCLIN
DESCRIPTION:Retrouvez-le en concert live lors du prochain vendredi Holidays Baie. \nAu programme dès 15h\, un marché de fruits et légumes et plus tard dans l’après-midi des animations vous attendent\, les jeux de Sabine et un tournoi de dominos. \nBillets en vente sur Bizouk et sur place. \nUne boisson offerte pour toutes personnes présentes avant 19h. \nRejoignez-nous\, ambiance et bonne humeur au coeur de notre culture. \n  \n \n \n\n\n\nPitt Le Flamboyant\, Baie des Mulets\, Le Vauclin
URL:https://www.buzzmagmartinique.com/evenement/marche-musique-animation-holidays-baie-chanto-au-pitt-le-flamboyant-le-vauclin/2026-04-24/
CATEGORIES:Art & Culture,Jeune public,Marché
ATTACH;FMTTYPE=image/webp:https://www.buzzmagmartinique.com/wp-content/uploads/2025/08/532236316_24595589996704542_6409463853374096666_n.webp
END:VEVENT
BEGIN:VEVENT
DTSTART;TZID=America/Martinique:20260424T160000
DTEND;TZID=America/Martinique:20260424T180000
DTSTAMP:20260419T172337
CREATED:20251109T205024Z
LAST-MODIFIED:20260224T174510Z
UID:10014907-1777046400-1777053600@www.buzzmagmartinique.com
SUMMARY:OBSERVATION DES CÉTACES AVEC MON ÉCOLE MA BALEINE À MORNE AUX BOEUFS\, LE CARBET
DESCRIPTION:Rendez-vous tous les derniers vendredis du mois\, de 16h à 18 h avec Rocio au Carbet\, Morne aux Boeufs\, à côté du  en Martinique\, pour en apprendre plus sur les cétacés et peut-être en voir !!! \nConférence gratuite\, observation conviviale. \n\nL’association « Mon École\, Ma Baleine » pour mieux connaître les mammifères marins de façon ludique. \nMon école ma Baleine
URL:https://www.buzzmagmartinique.com/evenement/observation-des-cetaces-avec-mon-ecole-ma-baleine-a-morne-aux-boeufs-le-carbet/2026-04-24/
CATEGORIES:Environnement,Jeune public
ATTACH;FMTTYPE=image/webp:https://www.buzzmagmartinique.com/wp-content/uploads/2025/11/641358446_1349588207206490_5824739904547880751_n.webp
ORGANIZER;CN="Mon %C3%A9cole ma baleine":MAILTO:contact.monecolemabaleine@gmail.com
END:VEVENT
BEGIN:VEVENT
DTSTART;TZID=America/Martinique:20260424T180000
DTEND;TZID=America/Martinique:20260424T210000
DTSTAMP:20260419T172337
CREATED:20251127T130141Z
LAST-MODIFIED:20260415T170052Z
UID:10053232-1777053600-1777064400@www.buzzmagmartinique.com
SUMMARY:SOIRÉE LITTÉRAIRE\, CONFÉRENCE "PERSONALITÉS INSPIRANTES MARTINIQUAISES" À LA BIBLIOTHÈQUE MUNICIPALE GESNER MENCÉ\, DUCOS
DESCRIPTION:𝗦𝗢𝗜𝗥𝗘́𝗘 𝗟𝗜𝗧𝗧𝗘́𝗥𝗔𝗜𝗥𝗘 & 𝗖𝗢𝗡𝗙𝗘́𝗥𝗘𝗡𝗖𝗘 𝗔̀ 𝗗𝗨𝗖𝗢𝗦 ! \nLa Ville de Ducos vous invite à une soirée exceptionnelle autour des personnalités inspirantes martiniquaises avec la participation de Catherine Marceline\, pour un moment d’échange\, de partage et d’inspiration : \nAu programme :\nConférence captivante\nÉchanges avec le public\nSéance de dédicaces d’ouvrages \nVenez nombreux célébrer la richesse culturelle et les parcours inspirants de notre territoire \nINFOLINE : 0596 77 18 35 \n\nLundi\, mardi : 07h30-12h30 / 14h00-17h30. Mercredi\, jeudi\, vendredi : 07h30-13h30 \nBibliothèque Municipale\, 2 rue Perrinon\, Ducos\, 0596 77 18 35
URL:https://www.buzzmagmartinique.com/evenement/soiree-litteraire-conference-personalites-inspirantes-martiniquaises-a-la-bibliotheque-municipale-gesner-mence-ducos/
LOCATION:Bibliothèque Municipale de Ducos\, Bibliothèque Municipale\, 2 rue Perrinon\, \,\, Ducos\, 97224\, Martinique
CATEGORIES:Art & Culture
ATTACH;FMTTYPE=image/webp:https://www.buzzmagmartinique.com/wp-content/uploads/2025/11/SOIREE-LITTERAIRE-CONFERENCECatherine-MARCELINE-211.webp
END:VEVENT
BEGIN:VEVENT
DTSTART;TZID=Europe/Paris:20260424T180000
DTEND;TZID=Europe/Paris:20260424T235900
DTSTAMP:20260419T172337
CREATED:20260119T175345Z
LAST-MODIFIED:20260417T130642Z
UID:10031497-1777053600-1777075140@www.buzzmagmartinique.com
SUMMARY:CONFÉRENCES "L'ÉVOLUTION DES QUARTIERS FOYALAIS ET DE LA POLITIQUE DE LA VILLE" AU TOM\, FORT DE FRANCE
DESCRIPTION:  \n \n  \nCycle de conférence sur l’évolution des quartiers foyalais et la politique de la ville \n1er Atelier « Quelle évolution des quartiers foyalais et de la politique de la ville jusqu’à aujourd’hui ? \nLes quartiers foyalais font l’objet d’une attention particulière lors des campagnes électorales ou encore dans le cadre des politiques publiques des différentes institutions. La ville est en effet marquée par des quartiers historiques d’autoconstruction qui ont été accompagnés par l’action municipale depuis Sévère\, à Césaire jusqu’à aujourd’hui. De même\, des quartiers d’habitat social ont été construits et ont évolué. Césaire avait conceptualisé la république des quartiers en lien avec le communisme municipal. La Politique de la ville a été une politique qui a servi de levier dans cet effort pour transformer les quartiers par étapes. \nQu’en est-il aujourd’hui de l’évolution des quartiers et de la République des quartiers à l’heure du communalisme? \nOù en est-on de la Politique de la ville de son début au premier contrat famille de Texaco à aujourd’hui avec le nouveau contrat de ville ? \nA quoi sont confrontés aujourd’hui les projets de transformation de ces quartiers ? \nQuels sont les appuis et leviers ? les freins et contraintes ? \nPlus largement\, ce cycle d’ateliers à pour objectifs de capitaliser sur la mémoire et expériences des acteurs des quartiers et de la Politique de la ville. Permettre d’échanger sur la situation et les orientations à prendre pour poursuivre la transformation sociale\, humaine et urbaine des quartiers à notre époque \nVendredi 24 avril 2026 à 18h au Teyat Otonom Mawon (TOM) : sur inscription a dynamiquefoyalaise@gmail.com \n18h à 18h 10\nTanbou bèlè Vaity\nProjection ciné sur l’évolution d’un quartier\nIntroduction : Conte de Joel Reschid-Paroles et saynete de Olivier Jean Marie \n18H 30\n1. Evolution des quartiers foyalais d’hier à aujourd’hui ? Quid de la République des quartiers foyalais portée par Césaire ?\nMalik DURANTY : Sociologue\, Philippe Alain YERRO : Anthropologue \n19h10\n1. Quelle évolution de la Politique de la ville jusqu’à aujourd’hui ?\nMickael GUANEL : Personne qualifiée en politique de la ville \n19h30\n1. Echanges à partir des interventions : Quelle évolution des quartiers foyalais et de la politique de la ville jusqu’à ce jour ?\nAnimation : Mathieu PETIT \n20H30 – Contes et bèlè \n\n\nTOM\, Téat’ Otonom Mawon \, Croix Mission\, Boulevard du Général de Gaulle\, 122 rue Victor Sévère\, Fort de France \n \n \n  \nVille de Fort de France \n \n  \n 
URL:https://www.buzzmagmartinique.com/evenement/conferences-levolution-des-quartiers-foyalais-et-de-la-politique-de-la-ville-au-tom-fort-de-france/
CATEGORIES:Art & Culture
ATTACH;FMTTYPE=image/webp:https://www.buzzmagmartinique.com/wp-content/uploads/2026/01/IMG-20260404-WA00041.webp
END:VEVENT
BEGIN:VEVENT
DTSTART;TZID=Europe/Paris:20260424T190000
DTEND;TZID=Europe/Paris:20260424T190000
DTSTAMP:20260419T172337
CREATED:20240513T142156Z
LAST-MODIFIED:20260413T201718Z
UID:10007800-1777057200-1777057200@www.buzzmagmartinique.com
SUMMARY:BAL D'ÉCHANGE ET DE RENCONTRE AUTOUR DE LA HAUTE TAILLE À LA MJCA\, LE VAUCLIN
DESCRIPTION:  \n\nVille du Vauclin\, 0596 74 40 40
URL:https://www.buzzmagmartinique.com/evenement/bal-dechange-et-de-rencontre-autour-de-la-haute-taille-a-la-mjca-le-vauclin/
CATEGORIES:Art & Culture,Soirée
ATTACH;FMTTYPE=image/webp:https://www.buzzmagmartinique.com/wp-content/uploads/2024/05/659046136_1563595292435822_2601387784531012866_n1.webp
END:VEVENT
BEGIN:VEVENT
DTSTART;TZID=America/Halifax:20260424T190000
DTEND;TZID=America/Halifax:20260424T190000
DTSTAMP:20260419T172337
CREATED:20260331T214743Z
LAST-MODIFIED:20260408T005721Z
UID:10082332-1777057200-1777057200@www.buzzmagmartinique.com
SUMMARY:SOIRÉE "STAND UP COMEDY" PAR MARTINIQUE COMEDY CLUB AU KARIBÉA VALMENIÈRE HÔTEL\, FORT DE FRANCE
DESCRIPTION:Stand Up – Martinique Comedy Club \nCe Vendredi à 19h (début du show à 19h30) à l’Hôtel Valmenière – Fort-de-France. \nViens découvrir les nouveaux talents du stand-up & slam 100% humour ! \nEntrée 3€ (conso obligatoire)\nSortie au chapeau \nPossibilité de dîner au restaurant Le DÔME juste à côté.\nInfos & inscriptions : WhatsApp 0696 77 20 60 \nDes rires\, des découvertes et une ambiance inoubliable t’attendent ! \n\n\n\n\n  \n\nKaribéa Valmenière Hôtel\, avenue des Arawaks\, Fort de France\, 0596 75 75 77
URL:https://www.buzzmagmartinique.com/evenement/soiree-stand-up-comedy-par-martinique-comedy-club-au-karibea-valmeniere-hotel-fort-de-france-2-3/2026-04-24/
LOCATION:Karibéa Valmenière Hôtel\, Avenue des Arawaks\, Fort de France\, 97200\, Martinique
CATEGORIES:Art & Culture,Soirée
ATTACH;FMTTYPE=image/webp:https://www.buzzmagmartinique.com/wp-content/uploads/2026/03/IMG-20260403-WA0027.webp
END:VEVENT
BEGIN:VEVENT
DTSTART;TZID=America/Halifax:20260424T190000
DTEND;TZID=America/Halifax:20260424T210000
DTSTAMP:20260419T172337
CREATED:20260119T192814Z
LAST-MODIFIED:20260407T143236Z
UID:10049993-1777057200-1777064400@www.buzzmagmartinique.com
SUMMARY:THÉÂTRE "L'AVARE" À TROPIQUES ATRIUM\, FORT DE FRANCE
DESCRIPTION:L’AVARESalle Aimé CésaireTarif : 30€ 25€ 12€Réservez dès maintenant !  urlr.me/4Ks28qAu lieu de jeter\, ramenez ce que vous n’utilisez plus pour qu’il trouve sa place sur scène !Clément Poirée revisite l’Avare\, pièce hilarante de Molière sur un grand vice\, un désir ogresque qui confine à la folie\, à la tyrannie\, « en mode radin » pour interroger ses résonances au temps de la décroissance aujourd’hui où les valeurs sont renversées. Sur scène\, une troupe en slip devant des étagères vides ! Tout le monde est là\, les interprètes mais aussi l’équipe artistique qui habituellement œuvre dans le secret des répétitions. Ils n’attendent que le public et… ce qu’il voudra bien leur donner. Objets\, vêtements\, draps\, livres\, papier\, boîtes\, bijoux\, CD\, craies\, café soluble… tout est bon !Un happening chaque soir différent. Une manière d’éclairer notre rapport intime à l’avarice et de mettre à nu ce qui fait la richesse d’un spectacle : une équipe à l’unisson et un public-artiste qui apporte la pièce manquante. Un Avare à l’épreuve de ce qui fonde l’art de la représentation : le partage. Une expérience d’économie circulaire aussi puisque vos dons seront redistribués pour le réemploi solidaire. Alors\, prodigue ou avare\, une chose est sûre\, n’oubliez pas votre objet !————–Production :Théâtre de la Tempête\, subventionné par le ministère de la Culture et la région Ile-de-France\, soutenu par la ville de ParisCoproduction :Théâtre de la Manufacture – CDN Nancy Lorraine\, la CREA – Coopérative de Résidence pour les Écritures et les Auteurs-rices – Mont-Saint-Michel – Normandie\, Les Passerelles\, scène de Paris – Vallée de la Marne à Pontault-Combault\, L’Azimut – Antony / Châtenay-Malabry\, Pôle National Cirque en Ile-de France\, Théâtre Romain Rolland – Scène Conventionnée de Villejuif et du Grand-Orly Seine BièvreAvec le soutien de :Théâtre de Sartrouville et des Yvelines – CDN\, de l’École de la Comédie de Saint-Étienne/DIÈSE# Auvergne Rhône-Alpes\, dispositif d’insertion de l’École du Nord et de la Région Ile-de-France \n\n\n\n\n\n\n\n\n\n\n\n\n\n\n\n\n\n\nTropiques Atrium\, 6 rue Jacques Cazotte\, Fort de France\, 0596 70 79 29
URL:https://www.buzzmagmartinique.com/evenement/theatre-lavare-a-tropiques-atrium-fort-de-france/
LOCATION:TROPIQUES ATRIUM SCENE NATIONALE\, 6\, rue Jacques Cazotte\, Fort-de-France\, 97200\, Martinique
CATEGORIES:Art & Culture
ATTACH;FMTTYPE=image/webp:https://www.buzzmagmartinique.com/wp-content/uploads/2026/01/660171534_1476779567828032_5200545805605094310_n1.webp
END:VEVENT
BEGIN:VEVENT
DTSTART;TZID=America/Halifax:20260424T190000
DTEND;TZID=America/Halifax:20260424T235900
DTSTAMP:20260419T172337
CREATED:20240818T073810Z
LAST-MODIFIED:20260407T161202Z
UID:10002606-1777057200-1777075140@www.buzzmagmartinique.com
SUMMARY:MUSIQUE LIVE "TILO BERTHOLO & XAVIER BELIN" DANS LES JARDINS DE BELFORT\, LE LAMENTIN
DESCRIPTION:BELFORT KREYOL JAZZ \nProchain rendez-vous avec Tilo Bertholo & Xavier Belin. \nUn duo d’artistes aux univers complémentaires :– Tilo Bertholo\, entre jazz\, groove et influences caribéennes– Xavier Belin\, pianiste à l’écriture fine et sensible \nAvec :Enrick Tuernal-Vatran (basse)\, Miki Telephe (percussions) \nGuest : Luther François (saxophone) \nRéservez votre place \nhttps://my.weezevent.com/evenements-belfort? \nPlaces très limitées ne vous laissez plus surprendre \n  \n\n\n\n\n\n\n\nLes Jardins de Belfort\, Chemin Belfort\, Quartier Soudon\, Le Lamentin\,  0696 25 25 89 \n \n\n\n\n\n\n\n \n 
URL:https://www.buzzmagmartinique.com/evenement/musique-live-tilo-bertholo-xavier-belin-dans-les-jardins-de-belfort-le-lamentin/
LOCATION:Les Jardins de Belfort\, Chemin Soudon\, Le Lamentin\, 97232\, Martinique
CATEGORIES:Soirée
ATTACH;FMTTYPE=image/webp:https://www.buzzmagmartinique.com/wp-content/uploads/2024/08/667753218_1316088420337713_6651570574685783454_n.webp
END:VEVENT
BEGIN:VEVENT
DTSTART;TZID=Europe/Paris:20260424T190000
DTEND;TZID=Europe/Paris:20260425T234500
DTSTAMP:20260419T172337
CREATED:20240202T113344Z
LAST-MODIFIED:20260409T170011Z
UID:10007788-1777057200-1777160700@www.buzzmagmartinique.com
SUMMARY:MUSIQUE LIVE "MM'SAX PAR MARIUS MODESTE & FRIENDS" À L'AROBASE\, SCHOELCHER
DESCRIPTION:OPENING 19H30\, début du live à 21H00 \nLe nombre de places est limité\, alors n’hésitez plus\, réservez votre table au 0596.617.323 ou 0696.358.340 (Tél\, whatsap ou sms) \nService Restauration I Consommation obligatoire I Mineurs autorisés \nDe 19h30 à 00h30\nTarif : Entrée Libre et dîner obligatoire \n\n\n\n\n\n\nL’arObase\, Casino Batelière-Plazza\, Schœlcher\, 0696 35 83 40 /
URL:https://www.buzzmagmartinique.com/evenement/musique-live-mmsax-par-marius-modeste-friends-a-larobase-schoelcher/
LOCATION:l’arObase\, CASINO BATELIERE-PLAZZA\, Schœlcher\, 97233\, Martinique
CATEGORIES:Soirée
ATTACH;FMTTYPE=image/webp:https://www.buzzmagmartinique.com/wp-content/uploads/2024/02/661476929_1563028939163928_7735609871460083620_n1.webp
ORGANIZER;CN="l'arObase":MAILTO:arobase@groupecogit.com
END:VEVENT
BEGIN:VEVENT
DTSTART;TZID=America/Martinique:20260424T193000
DTEND;TZID=America/Martinique:20260425T000000
DTSTAMP:20260419T172337
CREATED:20250123T162245Z
LAST-MODIFIED:20260409T150206Z
UID:10035743-1777059000-1777075200@www.buzzmagmartinique.com
SUMMARY:MUSIQUE LIVE "RALPH THAMAR - SAËL - JOE MICHELS" PAR WINDIES PARADISE
DESCRIPTION:3 voix. 3 styles. 3 générations. \nUne seule expérience à vivre.\nLes 24 et 25 avril 2026\, Windies Paradise vous donne rendez-vous dans le sud de la Martinique\, à partir de 19h30\, pour deux soirées privées dans une villa privatisée. \nSur scène : \nJoe Michels (la pépite) \nSaël (l’incontournable) \nRalph Thamar (la légende vivante) \nTrois générations\, une rencontre musicale rare. \nAccompagnés par Brice Bapté (basse)\, Guillaume Bernard (batterie)\, Jean-Philippe Meyniac (Sax)\, Raymonia Moco et Claudine Pennont (choeurs) sous la direction musicale de Ronald Tulle. \nTous les éléments sont réunis pour faire de cette première édition un rendez-vous à ne pas manquer. \nLes places limitées. \nInfos et réservation www.windiesparadise.com \n\nWindies Paradise\, WhatsApp +596 696 61 02 26
URL:https://www.buzzmagmartinique.com/evenement/musique-live-ralph-thamar-sael-joe-michels-par-windies-paradise/
CATEGORIES:Soirée
ATTACH;FMTTYPE=image/webp:https://www.buzzmagmartinique.com/wp-content/uploads/2025/01/0ytmYJUJ3rEh1.webp
END:VEVENT
BEGIN:VEVENT
DTSTART;TZID=Europe/Paris:20260424T200000
DTEND;TZID=Europe/Paris:20260424T200000
DTSTAMP:20260419T172337
CREATED:20221024T163113Z
LAST-MODIFIED:20260409T021334Z
UID:10080999-1777060800-1777060800@www.buzzmagmartinique.com
SUMMARY:SOIRÉE DJ "THE NIGHT GRILLADE" AU RESTO GRILL LE JARDIN L'ACTE II+\, LE VAUCLIN
DESCRIPTION:  \nL’abus d’alcool est dangereux pour la santé à consommer avec modération. \n\nResto Grill  Le Jardin L’Acte II+\, Quartier Sans Souci\, Le Vauclin\, 0696 08 97 67
URL:https://www.buzzmagmartinique.com/evenement/soiree-dj-the-night-grillade-au-resto-grill-le-jardin-lacte-ii-le-vauclin/2026-04-24/
LOCATION:Le jardin Resto Grill\, Quartier Sans Souci\, Le Vauclin\, 97280\, Martinique
CATEGORIES:Soirée
ATTACH;FMTTYPE=image/webp:https://www.buzzmagmartinique.com/wp-content/uploads/2022/10/40e121fe60396d579c93f560001c4631_700_600_landscape_971.webp
ORGANIZER;CN="Le jardin Resto Grill":MAILTO:lejardinrestogrill.resa@gmail.com
END:VEVENT
BEGIN:VEVENT
DTSTART;TZID=Europe/Paris:20260424T200000
DTEND;TZID=Europe/Paris:20260424T200000
DTSTAMP:20260419T172337
CREATED:20250311T170708Z
LAST-MODIFIED:20250728T134452Z
UID:10052010-1777060800-1777060800@www.buzzmagmartinique.com
SUMMARY:SOIRÉE KARAOKÉ AU G'FAIM\, LE ROBERT
DESCRIPTION:G’Faim\, Cité Mansarde Catalogne\, Le Robert\, 0596 69 49 88
URL:https://www.buzzmagmartinique.com/evenement/soiree-karaoke-au-gfaim-le-robert/2026-04-24/
LOCATION:G’Faim\, Cité Mansarde Catalogne\, Le Robert\, Martinique
CATEGORIES:Soirée
ATTACH;FMTTYPE=image/webp:https://www.buzzmagmartinique.com/wp-content/uploads/2025/03/Capture-decran-2025-06-26-111751.webp
END:VEVENT
BEGIN:VEVENT
DTSTART;TZID=Europe/Paris:20260424T200000
DTEND;TZID=Europe/Paris:20260424T233000
DTSTAMP:20260419T172337
CREATED:20250630T193015Z
LAST-MODIFIED:20260402T181808Z
UID:10055563-1777060800-1777073400@www.buzzmagmartinique.com
SUMMARY:MUSIQUE LIVE "KOÉZYON" AU KOKOARUM\, LE MARIN
DESCRIPTION:KOÉZYON EN CONCERT LIVE ! \nPréparez-vous pour une immersion totale au cœur des sonorités caribéennes. \nLe groupe Koézyon débarque sur la scène du Kokoarum pour une soirée qui s’annonce mémorable ! \nAccompagnés de la voix emblématique de Jean-Michel GALVA\, ils vous feront vibrer au rythme des plus grands standards et des pépites de la musique antillaise. \nAu programme : \nZouk langoureux et énergique\nKompa authentique\nAmbiance 100% Antilles \nInfos Pratiques \nNote : Pensez à réserver votre table ou vos places à l’avance pour ne pas manquer ce rendez-vous incontournable de la scène locale. \nVenez vivre la « Koezyon » musicale avec Jean-Michel Galva ! \n\nKokoarum Rhumerie\, Nouvelle Marina\, boulevard Allègre\, Le Marin\, 0596 48 02 21
URL:https://www.buzzmagmartinique.com/evenement/musique-live-koezyon-au-kokoarum-le-marin/
LOCATION:Kokoarum Rhumerie\, Nouvelle Marina\, boulevard Allègre\, Le Marin\, 97290\, Martinique
CATEGORIES:Soirée
ATTACH;FMTTYPE=image/webp:https://www.buzzmagmartinique.com/wp-content/uploads/2025/06/658924028_1558991276227899_6880305235644458091_n.webp
ORGANIZER;CN="Kokoarum Rhumerie":MAILTO:datobreizh97@gmail.com
END:VEVENT
BEGIN:VEVENT
DTSTART;TZID=America/Halifax:20260424T220000
DTEND;TZID=America/Halifax:20260424T220000
DTSTAMP:20260419T172337
CREATED:20201116T090439Z
LAST-MODIFIED:20260219T155453Z
UID:10081522-1777068000-1777068000@www.buzzmagmartinique.com
SUMMARY:SOIRÉE DJ "LUNETTES NOIRES POUR NUITS BLANCHES" À UBUNTU\, FORT DE FRANCE
DESCRIPTION:LUNETTES NOIRES POUR NUITS BLANCHES \nLe rendez-vous du vendredi soir qui ne ressemble à aucun autre. \nTous les vendredis à partir de 22h \nBilletterie Bizouk \n\n\nUbuntu Le Jardin Suspendu\, 7 rue Isambert\, Fort-de-France\, 0696 26 12 67
URL:https://www.buzzmagmartinique.com/evenement/soiree-dj-lunettes-noires-pour-nuits-blanches-a-ubuntu-fort-de-france/2026-04-24/
LOCATION:Ubuntu Le Jardin Suspendu\, 7 rue Isambert\, Fort-de-France\, 97200\, Martinique
CATEGORIES:Soirée
ATTACH;FMTTYPE=image/webp:https://www.buzzmagmartinique.com/wp-content/uploads/2020/11/1e7135b3e762f7604bdc642ee4270457_700_600_landscape_971.webp
ORGANIZER;CN="Ubuntu Le Jardin Suspendu":MAILTO:contact@ubuntu.bar
END:VEVENT
END:VCALENDAR