BEGIN:VCALENDAR
VERSION:2.0
PRODID:-//Buzzmag - ECPv6.15.20//NONSGML v1.0//EN
CALSCALE:GREGORIAN
METHOD:PUBLISH
X-WR-CALNAME:Buzzmag
X-ORIGINAL-URL:https://www.buzzmagmartinique.com
X-WR-CALDESC:Évènements pour Buzzmag
REFRESH-INTERVAL;VALUE=DURATION:PT1H
X-Robots-Tag:noindex
X-PUBLISHED-TTL:PT1H
BEGIN:VTIMEZONE
TZID:Europe/Paris
BEGIN:DAYLIGHT
TZOFFSETFROM:+0100
TZOFFSETTO:+0200
TZNAME:CEST
DTSTART:20250330T010000
END:DAYLIGHT
BEGIN:STANDARD
TZOFFSETFROM:+0200
TZOFFSETTO:+0100
TZNAME:CET
DTSTART:20251026T010000
END:STANDARD
BEGIN:DAYLIGHT
TZOFFSETFROM:+0100
TZOFFSETTO:+0200
TZNAME:CEST
DTSTART:20260329T010000
END:DAYLIGHT
BEGIN:STANDARD
TZOFFSETFROM:+0200
TZOFFSETTO:+0100
TZNAME:CET
DTSTART:20261025T010000
END:STANDARD
BEGIN:DAYLIGHT
TZOFFSETFROM:+0100
TZOFFSETTO:+0200
TZNAME:CEST
DTSTART:20270328T010000
END:DAYLIGHT
BEGIN:STANDARD
TZOFFSETFROM:+0200
TZOFFSETTO:+0100
TZNAME:CET
DTSTART:20271031T010000
END:STANDARD
END:VTIMEZONE
BEGIN:VTIMEZONE
TZID:America/Halifax
BEGIN:DAYLIGHT
TZOFFSETFROM:-0400
TZOFFSETTO:-0300
TZNAME:ADT
DTSTART:20250309T060000
END:DAYLIGHT
BEGIN:STANDARD
TZOFFSETFROM:-0300
TZOFFSETTO:-0400
TZNAME:AST
DTSTART:20251102T050000
END:STANDARD
BEGIN:DAYLIGHT
TZOFFSETFROM:-0400
TZOFFSETTO:-0300
TZNAME:ADT
DTSTART:20260308T060000
END:DAYLIGHT
BEGIN:STANDARD
TZOFFSETFROM:-0300
TZOFFSETTO:-0400
TZNAME:AST
DTSTART:20261101T050000
END:STANDARD
BEGIN:DAYLIGHT
TZOFFSETFROM:-0400
TZOFFSETTO:-0300
TZNAME:ADT
DTSTART:20270314T060000
END:DAYLIGHT
BEGIN:STANDARD
TZOFFSETFROM:-0300
TZOFFSETTO:-0400
TZNAME:AST
DTSTART:20271107T050000
END:STANDARD
END:VTIMEZONE
BEGIN:VTIMEZONE
TZID:America/Martinique
BEGIN:STANDARD
TZOFFSETFROM:-0400
TZOFFSETTO:-0400
TZNAME:AST
DTSTART:20250101T000000
END:STANDARD
END:VTIMEZONE
BEGIN:VTIMEZONE
TZID:Europe/Paris
BEGIN:DAYLIGHT
TZOFFSETFROM:+0100
TZOFFSETTO:+0200
TZNAME:CEST
DTSTART:20250330T010000
END:DAYLIGHT
BEGIN:STANDARD
TZOFFSETFROM:+0200
TZOFFSETTO:+0100
TZNAME:CET
DTSTART:20251026T010000
END:STANDARD
BEGIN:DAYLIGHT
TZOFFSETFROM:+0100
TZOFFSETTO:+0200
TZNAME:CEST
DTSTART:20260329T010000
END:DAYLIGHT
BEGIN:STANDARD
TZOFFSETFROM:+0200
TZOFFSETTO:+0100
TZNAME:CET
DTSTART:20261025T010000
END:STANDARD
BEGIN:DAYLIGHT
TZOFFSETFROM:+0100
TZOFFSETTO:+0200
TZNAME:CEST
DTSTART:20270328T010000
END:DAYLIGHT
BEGIN:STANDARD
TZOFFSETFROM:+0200
TZOFFSETTO:+0100
TZNAME:CET
DTSTART:20271031T010000
END:STANDARD
END:VTIMEZONE
BEGIN:VEVENT
DTSTART;VALUE=DATE:20260420
DTEND;VALUE=DATE:20260427
DTSTAMP:20260419T172429
CREATED:20220528T104811Z
LAST-MODIFIED:20260414T131528Z
UID:10003303-1776643200-1777247999@www.buzzmagmartinique.com
SUMMARY:FESTIVAL D'ARTS DE RUE "LÉZARD TI SHOW 2026"\, LE CARBET
DESCRIPTION:La 15e édition du Festival Lézard Ti Show\n\nArts de rue • Spectacles • Performances • Créations\nTemps fort : 25 & 26 avril\, scènes éphémères partout dans la ville\nLe Lézard Ti Show\, c’est :\nun festival d’arts de rue pour petits & grands\ndes artistes caribéen·ne·s mis en lumière\nune ambiance unique entre mer\, rivière et centre-bourg\nune semaine d’animations\, scolaires le jour et tout public le soir\n\n\n\n\n\n \n \n \n  \n \n \n  \nPrologue : https://canva.link/0u0cpkaanv39lv1 \nWeek-end : https://canva.link/8c7lrl0vni2mu5h \n  \n\n\n\nLézard Ti Show
URL:https://www.buzzmagmartinique.com/evenement/festival-darts-de-rue-lezard-ti-show-2026-le-carbet/
CATEGORIES:Art & Culture,Jeune public
ATTACH;FMTTYPE=image/webp:https://www.buzzmagmartinique.com/wp-content/uploads/2022/05/IMG-20260406-WA0019.webp
ORGANIZER;CN="Association L%C3%A9zard Ti Show":MAILTO:lezardtishow@yahoo.fr
END:VEVENT
BEGIN:VEVENT
DTSTART;TZID=Europe/Paris:20260422T080000
DTEND;TZID=Europe/Paris:20260422T210000
DTSTAMP:20260419T172429
CREATED:20240808T195130Z
LAST-MODIFIED:20260327T032605Z
UID:10081993-1776844800-1776891600@www.buzzmagmartinique.com
SUMMARY:EXPOSITION "CET ENTRE-DEUX" AU HANGAR POLYVALENT\, FORT DE FRANCE
DESCRIPTION:  \nCET ENTRE-DEUX — une expérience photographique immersive \nEt si la peur devenait un passage ? \nAvec « Cet Entre-Deux »\, le photographe Laurent Genteuil vous invite à traverser cet instant suspendu où tout bascule : entre résistance et lâcher-prise\, entre contrôle et abandon\, entre ombre et espoir. \nUne exposition immersive au Hangar Polyvalent où chaque image devient une étape\, chaque regard une perception nouvelle. \nPlus qu’une exposition\, une traversée intérieure.\nTarifs :\n• 30€ — accès à l’exposition immersive\n• 35€ — accès + 1 consommation \nLes places étant limitées\, la réservation est fortement conseillée. \n\nHangar Polyvalent\, 16 Avenue l’Orée du Parc\, Montgéralde\, Fort-de-France\, 0696 75 51 54\, hangarpolyvalent@gmail.com
URL:https://www.buzzmagmartinique.com/evenement/exposition-cet-entre-deux-au-hangar-polyvalent-fort-de-france/2026-04-22/
LOCATION:Hangar Polyvalent\, 16 Avenue l'Orée du Parc\, Montgéralde\, Fort-de-France\, 97200\, Martinique
CATEGORIES:Art & Culture
ATTACH;FMTTYPE=image/webp:https://www.buzzmagmartinique.com/wp-content/uploads/2024/08/IMG-20260326-WA00101.webp
ORGANIZER;CN="Hangar Polyvalent":MAILTO:hangarpolyvalent@gmail.com
END:VEVENT
BEGIN:VEVENT
DTSTART;TZID=Europe/Paris:20260422T083000
DTEND;TZID=Europe/Paris:20260422T171500
DTSTAMP:20260419T172429
CREATED:20231219T132711Z
LAST-MODIFIED:20250828T145940Z
UID:10067406-1776846600-1776878100@www.buzzmagmartinique.com
SUMMARY:ATELIERS ÉDUCATIFS SPORT-SANTÉ-LOISIRS\, SCHOELCHER
DESCRIPTION:𝐋𝐚𝐧𝐜𝐞𝐦𝐞𝐧𝐭 𝐝𝐞𝐬 𝐀𝐭𝐞𝐥𝐢𝐞𝐫𝐬 𝐄́𝐝𝐮𝐜𝐚𝐭𝐢𝐟𝐬 𝐒𝐩𝐨𝐫𝐭 – 𝐒𝐚𝐧𝐭𝐞́ – 𝐋𝐨𝐢𝐬𝐢𝐫𝐬 \nLa Ville met en place\, pour l’année 2025-2026\, ses Ateliers Éducatifs à destination des jeunes de 7 à 15 ans. \nAu programme :\nVélo\nTennis de table\nfitness\nBêlé \nDu 17 septembre 2025 au 27 juin 2026 \nLes mercredis après-midi (14h-17h15) et les samedis matin (8h30-11h45) \nDans les infrastructures sportives de la ville \nInscriptions dès le 2 septembre à la piscine municipale. \nLes places sont limitées\, ne tardez pas ! \nCes ateliers visent à favoriser l’épanouissement\, le bien-être et la découverte d’activités sportives ludiques pour nos jeunes. \n  \n\n\n\nVille de Schoelcher \n \n\n\n\n 
URL:https://www.buzzmagmartinique.com/evenement/ateliers-educatifs-sport-sante-loisirs-schoelcher/2026-04-22/
CATEGORIES:Jeune public,Sport
ATTACH;FMTTYPE=image/webp:https://www.buzzmagmartinique.com/wp-content/uploads/2023/12/09-17-SCHOELCHER-JUSQUEN-JUIN-2026-min11111.webp
ORGANIZER;CN="Ville de Schoelcher":MAILTO:mschoelcher@mairie-schoelcher.com
END:VEVENT
BEGIN:VEVENT
DTSTART;TZID=Europe/Paris:20260422T090000
DTEND;TZID=Europe/Paris:20260422T180000
DTSTAMP:20260419T172429
CREATED:20251127T133544Z
LAST-MODIFIED:20260129T131958Z
UID:10080179-1776848400-1776880800@www.buzzmagmartinique.com
SUMMARY:APPEL À CRÉATION ARTISTIQUE IN SITU DANS LA CHAPELLE DE L'ASILE BETHLÉEM\, SAINT PIERRE
DESCRIPTION:Le service Patrimoine Culture de Saint-Pierre vous souhaite une belle année 2026 ! \nL’espace de création artistique dans la chapelle de l’Asile Bethléem à Saint-Pierre continue d’accueillir des artistes pour un temps de création et de partage au cœur de l’installation Étoffe\, conçue par le collectif Téphra dans le cadre du festival d’architecture MATJOUKANN 2025.Artistes plasticiens\, performeurs\, musiciens\, poètes\, danseurs… Appropriez-vous ce lieu le temps d’une journée. \nChaque mercredi\, venez créer\, expérimentez\, laissez résonner vos gestes dans cet espace. En fin de journée\, une restitution intimiste est ouverte au public. \nPour plus de renseignements et inscriptions : cpt@saintpierre-mq.fr / 0696 17 64 34N’hésitez pas à diffuser cette information ! \n\nVille de Saint Pierre
URL:https://www.buzzmagmartinique.com/evenement/appel-a-creation-artistique-in-situ-dans-la-chapelle-de-lasile-bethleem-saint-pierre/2026-04-22/
CATEGORIES:Art & Culture
ATTACH;FMTTYPE=image/webp:https://www.buzzmagmartinique.com/wp-content/uploads/2025/11/622829483_1312975914190008_2922101226937303247_n.webp
END:VEVENT
BEGIN:VEVENT
DTSTART;TZID=Europe/Paris:20260422T130000
DTEND;TZID=Europe/Paris:20260422T150000
DTSTAMP:20260419T172429
CREATED:20250805T144002Z
LAST-MODIFIED:20250915T153602Z
UID:10071544-1776862800-1776870000@www.buzzmagmartinique.com
SUMMARY:ATELIER THÉÂTRE AMATEURS ADO AU TOM\, FORT DE FRANCE
DESCRIPTION:TOM\, Téat’ Otonom Mawon \, Croix Mission\, Boulevard du Général de Gaulle\, 122 rue Victor Sévère\, Fort de France \n \n 
URL:https://www.buzzmagmartinique.com/evenement/atelier-theatre-amateurs-ado-au-tom-fort-de-france/2026-04-22/
LOCATION:TOM\, Téat’ Otonom Mawon\, Croix Mission\, Boulevard du Général de Gaulle\, Fort de France\, 97200\, Martinique
CATEGORIES:Art & Culture,Jeune public
ATTACH;FMTTYPE=image/webp:https://www.buzzmagmartinique.com/wp-content/uploads/2025/08/IMG-20250915-WA0003.webp
END:VEVENT
BEGIN:VEVENT
DTSTART;TZID=America/Halifax:20260422T133000
DTEND;TZID=America/Halifax:20260422T160000
DTSTAMP:20260419T172429
CREATED:20241118T185704Z
LAST-MODIFIED:20260415T180218Z
UID:10011077-1776864600-1776873600@www.buzzmagmartinique.com
SUMMARY:ESCAPE GAME "SANTÉ" AU CENTRE DE PRÉVENTION SANTÉ & VACCINATION\, FORT DE FRANCE
DESCRIPTION:𝐄𝐬𝐜𝐚𝐩𝐞 𝐆𝐚𝐦𝐞 « 𝐒𝐚𝐧𝐭𝐞́ » \nInscris toi et participe à un jeu collaboratif « 𝙈𝙖 𝙢𝙖𝙞𝙨𝙤𝙣 𝙖 𝙢𝙖𝙪𝙫𝙖𝙞𝙨 𝙖𝙞𝙧 ! » \nLes Mercredis 22 et 29 Avril au Centre de Prévention Santé et Vaccination de Sainte-Thérèse (Immeuble du Port) \n  \n\nCentre de Prévention Santé et Vaccination\, Immeuble du Port\, 8 avenue Maurice Bishop\, Sainte Thérèse\, Fort de France
URL:https://www.buzzmagmartinique.com/evenement/escape-game-sante-au-centre-de-prevention-sante-vaccination-fort-de-france/
LOCATION:Centre de Prévention Santé et Vaccination\, Immeuble du Port\, 8 avenue Maurice Bishop\, Sainte Thérèse\, Fort de France\, 97200\, Martinique
CATEGORIES:Santé
ATTACH;FMTTYPE=image/webp:https://www.buzzmagmartinique.com/wp-content/uploads/2024/11/IMG-20260414-WA00171.webp
END:VEVENT
BEGIN:VEVENT
DTSTART;TZID=Europe/Paris:20260422T133000
DTEND;TZID=Europe/Paris:20260422T173000
DTSTAMP:20260419T172429
CREATED:20220127T143655Z
LAST-MODIFIED:20260402T150059Z
UID:10082294-1776864600-1776879000@www.buzzmagmartinique.com
SUMMARY:CYCLE DE PROJECTIONS "MWA SILÉMA LAKARAYIB" À L'UNIVERSITÉ DES ANTILLES\, SCHOELCHER
DESCRIPTION:La Faculté Jean Bernabé vous invite à découvrir le « Mwa Siléma Lakarayib »\, un cycle de projections\, gratuit et ouvert à tous\, consacré aux cinémas de la Caraïbe et de l’océan Indien.Organisé avec la participation des étudiants de la licence Créole\, ce rendez-vous sera l’occasion de découvrir des œuvres cinématographiques issues de la Caraïbe et de l’océan Indien et d’échanger autour des thématiques abordées.Tous les mercredisDu 25 mars au 20 mai 202613h30 – 17h30Salle 10 – Faculté Jean BernabéConsulter le programme complet :https://www.calameo.com/read/00561866757cf7ec89ce1Responsable et coordinateur : David Khatile. \n\nNous espérons vous y retrouver nombreuses et nombreux. \n\n\n\n\n\n\n\n\n\n\n\n\n\n\n\n\nPôle Universitaire de la Martinique\, Campus de Schœlcher\, 0596 72 73 01 \n \n 
URL:https://www.buzzmagmartinique.com/evenement/cycle-de-projections-mwa-silema-lakarayib-a-luniversite-des-antilles-schoelcher/2026-04-22/
LOCATION:Pôle Universitaire de la Martinique\, Campus de Schœlcher\, Schœlcher\, 97275\, Martinique
CATEGORIES:Art & Culture
ATTACH;FMTTYPE=image/webp:https://www.buzzmagmartinique.com/wp-content/uploads/2022/01/657881920_1344850534356747_6435589554606091381_n.webp
END:VEVENT
BEGIN:VEVENT
DTSTART;TZID=America/Martinique:20260422T134500
DTEND;TZID=America/Martinique:20260422T174500
DTSTAMP:20260419T172429
CREATED:20250203T185224Z
LAST-MODIFIED:20250925T122540Z
UID:10073565-1776865500-1776879900@www.buzzmagmartinique.com
SUMMARY:ATELIERS CULTURE CHINOISE AU TOM\, FORT DE FRANCE
DESCRIPTION:TOM\, Téat’ Otonom Mawon \, Croix Mission\, Boulevard du Général de Gaulle\, 122 rue Victor Sévère\, Fort de France
URL:https://www.buzzmagmartinique.com/evenement/ateliers-culture-chinoise-au-tom-fort-de-france/2026-04-22/
LOCATION:TOM\, Téat’ Otonom Mawon\, Croix Mission\, Boulevard du Général de Gaulle\, Fort de France\, 97200\, Martinique
CATEGORIES:Art & Culture,Jeune public
ATTACH;FMTTYPE=image/webp:https://www.buzzmagmartinique.com/wp-content/uploads/2025/02/IMG-20250924-WA0031.webp
END:VEVENT
BEGIN:VEVENT
DTSTART;TZID=America/Martinique:20260422T140000
DTEND;TZID=America/Martinique:20260422T170000
DTSTAMP:20260419T172429
CREATED:20221219T130846Z
LAST-MODIFIED:20250828T122545Z
UID:10067332-1776866400-1776877200@www.buzzmagmartinique.com
SUMMARY:ATELIERS CRÉATIFS "LES MERCREDIS CRÉATIFS - LA MER" À L'ESPACE CULTUREL EUGÈNE MONA\, LE MARIGOT
DESCRIPTION:  \n\nL’Espace Culturel Eugène Mona\, Le Marigot
URL:https://www.buzzmagmartinique.com/evenement/ateliers-creatifs-les-mercredis-creatifs-la-mer-a-lespace-culturel-eugene-mona-le-marigot/2026-04-22/
LOCATION:Espace Culturel Eugène Mona\, Le Marigot\, 97225\, Martinique
CATEGORIES:Art & Culture,Jeune public
ATTACH;FMTTYPE=image/webp:https://www.buzzmagmartinique.com/wp-content/uploads/2022/12/518411488_1158609619628810_5857284620373182325_n1.webp
END:VEVENT
BEGIN:VEVENT
DTSTART;TZID=Europe/Paris:20260422T143000
DTEND;TZID=Europe/Paris:20260422T173000
DTSTAMP:20260419T172429
CREATED:20240627T125212Z
LAST-MODIFIED:20250717T153959Z
UID:10060814-1776868200-1776879000@www.buzzmagmartinique.com
SUMMARY:INITIATION À LA MOTO-CROSS PAR MÉCANIQUE POUR TOUS SUR LA SAVANE\, FORT DE FRANCE
DESCRIPTION:Mécanique pour tous
URL:https://www.buzzmagmartinique.com/evenement/initiation-a-la-moto-cross-par-mecanique-pour-tous-sur-la-savane-fort-de-france/2026-04-22/
CATEGORIES:Jeune public,Sport
ATTACH;FMTTYPE=image/webp:https://www.buzzmagmartinique.com/wp-content/uploads/2024/06/07-18-MECANIQUE-POUR-TOUS-SERGE-BUNOD.webp
END:VEVENT
BEGIN:VEVENT
DTSTART;TZID=Europe/Paris:20260422T150000
DTEND;TZID=Europe/Paris:20260422T160000
DTSTAMP:20260419T172429
CREATED:20231123T121853Z
LAST-MODIFIED:20251016T130741Z
UID:10070237-1776870000-1776873600@www.buzzmagmartinique.com
SUMMARY:ATELIER BÈLÈ AU TOM\, FORT DE FRANCE
DESCRIPTION:TOM\, Téat’ Otonom Mawon \, Croix Mission\, Boulevard du Général de Gaulle\, 122 rue Victor Sévère\, Fort de France
URL:https://www.buzzmagmartinique.com/evenement/atelier-bele-au-tom-fort-de-france/2026-04-22/
CATEGORIES:Art & Culture
ATTACH;FMTTYPE=image/webp:https://www.buzzmagmartinique.com/wp-content/uploads/2023/11/IMG-20251015-WA0041.webp
END:VEVENT
BEGIN:VEVENT
DTSTART;TZID=Europe/Paris:20260422T163000
DTEND;TZID=Europe/Paris:20260422T183000
DTSTAMP:20260419T172429
CREATED:20181120T160424Z
LAST-MODIFIED:20260213T124721Z
UID:10081511-1776875400-1776882600@www.buzzmagmartinique.com
SUMMARY:VISITES COMMENTÉES "PEINDRE À LA MARTINIQUE" À LA FONDATION CLÉMENT\, LE FRANÇOIS
DESCRIPTION:« Peindre à la Martinique » aborde la question des pratiques artistiques en Martinique entre 1765 et 1943.\nPlus de 150 œuvres retracent les grandes temporalités de l’histoire de l’art de la Martinique : de la construction des imaginaires coloniaux dominants jusqu’à la rébellion esthétique portée par la négritude et le surréalisme\, avec la création de l’école des arts appliqués.\nL’exposition rend compte des fractures\, des silences\, des préjugés\, mais aussi des résistances et des combats depuis la Martinique et Paris\, pour l’accès à la formation artistique dans les écoles publiques et pour le développement\, dès l’entre-deux-guerres\, d’un art martiniquais représentant les gens\, les scènes et les paysages du 𝑝𝑒́𝑦𝑖.\n\n\n\nCette exposition est réalisée avec le prêt et le concours exceptionnels du musée du quai Branly – Jacques Chirac\n\n\n\nVisites commentées : tous les mercredis et vendredis à 16h30\n\n\nActivité gratuite sans réservation\n\nPlus d’infos sur notre site web  https://bit.ly/3xngpZj\n\n\n\nPhoto : JF Gouait\n\n  \n\nFondation Clément\, Habitation Clément\, Le François
URL:https://www.buzzmagmartinique.com/evenement/visites-commentees-peindre-a-la-martinique-a-la-fondation-clement-le-francois/2026-04-22/
LOCATION:Fondation Clément\, Habitation Clément\, Le François\, 97240\, Martinique
CATEGORIES:Art & Culture
ATTACH;FMTTYPE=image/webp:https://www.buzzmagmartinique.com/wp-content/uploads/2018/11/631462740_1328228916000096_2989353763629446974_n1.webp
ORGANIZER;CN="Fondation Cl%C3%A9ment":MAILTO:fondation-clement@gbh.fr
END:VEVENT
BEGIN:VEVENT
DTSTART;TZID=Europe/Paris:20260422T180000
DTEND;TZID=Europe/Paris:20260422T203000
DTSTAMP:20260419T172429
CREATED:20231205T182842Z
LAST-MODIFIED:20250210T184328Z
UID:10045731-1776880800-1776889800@www.buzzmagmartinique.com
SUMMARY:ATELIER D'IMPRO AU STUDIO MAB'\, SAINTE LUCE
DESCRIPTION:  \n\nStudio Mab’\, Anse Mabouya (à côté de l’hôtel Iloma)\, Sainte-Luce
URL:https://www.buzzmagmartinique.com/evenement/atelier-dimpro-au-studio-mab-sainte-luce/2026-04-22/
LOCATION:Studio Mab’\, Anse Mabouya (à côté de l'hôtel Iloma)\, Sainte-Luce\, 97228\, Martinique
CATEGORIES:Art & Culture
ATTACH;FMTTYPE=image/jpeg:https://www.buzzmagmartinique.com/wp-content/uploads/2023/12/IMG-20250209-WA0011.jpg
END:VEVENT
BEGIN:VEVENT
DTSTART;TZID=America/Halifax:20260422T180000
DTEND;TZID=America/Halifax:20260424T210000
DTSTAMP:20260419T172429
CREATED:20210114T073611Z
LAST-MODIFIED:20260403T142455Z
UID:10002802-1776880800-1777064400@www.buzzmagmartinique.com
SUMMARY:DANSE "MASTER CLASS CONTACT IMPROVISATION" À TROPIQUES ATRIUM\, FORT DE FRANCE
DESCRIPTION:Master class Contact improvisation\, animée par Jean-Hugues Mirédin Infos pratiques : Dates : 22\, 23 et 24 avril\, de 18h à 21h.Public : Danseurs de tous niveauxTarif : 25€Le contact improvisation est une danse dans laquelle les partenaires en contact physique vont chercher une rencontre dans un mouvement qui laisse toujours chacun libre d’intéragir à son gré.Inscription : Corinne Badian – cbadian@tropiques-atrium.fr Plus d’infos : https://tropiques-atrium.fr/…/master-class-contact…/ \n\n\nTropiques Atrium Scène Nationale\, 6 rue Cazotte\, Fort de France\, 0596 70 79 29
URL:https://www.buzzmagmartinique.com/evenement/danse-master-class-contact-improvisation-a-tropiques-atrium-fort-de-france/
LOCATION:TROPIQUES ATRIUM SCENE NATIONALE\, 6\, rue Jacques Cazotte\, Fort-de-France\, 97200\, Martinique
CATEGORIES:Art & Culture
ATTACH;FMTTYPE=image/webp:https://www.buzzmagmartinique.com/wp-content/uploads/2021/01/661689831_1473085461530776_5291013029146371847_n1.webp
ORGANIZER;CN="TROPIQUES ATRIUM SCENE NATIONALE":MAILTO:info@tropiques-atrium.fr
END:VEVENT
BEGIN:VEVENT
DTSTART;TZID=Europe/Paris:20260422T190000
DTEND;TZID=Europe/Paris:20260422T190000
DTSTAMP:20260419T172429
CREATED:20240903T124620Z
LAST-MODIFIED:20250211T160257Z
UID:10046807-1776884400-1776884400@www.buzzmagmartinique.com
SUMMARY:SOIRÉE DJ SALSA ET BACHATA AU KINKY MANGO\, LE LAMENTIN
DESCRIPTION:L’abus d’alcool est dangereux pour la santé à consommer avec modération.\n\nKinky Mango\, Hauts de Californie\, Le Lamentin
URL:https://www.buzzmagmartinique.com/evenement/musique-live-au-kinky-mango-le-lamentin/2026-04-22/
LOCATION:Kinky Mango\, Les Hauts de Californie\, Le Lamentin\, 97200\, Martinique
CATEGORIES:Soirée
ATTACH;FMTTYPE=image/jpeg:https://www.buzzmagmartinique.com/wp-content/uploads/2024/09/WhatsApp-Image-2025-02-11-a-11.40.55_dc63512f.jpg
END:VEVENT
BEGIN:VEVENT
DTSTART;TZID=Europe/Paris:20260422T190000
DTEND;TZID=Europe/Paris:20260422T210000
DTSTAMP:20260419T172429
CREATED:20240409T171618Z
LAST-MODIFIED:20260413T192836Z
UID:10009759-1776884400-1776891600@www.buzzmagmartinique.com
SUMMARY:CINÉ FOYAL "BREAK OF DAWN" PAR CADICE CINÉ WOULÉ À MORNE COCO\, FORT DE FRANCE
DESCRIPTION:La Ville de Fort de France et Ciné Woulé vous proposent\, chaque mois\, des projections de Film en plein air au Centre-Ville et dans les quartiers ! \nNe manquez pas cette occasion de voir ce film sur grand écran en plein air et de passer une soirée inoubliable avec nous. \nNous vous invitons à venir avec votre coussin et votre couverture pour profiter au mieux de cette soirée cinéma. \n  \n\n\n\n\n\nVille de Fort de France \n \n  \nCiné Woulé Company est une association qui a pour objectif de faire de l’éducation à l’image à travers différents dispositifs. \nCadice Ciné Woulé Company\, 6 rue Jacques Cazotte Bâtiment Tropiques Atrium 1er étage\, salle case-à-vent\, \nFort-de-France\, 0696 21 29 35
URL:https://www.buzzmagmartinique.com/evenement/cine-foyal-break-of-dawn-par-cadice-cine-woule-a-morne-coco-fort-de-france/
CATEGORIES:Art & Culture
ATTACH;FMTTYPE=image/webp:https://www.buzzmagmartinique.com/wp-content/uploads/2024/04/IMG-20260411-WA0021.webp
ORGANIZER;CN="Cadice Cin%C3%A9 Woul%C3%A9":MAILTO:chantal.sacarabany@orange.fr
END:VEVENT
BEGIN:VEVENT
DTSTART;TZID=America/Martinique:20260422T200000
DTEND;TZID=America/Martinique:20260422T200000
DTSTAMP:20260419T172429
CREATED:20250204T205252Z
LAST-MODIFIED:20260126T184626Z
UID:10079841-1776888000-1776888000@www.buzzmagmartinique.com
SUMMARY:SOIRÉE DJ ZOUK KONPA "ZOUK LA SÉ SÈL MÉDIKAMAN NOU NI" AU YUNU ROOFTOP\, FORT DE FRANCE
DESCRIPTION:Soirée zouk et kompa avec un cours d’initiation au zouk et kompa de 20h à 21h. \n  \n\nYunu Rooftop\,  7 rue de la Liberté\, Fort-de-France\, 0696 94 38 66
URL:https://www.buzzmagmartinique.com/evenement/soiree-dj-zouk-konpa-zouk-la-se-sel-medikaman-nou-ni-au-yunu-rooftop-fort-de-france/2026-04-22/
LOCATION:Yunu Rooftop\, 7 rue de la Liberté\, angle rue de la liberté et rue Victor Hugo\, Fort-de-France\, 97270\, Martinique
CATEGORIES:Soirée
ATTACH;FMTTYPE=image/webp:https://www.buzzmagmartinique.com/wp-content/uploads/2025/02/ff633fa4199fbc1606e323e8636a6b98_700_600_landscape_971.webp
END:VEVENT
BEGIN:VEVENT
DTSTART;TZID=Europe/Paris:20260422T200000
DTEND;TZID=Europe/Paris:20260422T230000
DTSTAMP:20260419T172429
CREATED:20260402T181021Z
LAST-MODIFIED:20260402T181126Z
UID:10059062-1776888000-1776898800@www.buzzmagmartinique.com
SUMMARY:BOEUF MUSICAL / JAM SESSION AU KOKOARUM\, LE MARIN
DESCRIPTION:La scène du Kokoarum n’attend plus que vous ! \nQue vous soyez musicien dans l’âme\, chanteur de douche ou simplement fan de pépites musicales improvisées\, rejoignez-nous pour nos célèbres Jam Sessions. \nQuand ? Un mercredi sur deux (semaines impaires) \nOù ? Au Kokoarum \nPrix ? Entrée GRATUITE \nPourquoi venir ? \n·         Pour jouer : Sortez vos instruments et partagez votre talent. On met des instruments à votre dispo. \n·         Pour chanter : Le micro est à vous ! \n·         Pour l’ambiance : Des surprises musicales\, des rencontres et une énergie unique. \nBonne humeur et soirées mémorables garanties. On se voit mercredi ? \n  \n\n\nKokoarum Rhumerie\, Nouvelle Marina\, boulevard Allègre\, Le Marin\, 0596 48 02 21
URL:https://www.buzzmagmartinique.com/evenement/boeuf-musical-jam-session-au-kokoarum-le-marin/
LOCATION:Kokoarum Rhumerie\, Nouvelle Marina\, boulevard Allègre\, Le Marin\, 97290\, Martinique
CATEGORIES:Soirée
ATTACH;FMTTYPE=image/webp:https://www.buzzmagmartinique.com/wp-content/uploads/2025/06/658184837_1558787292914964_6089639328559476527_n.webp
ORGANIZER;CN="Kokoarum Rhumerie":MAILTO:datobreizh97@gmail.com
END:VEVENT
END:VCALENDAR